{"text_format":"1","workbook":"xlsx","n_sheets":10,"sheets":["Intro","Data Entry","Running Calcs","View","Masts","Yards","Standing","Running","Help","Pics"],"not_rendered":{"charts":0,"images":284,"macros":1,"external_links":0,"defined_names":24,"comments":0,"pivot_tables":0},"unopened":[],"bounds":{"document_bytes":16777216,"sheet_cells":100000,"rows_first":2000,"rows_last":500,"rows_between":2000,"halvings":0,"cell_chars":16384,"cell_head_chars":4096},"cells_cut":0,"cells_raw":0,"read":"whole","date_system":"1900"}

{"sheet":"Intro","index":0,"n_rows":62,"n_cols":13,"rows_kept":62,"cut":false,"hidden":false,"merged":[[1,4,1,8],[26,5,26,6],[26,10,26,11],[39,4,39,14],[2,2,2,16],[5,6,5,12],[9,2,21,16],[24,4,24,14]]}
[]
[null,null,null,null,"Caution - This Button will Erase All Previous Data"]
[]
[]
[]
[null,null,null,null,null,null,"English Ships of War 1625 to 1860"]
[]
[]
[]
[null,null,"This Program is designed to enable Period Ship modellers to find the relevant sizes of Masting and Rigging for their models by simply entering a few details about the ship they wish to model.                                                In most cases it will only be necessary to enter the Scale you will be modelling at and the Beam of the Ship, but for some periods of construction it will also be neccessary to enter a few more details.                                Once these dimensions have been entered the program will automatically calculate the Scale sizes of Masts, Yards and Rigging for your model based on the proportions used for the Period when your ship  was either originally built, or last re-fitted prior to the year in which you wish to portray her."]
[]
[]
[]
[]
[]
[]
[]
[]
[]
[]
[]
[]
[]
[]
[null,null,null,null,"To Start Entering your Data press the \"New Build\" Button on top, then Enter the Scale of your Build in the RED box below. If your Original Measurements are in Metric click on the                    GREEN \"Metric Entry?\" box below and select YES with the \"popup\" scroll button.                                                                                Then Select the \"Enter Data\" Button at the top."]
[]
[null,null,null,null,null,"Build Scale = 1:",null,null,null,null,"Metric Entry ?",null,0]
[]
[]
[]
[]
[]
[]
[]
[]
[]
[]
[]
[]
[null,null,null,null,"The proportions used for this spreadsheet are those compiled by James Lees in his book                                                    \"The Masting And Rigging Of English Ships Of War 1625 - 1860\" with minor additions by the author of this program, Danny Vadas."]
[]
[]
[]
[]
[]
[]
[]
[]
[]
[]
[]
[]
[]
[]
[]
[]
[]
[]
[]
[]
[1]
[0]

{"sheet":"Data Entry","index":1,"n_rows":174,"n_cols":206,"rows_kept":174,"cut":false,"hidden":false,"merged":[[6,4,6,10],[2,14,2,20],[3,5,3,8],[1,14,1,20]]}
[]
[null,null,null,null,null,null,null,null,null,null,null,null,null,null,"The Red Cells are Required Information for the Time Period. Enter sizes in Metres (Original). e.g. 7.2                                 Enter the information in the \"Start of Period\" Row that is appropriate for the year your ship was Built or last Re-fitted.   For example : if your ship was built or re-fitted in 1726 Use \"1719\". Use the row for \"Rate\" when applicable.",null,null,null,null,null,null,null,null,null,null,"Mast Lengths   -->",null,"1 foot = x Metres",0.30480000000000002,"1 Metre = 3 feet",39.370078739999997,null,null,null,null,null,null,null,null,null,"Mast Lengths   <-- ","Mast Diameters -->","Inch to 3 Feet in Metres =",{"$f":"0.9144/36","v":2.5399999999999999E-2},{"$f":"1/36","v":2.7777777777777776E-2},null,null,null,null,null,null,null,null,null,null,null,"Mast Diameters     <--","Yard Lengths   -->",null,null,null,null,null,null,null,null,null,null,null,null,null,null,null,null,null,null,null,null,null,{"$f":"26.6404/5","v":5.3280799999999999},null,null,null,"Yard Lengths     <--","Yard Diameters   -->",null,null,"Inch to 3 Feet in Metres =",{"$f":"0.9144/36","v":2.5399999999999999E-2},null,null,null,null,null,null,null,null,null,null,null,null,null,"1inch to 5feet in Metres",1.6666666666600001,null,null,null,null,null,null,"Yard Diameters     <--","Mast Tapers",null,null,"Mast Tapers","Head Lengths",{"$f":"CL2*(($CK$2)*(3/4))","v":0},null,"Inch to 3 Feet in Metres =",1.0936132983,null,{"$f":"0.9144/36","v":2.5399999999999999E-2},null,"Head Lengths",null,null,null,null,null,null,"Hound Lengths","Yard Tapers",null,null,null,null,null,null,null,null,null,null,null,null,null,null,null,null,null,null,null,null,null,null,null,null,null,null,null,"Yard Tapers","Yard Midsection Type","1 = 8 sided","2 = 16 sided","3 = battens","none = round",null,null,null,null,null,null,null,null,"Yard Midsection Type","Yard Midsection Length",null,null,null,null,null,null,null,null,null,null,null,null,null,null,"Yard Midsection Length","Top Widths",null,null,"Top Widths","Top Lengths",null,null,"Top Lengths","Top Hole Width",null,null,"Top Hole Width","Top Hole Length",null,null,"Top Hole Length"]
[null,null,null,null,null,null,null,null,null,null,null,null,null,null,"The Red Cells are Required Information for the Time Period. Enter sizes in DECIMAL Feet (Original). e.g. 7.25 for 7'3\"                         Enter the information in the \"Start of Period\" Row that is appropriate for the year your ship was Built or last Re-fitted.   For example : if your ship was built or re-fitted in 1726 Use \"1719\". Use the row for \"Rate\" when applicable.",null,null,null,null,null,null,null,null,null,"Scale Inch Totals",{"$f":"(Z5*12)/scale","v":{"$error":"#DIV/0!"}},{"$f":"(AA5*12)/scale","v":{"$error":"#DIV/0!"}},{"$error":"#DIV/0!"},{"$error":"#DIV/0!"},{"$error":"#DIV/0!"},{"$error":"#DIV/0!"},{"$error":"#DIV/0!"},{"$error":"#DIV/0!"},{"$error":"#DIV/0!"},{"$error":"#DIV/0!"},{"$error":"#DIV/0!"},{"$error":"#DIV/0!"},{"$error":"#DIV/0!"},{"$error":"#DIV/0!"},{"$error":"#DIV/0!"},{"$error":"#DIV/0!"},{"$error":"#DIV/0!"},{"$error":"#DIV/0!"},{"$error":"#DIV/0!"},{"$error":"#DIV/0!"},{"$error":"#DIV/0!"},{"$error":"#DIV/0!"},{"$error":"#DIV/0!"},{"$error":"#DIV/0!"},{"$error":"#DIV/0!"},{"$error":"#DIV/0!"},{"$error":"#DIV/0!"},{"$error":"#DIV/0!"},{"$error":"#DIV/0!"},{"$error":"#DIV/0!"},{"$error":"#DIV/0!"},{"$error":"#DIV/0!"},{"$error":"#DIV/0!"},{"$error":"#DIV/0!"},{"$error":"#DIV/0!"},{"$error":"#DIV/0!"},{"$error":"#DIV/0!"},{"$error":"#DIV/0!"},{"$error":"#DIV/0!"},{"$error":"#DIV/0!"},{"$error":"#DIV/0!"},{"$error":"#DIV/0!"},{"$error":"#DIV/0!"},{"$error":"#DIV/0!"},{"$error":"#DIV/0!"},{"$error":"#DIV/0!"},{"$error":"#DIV/0!"},{"$error":"#DIV/0!"},{"$error":"#DIV/0!"},{"$error":"#DIV/0!"},{"$error":"#DIV/0!"},{"$error":"#DIV/0!"},{"$error":"#DIV/0!"},{"$error":"#DIV/0!"},{"$error":"#DIV/0!"},{"$error":"#DIV/0!"},{"$error":"#DIV/0!"},{"$error":"#DIV/0!"},{"$error":"#DIV/0!"},{"$error":"#DIV/0!"},{"$error":"#DIV/0!"},{"$error":"#DIV/0!"},{"$error":"#DIV/0!"},{"$error":"#DIV/0!"},{"$error":"#DIV/0!"},{"$f":"(CM5*12)/scale","v":{"$error":"#DIV/0!"}},{"$error":"#DIV/0!"},{"$error":"#DIV/0!"},{"$error":"#DIV/0!"},{"$error":"#DIV/0!"},{"$error":"#DIV/0!"},{"$error":"#DIV/0!"},{"$error":"#DIV/0!"},{"$error":"#DIV/0!"},{"$error":"#DIV/0!"},{"$error":"#DIV/0!"},{"$error":"#DIV/0!"},{"$error":"#DIV/0!"},{"$error":"#DIV/0!"},{"$error":"#DIV/0!"},{"$error":"#DIV/0!"},{"$error":"#DIV/0!"},{"$error":"#DIV/0!"},{"$error":"#DIV/0!"},{"$error":"#DIV/0!"},{"$error":"#DIV/0!"},{"$error":"#DIV/0!"},{"$error":"#DIV/0!"},{"$error":"#DIV/0!"},{"$error":"#DIV/0!"},{"$error":"#DIV/0!"},{"$error":"#DIV/0!"},{"$error":"#DIV/0!"},{"$error":"#DIV/0!"},{"$error":"#DIV/0!"},{"$error":"#DIV/0!"},{"$error":"#DIV/0!"},{"$error":"#DIV/0!"},{"$error":"#DIV/0!"},{"$f":"(DU5*12)/scale","v":{"$error":"#DIV/0!"}},{"$error":"#DIV/0!"},{"$error":"#DIV/0!"},{"$error":"#DIV/0!"},{"$error":"#DIV/0!"},{"$error":"#DIV/0!"},{"$error":"#DIV/0!"},{"$f":"(EB5*12)/scale","v":{"$error":"#DIV/0!"}},{"$error":"#DIV/0!"},{"$error":"#DIV/0!"},{"$error":"#DIV/0!"},{"$error":"#DIV/0!"},{"$error":"#DIV/0!"},{"$error":"#DIV/0!"},{"$error":"#DIV/0!"},{"$error":"#DIV/0!"},{"$error":"#DIV/0!"},{"$error":"#DIV/0!"},{"$error":"#DIV/0!"},{"$error":"#DIV/0!"},{"$f":"(EO5*12)/scale","v":{"$error":"#DIV/0!"}},{"$error":"#DIV/0!"},{"$error":"#DIV/0!"},{"$f":"(ER5*12)/scale","v":{"$error":"#DIV/0!"}},{"$error":"#DIV/0!"},{"$error":"#DIV/0!"},{"$error":"#DIV/0!"},{"$error":"#DIV/0!"},{"$error":"#DIV/0!"},{"$error":"#DIV/0!"},{"$error":"#DIV/0!"},{"$error":"#DIV/0!"},{"$error":"#DIV/0!"},{"$error":"#DIV/0!"},{"$error":"#DIV/0!"},{"$error":"#DIV/0!"},null,null,null,null,null,null,null,null,null,null,null,null,null,null,{"$f":"(FS5*12)/scale","v":{"$error":"#DIV/0!"}},{"$f":"(FT5*12)/scale","v":{"$error":"#DIV/0!"}},{"$f":"(FU5*12)/scale","v":{"$error":"#DIV/0!"}},{"$f":"(FV5*12)/scale","v":{"$error":"#DIV/0!"}},{"$error":"#DIV/0!"},{"$error":"#DIV/0!"},{"$error":"#DIV/0!"},{"$error":"#DIV/0!"},{"$error":"#DIV/0!"},{"$error":"#DIV/0!"},{"$error":"#DIV/0!"},{"$error":"#DIV/0!"},{"$error":"#DIV/0!"},{"$error":"#DIV/0!"},{"$error":"#DIV/0!"},{"$error":"#DIV/0!"},{"$f":"(GI5*12)/scale","v":{"$error":"#DIV/0!"}},{"$error":"#DIV/0!"},{"$error":"#DIV/0!"},{"$error":"#DIV/0!"},{"$error":"#DIV/0!"},{"$error":"#DIV/0!"},{"$error":"#DIV/0!"},{"$error":"#DIV/0!"},{"$error":"#DIV/0!"},{"$error":"#DIV/0!"},{"$error":"#DIV/0!"},{"$error":"#DIV/0!"},{"$error":"#DIV/0!"},{"$error":"#DIV/0!"},{"$error":"#DIV/0!"},{"$error":"#DIV/0!"}]
[null,null,null,null,null,"Data Entry Page",null,null,null,null,null,null,null,null,null,null,null,null,null,null,null,null,"Metric Entry =",{"$f":"Intro!M27","v":0},"Scale mm Totals",{"$f":"(Z7*1000)/scale","v":{"$error":"#DIV/0!"}},{"$f":"(AA7*1000)/scale","v":{"$error":"#DIV/0!"}},{"$error":"#DIV/0!"},{"$error":"#DIV/0!"},{"$error":"#DIV/0!"},{"$error":"#DIV/0!"},{"$error":"#DIV/0!"},{"$error":"#DIV/0!"},{"$error":"#DIV/0!"},{"$error":"#DIV/0!"},{"$error":"#DIV/0!"},{"$error":"#DIV/0!"},{"$error":"#DIV/0!"},{"$error":"#DIV/0!"},{"$error":"#DIV/0!"},{"$error":"#DIV/0!"},{"$error":"#DIV/0!"},{"$error":"#DIV/0!"},{"$error":"#DIV/0!"},{"$error":"#DIV/0!"},{"$error":"#DIV/0!"},{"$error":"#DIV/0!"},{"$error":"#DIV/0!"},{"$error":"#DIV/0!"},{"$error":"#DIV/0!"},{"$error":"#DIV/0!"},{"$error":"#DIV/0!"},{"$error":"#DIV/0!"},{"$error":"#DIV/0!"},{"$error":"#DIV/0!"},{"$error":"#DIV/0!"},{"$error":"#DIV/0!"},{"$error":"#DIV/0!"},{"$error":"#DIV/0!"},{"$error":"#DIV/0!"},{"$error":"#DIV/0!"},{"$error":"#DIV/0!"},{"$error":"#DIV/0!"},{"$error":"#DIV/0!"},{"$error":"#DIV/0!"},{"$error":"#DIV/0!"},{"$error":"#DIV/0!"},{"$error":"#DIV/0!"},{"$error":"#DIV/0!"},{"$error":"#DIV/0!"},{"$error":"#DIV/0!"},{"$error":"#DIV/0!"},{"$error":"#DIV/0!"},{"$error":"#DIV/0!"},{"$error":"#DIV/0!"},{"$error":"#DIV/0!"},{"$error":"#DIV/0!"},{"$error":"#DIV/0!"},{"$error":"#DIV/0!"},{"$error":"#DIV/0!"},{"$error":"#DIV/0!"},{"$error":"#DIV/0!"},{"$error":"#DIV/0!"},{"$error":"#DIV/0!"},{"$error":"#DIV/0!"},{"$error":"#DIV/0!"},{"$error":"#DIV/0!"},{"$error":"#DIV/0!"},{"$error":"#DIV/0!"},{"$error":"#DIV/0!"},{"$f":"(CM7*1000)/scale","v":{"$error":"#DIV/0!"}},{"$error":"#DIV/0!"},{"$error":"#DIV/0!"},{"$error":"#DIV/0!"},{"$error":"#DIV/0!"},{"$error":"#DIV/0!"},{"$error":"#DIV/0!"},{"$error":"#DIV/0!"},{"$error":"#DIV/0!"},{"$error":"#DIV/0!"},{"$error":"#DIV/0!"},{"$error":"#DIV/0!"},{"$error":"#DIV/0!"},{"$error":"#DIV/0!"},{"$error":"#DIV/0!"},{"$error":"#DIV/0!"},{"$error":"#DIV/0!"},{"$error":"#DIV/0!"},{"$error":"#DIV/0!"},{"$error":"#DIV/0!"},{"$error":"#DIV/0!"},{"$error":"#DIV/0!"},{"$error":"#DIV/0!"},{"$error":"#DIV/0!"},{"$error":"#DIV/0!"},{"$error":"#DIV/0!"},{"$error":"#DIV/0!"},{"$error":"#DIV/0!"},{"$error":"#DIV/0!"},{"$error":"#DIV/0!"},{"$error":"#DIV/0!"},{"$error":"#DIV/0!"},{"$error":"#DIV/0!"},{"$error":"#DIV/0!"},{"$f":"(DU7*1000)/scale","v":{"$error":"#DIV/0!"}},{"$error":"#DIV/0!"},{"$error":"#DIV/0!"},{"$error":"#DIV/0!"},{"$error":"#DIV/0!"},{"$error":"#DIV/0!"},{"$error":"#DIV/0!"},{"$f":"(EB7*1000)/scale","v":{"$error":"#DIV/0!"}},{"$error":"#DIV/0!"},{"$error":"#DIV/0!"},{"$error":"#DIV/0!"},{"$error":"#DIV/0!"},{"$error":"#DIV/0!"},{"$error":"#DIV/0!"},{"$error":"#DIV/0!"},{"$error":"#DIV/0!"},{"$error":"#DIV/0!"},{"$error":"#DIV/0!"},{"$error":"#DIV/0!"},{"$error":"#DIV/0!"},{"$f":"(EO7*1000)/scale","v":{"$error":"#DIV/0!"}},{"$error":"#DIV/0!"},{"$error":"#DIV/0!"},{"$f":"(ER7*1000)/scale","v":{"$error":"#DIV/0!"}},{"$error":"#DIV/0!"},{"$error":"#DIV/0!"},{"$error":"#DIV/0!"},{"$error":"#DIV/0!"},{"$error":"#DIV/0!"},{"$error":"#DIV/0!"},{"$error":"#DIV/0!"},{"$error":"#DIV/0!"},{"$error":"#DIV/0!"},{"$error":"#DIV/0!"},{"$error":"#DIV/0!"},{"$error":"#DIV/0!"},{"$f":"IF(FE7=1,\"8 Sided\",IF(FE7=2,\"16 Sided\",IF(FE7=3,\"Battens\",\"Round\")))","v":"Round"},{"$f":"IF(FF7=1,\"8 Sided\",IF(FF7=2,\"16 Sided\",IF(FF7=3,\"Battens\",\"Round\")))","v":"Round"},"Round","Round","Round","Round","Round","Round",{"$f":"IF(FM7=1,\"8 Sided\",IF(FM7=2,\"16 Sided\",IF(FM7=3,\"Battens\",IF(FM7=4,\"Aft 8 - Fwd 16   (15 in total)\",\"Round\"))))","v":"Round"},"Round","Round","Round","Round","Round",{"$f":"(FS7*1000)/scale","v":{"$error":"#DIV/0!"}},{"$f":"IF(FT7>0,(FT7*1000)/scale,(FS7*1000)/scale)","v":{"$error":"#DIV/0!"}},{"$f":"(FU7*1000)/scale","v":{"$error":"#DIV/0!"}},{"$f":"(FV7*1000)/scale","v":{"$error":"#DIV/0!"}},{"$error":"#DIV/0!"},{"$error":"#DIV/0!"},{"$f":"IF(FY7>0,(FY7*1000)/scale,(FX7*1000)/scale)","v":{"$error":"#DIV/0!"}},{"$error":"#DIV/0!"},{"$error":"#DIV/0!"},{"$error":"#DIV/0!"},{"$error":"#DIV/0!"},{"$error":"#DIV/0!"},{"$error":"#DIV/0!"},{"$error":"#DIV/0!"},{"$error":"#DIV/0!"},{"$error":"#DIV/0!"},{"$f":"(GI7*1000)/scale","v":{"$error":"#DIV/0!"}},{"$error":"#DIV/0!"},{"$error":"#DIV/0!"},{"$error":"#DIV/0!"},{"$error":"#DIV/0!"},{"$error":"#DIV/0!"},{"$error":"#DIV/0!"},{"$error":"#DIV/0!"},{"$error":"#DIV/0!"},{"$error":"#DIV/0!"},{"$error":"#DIV/0!"},{"$error":"#DIV/0!"},{"$error":"#DIV/0!"},{"$error":"#DIV/0!"},{"$error":"#DIV/0!"},{"$error":"#DIV/0!"}]
[null,null,null,null,null,null,null,null,null,null,null,null,null,null,null,"Beam","Known Mast to Beam Division",null,null,null,null,null,null,"Inch Entry","Original Foot Totals",{"$f":"(Z7*$AE$2)/12","v":0},{"$f":"(AA7*$AE$2)/12","v":0},0,0,0,0,0,0,0,0,0,0,0,0,0,0,{"$f":"(AP7*$AE$2)/12","v":0},0,0,0,0,0,0,0,0,0,0,0,0,0,0,0,0,0,0,0,0,0,0,0,0,0,0,0,0,0,0,0,0,0,0,0,0,0,0,0,0,0,0,0,0,0,0,0,0,{"$f":"(CM7*$AE$2)/12","v":0},0,0,0,0,0,0,0,0,0,0,0,0,0,0,0,0,0,0,0,0,0,0,0,0,0,0,0,0,0,0,0,0,0,{"$f":"(DU7*$AE$2)/12","v":0},0,0,0,0,0,0,{"$f":"(EB7*$AE$2)/12","v":0},0,0,0,0,0,0,0,0,0,0,0,0,{"$f":"(EO7*$AE$2)/12","v":0},0,0,{"$f":"(ER7*$AE$2)/12","v":0},0,0,0,0,0,0,0,0,0,0,0,0,null,null,null,null,null,null,null,null,null,null,null,null,null,null,{"$f":"(FS7*$AE$2)/12","v":0},{"$f":"IF(FT7>0,(FT7*$AE$2)/12,(FS7*$AE$2)/12)","v":0},{"$f":"(FU7*$AE$2)/12","v":0},{"$f":"(FV7*$AE$2)/12","v":0},0,0,{"$f":"IF(FY7>0,(FY7*$AE$2)/12,(FX7*$AE$2)/12)","v":0},0,0,0,0,0,0,0,0,0,{"$f":"(GI7*$AE$2)/12","v":0},0,0,0,0,0,0,0,0,0,0,0,0,0,0,0]
[]
[null,null,null,null,{"$f":"IF($X$7=0,O2,O3)","v":"The Red Cells are Required Information for the Time Period. Enter sizes in DECIMAL Feet (Original). e.g. 7.25 for 7'3\"                         Enter the information in the \"Start of Period\" Row that is appropriate for the year your ship was Built or last Re-fitted.   For example : if your ship was built or re-fitted in 1726 Use \"1719\". Use the row for \"Rate\" when applicable."},null,null,null,null,null,null,null,null,null,null,null,null,null,null,null,null,null,null,{"$f":"IF(X4=1,0,1)","v":1},"Original Metre Totals",{"$f":"IF($X$4=1,MAX(Z9:Z174),(MAX(Z9:Z174)*$AC$2))","v":0},0,0,0,0,0,0,0,0,0,0,0,0,0,0,0,0,0,0,0,0,0,0,0,0,0,0,0,0,0,0,0,{"$f":"IF($X$4=1,MAX(BF9:BF174),(MAX(BF9:BF174)*$AC$2))","v":0},0,0,0,0,0,0,0,0,0,0,0,0,0,0,0,0,0,0,0,0,0,0,0,0,0,0,0,0,0,0,0,{"$f":"IF($X$4=1,MAX(CL9:CL174),(MAX(CL9:CL174)*$AC$2))","v":0},0,0,0,0,0,0,0,0,0,0,0,0,0,0,0,0,0,0,0,0,0,0,0,0,0,0,0,0,0,0,0,{"$f":"IF($X$4=1,MAX(DR9:DR174),(MAX(DR9:DR174)*$AC$2))","v":0},0,0,0,0,0,0,0,0,0,0,0,0,0,0,0,0,0,0,0,0,0,0,0,0,0,0,0,0,0,0,0,{"$f":"IF($X$4=1,MAX(EX9:EX174),(MAX(EX9:EX174)*$AC$2))","v":0},0,0,0,0,0,0,{"$f":"MAX(FE9:FE174)","v":0},0,0,0,0,0,0,0,0,0,0,0,0,0,{"$f":"IF($X$4=1,MAX(FS9:FS174),(MAX(FS9:FS174)*$AC$2))","v":0},0,0,0,0,0,0,0,0,0,0,0,0,0,0,0,0,0,0,0,0,0,0,0,0,0,0,0,0,0,0,0]
[null,null,null,null,"Start of Period","Rate","Beam","Lower Deck Length","Lower Gun Deck Length","Length of Keel","Depth of Ship",null,null,null,null,{"$f":"MAX(P9:P76)","v":0},null,null,null,null,null,null,null,{"$f":"IF(X4=1,0,1)","v":1},null,"Main Mast","Main Topmast","Main Topgallant","Main Royal Mast","Fore Mast","Fore Topmast","Fore Topgallant","Fore Royal Mast","Mizzen Mast","Mizzen Topmast","Mizzen Topgallant","Mizzen Royal Mast","Bowsprit","Sprit Topmast","Jib Boom","Flying Jib Boom","Main Mast","Main Topmast","Main Topgallant","Main Royal Mast","Fore Mast","Fore Topmast","Fore Topgallant","Fore Royal Mast","Mizzen Mast","Mizzen Topmast","Mizzen Topgallant","Mizzen Royal Mast","Bowsprit","Sprit Topmast","Jib Boom","Flying Jib Boom","Main Yard","Main Topsail Yard","Main Topgallant Yard","Main Royal Yard","Fore Yard","Fore Topsail Yard","Fore Topgallant Yard","Fore Royal Yard","Crossjack","Mizzen Topsail Yard","Mizzen Topgallant Yard","Mizzen Royal Yard","Mizzen Yard","Spanker Gaff","Trysail Gaff","Driver Boom","Driver Yard","Spritsail Yard","Sprit Topsail Yard","Main Lower Stunsail Booms","Main Topsail Stunsail Booms","Fore Lower Stunsail Booms","Fore Topsail Stunsail Booms","Main Lower Stunsail Yards","Main Topsail Stunsail Yards","Fore Lower Stunsail Yards","Fore Topsail Stunsail Yards","Main Yard","Main Topsail Yard","Main Topgallant Yard","Main Royal Yard","Fore Yard","Fore Topsail Yard","Fore Topgallant Yard","Fore Royal Yard","Crossjack","Mizzen Topsail Yard","Mizzen Topgallant Yard","Mizzen Royal Yard","Mizzen Yard","Spanker Gaff","Trysail Gaff","Driver Boom","Driver Yard","Spritsail Yard","Sprit Topsail Yard","Main Lower Stunsail Booms","Main Topsail Stunsail Booms","Fore Lower Stunsail Booms","Fore Topsail Stunsail Booms","Main Lower Stunsail Yards","Main Topsail Stunsail Yards","Fore Lower Stunsail Yards","Fore Topsail Stunsail Yards","Main Mast","Fore Mast","Mizzen Mast","Bowsprit","Main Mast","Main Topmast","Main Topgallant","Fore Mast","Fore Topmast","Fore Topgallant","Mizzen Mast","Mizzen Topmast","Mizzen Topgallant","Main Topmast","Main Topgallant","Fore Topmast","Fore Topgallant","Mizzen Mast","Mizzen Topmast","Mizzen Topgallant","Main Yard","Main Topsail Yard","Main Topgallant Yard","Main Royal Yard","Fore Yard","Fore Topsail Yard","Fore Topgallant Yard","Fore Royal Yard","Crossjack","Mizzen Topsail Yard","Mizzen Topgallant Yard","Mizzen Royal Yard","Mizzen Yard Lower","Mizzen Yard Upper","Spanker Gaff","Trysail Gaff","Driver Boom Inner","Driver Boom Outer","Driver Yard","Spritsail Yard","Sprit Topsail Yard","Main Lower Stunsail Booms","Main Topsail Stunsail Booms","Fore Lower Stunsail Booms","Fore Topsail Stunsail Booms","Main Lower Stunsail Yards","Main Topsail Stunsail Yards","Fore Lower Stunsail Yards","Fore Topsail Stunsail Yards","Main Yard","Main Topsail Yard","Main Topgallant Yard","Main Royal Yard","Fore Yard","Fore Topsail Yard","Fore Topgallant Yard","Fore Royal Yard","Crossjack","Mizzen Topsail Yard","Mizzen Topgallant Yard","Mizzen Royal Yard","Spritsail Yard","Sprit Topsail Yard","Main Yard Fwd","Main Yard Aft","Main Topsail Yard","Main Topgallant Yard","Main Royal Yard","Fore Yard Fwd","Fore Yard Aft","Fore Topsail Yard","Fore Topgallant Yard","Fore Royal Yard","Crossjack","Mizzen Topsail Yard","Mizzen Topgallant Yard","Mizzen Royal Yard","Spritsail Yard","Sprit Topsail Yard","Main Top","Fore Top","Mizzen Top","Sprit Top","Main Top","Fore Top","Mizzen Top","Sprit Top","Main Top","Fore Top","Mizzen Top","Sprit Top","Main Top","Fore Top","Mizzen Top","Sprit Top"]
[null,null,null,null,1627,"1st",null,null,null,null,null,null,null,null,null,{"$f":"IF(G9>0,Q9,0)","v":0},2.4,null,null,null,null,null,null,{"$f":"(G9*Q9)","v":0},{"$f":"IF($X$7=1,0.3048,1)","v":0.30480000000000002},{"$f":"IF($X$7=0,(X9*Y9),X9)","v":0},{"$f":"Z9*0.6","v":0},{"$f":"AA9*0.42","v":0},{"$f":"AB9*0.7","v":0},{"$f":"Z9*0.8","v":0},{"$f":"AD9*0.6","v":0},{"$f":"AE9*0.42","v":0},{"$f":"AF9*0.7","v":0},{"$f":"Z9*0.5","v":0},0,{"$f":"AI9*0.63","v":0},{"$f":"AJ9*0.7","v":0},{"$f":"Z9*0.8","v":0},{"$f":"AE9*0.47","v":0},0,0,{"$f":"Z9*$AR$2","v":0},{"$f":"(AA9*($AR$2*(15/16)))","v":0},{"$f":"(AB9*($AR$2*(15/16)))","v":0},0,{"$f":"AP9","v":0},{"$f":"(AE9*($AR$2*(15/16)))","v":0},{"$f":"(AF9*($AR$2*(15/16)))","v":0},0,{"$f":"AH9*$AR$2","v":0},{"$f":"AI9*$AR$2","v":0},{"$f":"(AJ9*$AR$2)","v":0},0,{"$f":"AP9","v":0},{"$f":"AU9*(15/16)","v":0},0,null,{"$f":"J9*(5/6)","v":0},{"$f":"BF9*(3/7)","v":0},{"$f":"BG9/2","v":0},0,{"$f":"BF9*0.8","v":0},{"$f":"BJ9/2","v":0},0,0,{"$f":"BF9*(16/21)","v":0},{"$f":"BN9/2","v":0},0,0,{"$f":"AH9","v":0},0,0,0,0,{"$f":"BF9*(16/21)","v":0},{"$f":"BW9/2","v":0},0,0,0,0,0,0,0,0,{"$f":"BF9*(($CK$2)*(3/4))","v":0},{"$f":"BG9*(($CK$2)*(5/8))","v":0},{"$f":"BH9*(($CK$2)*(5/8))","v":0},null,{"$f":"BJ9*(($CK$2)*(3/4))","v":0},{"$f":"BK9*(($CK$2)*(5/8))","v":0},{"$f":"BL9*(($CK$2)*(5/8))","v":0},null,{"$f":"BN9*(($CK$2)*(8/13))","v":0},{"$f":"BO9*(($CK$2)*(5/8))","v":0},{"$f":"BP9*(($CK$2)*(3/5))","v":0},null,null,null,null,null,null,{"$f":"BW9*(($CK$2)*(5/8))","v":0},{"$f":"BX9*(($CK$2)*(5/8))","v":0},0,0,0,0,0,0,0,0,{"$f":"AP9*(4/7)","v":0},{"$f":"AT9*(4/7)","v":0},{"$f":"AX9*(4/7)","v":0},{"$f":"BB9*(1/2)","v":0},{"$f":"((Z9*$DP$2)*(3.75*25.4))/1000","v":0},{"$f":"Z9/10","v":0},0,{"$f":"((AD9*$DP$2)*(3.75*25.4))/1000","v":0},{"$f":"AE9/10","v":0},0,{"$f":"((AH9*$DP$2)*(3.75*25.4))/1000","v":0},{"$f":"DQ9","v":0},{"$f":"DQ9","v":0},{"$f":"DM9*(1/2)","v":0},{"$f":"DU9/2","v":0},{"$f":"DP9*(1/2)","v":0},{"$f":"DW9/2","v":0},{"$f":"DR9*(2/3)","v":0},null,null,{"$f":"CG9*(1/3)","v":0},{"$f":"CH9*(1/2)","v":0},{"$f":"CI9*(1/2)","v":0},{"$f":"CJ9*(5/12)","v":0},{"$f":"CK9*(1/3)","v":0},{"$f":"CL9*(1/2)","v":0},{"$f":"CM9*(1/2)","v":0},{"$f":"CN9*(5/12)","v":0},{"$f":"CO9*(1/3)","v":0},{"$f":"CP9*(1/2)","v":0},{"$f":"CQ9*(1/2)","v":0},{"$f":"CR9*(5/12)","v":0},{"$f":"CS9*(1/2)","v":0},{"$f":"CS9*(2/3)","v":0},{"$f":"CT9*(1/2)","v":0},0,{"$f":"CV9*(2/3)","v":0},{"$f":"CV9*(3/4)","v":0},{"$f":"CW9*(1/2)","v":0},0,0,{"$f":"CZ9*(2/3)","v":0},0,0,0,{"$f":"DD9*(1/2)","v":0},0,0,0,null,null,null,null,null,null,null,null,null,null,null,null,null,null,null,null,null,null,null,null,null,null,null,null,null,null,null,null,null,null,{"$f":"AA9*0.28","v":0},{"$f":"AE9*0.29","v":0},{"$f":"AI9*0.27","v":0},{"$f":"AM9*0.4","v":0},null,null,null,null,{"$f":"GI9*0.234","v":0},{"$f":"GJ9*0.234","v":0},{"$f":"GK9*0.29","v":0},{"$f":"GL9*0.257","v":0},{"$f":"GQ9","v":0},{"$f":"GR9","v":0},{"$f":"GS9","v":0},{"$f":"GL9*0.312","v":0}]
[null,null,null,null,null,"2nd",null,null,null,null,null,null,null,null,null,0,2.4,null,null,null,null,null,null,0,0.30480000000000002,0,0,0,0,0,0,0,0,0,0,0,0,0,0,0,0,0,0,0,0,0,0,0,0,0,0,0,0,0,0,0,null,0,0,0,0,0,0,0,0,0,0,0,0,0,0,0,0,0,0,0,0,0,0,0,0,0,0,0,0,0,0,null,0,0,0,null,0,0,0,null,null,null,null,null,null,0,0,0,0,0,0,0,0,0,0,0,0,0,0,0,0,0,0,0,0,0,0,0,0,0,0,0,0,null,null,0,0,0,0,0,0,0,0,0,0,0,0,0,0,0,0,0,0,0,0,0,0,0,0,0,0,0,0,0,null,null,null,null,null,null,null,null,null,null,null,null,null,null,null,null,null,null,null,null,null,null,null,null,null,null,null,null,null,null,0,0,0,0,null,null,null,null,0,0,0,0,0,0,0,0]
[null,null,null,null,null,"3rd",null,null,null,null,null,null,null,null,null,0,2.4,null,null,null,null,null,null,0,0.30480000000000002,0,0,0,0,0,0,0,0,0,0,0,0,0,0,0,0,0,0,0,0,0,0,0,0,0,0,0,0,0,0,0,null,0,0,0,0,0,0,0,0,0,0,0,0,0,0,0,0,0,0,0,0,0,0,0,0,0,0,0,0,0,0,null,0,0,0,null,0,0,0,null,null,null,null,null,null,0,0,0,0,0,0,0,0,0,0,0,0,0,0,0,0,0,0,0,0,0,0,0,0,0,0,0,0,null,null,0,0,0,0,0,0,0,0,0,0,0,0,0,0,0,0,0,0,0,0,0,0,0,0,0,0,0,0,0,null,null,null,null,null,null,null,null,null,null,null,null,null,null,null,null,null,null,null,null,null,null,null,null,null,null,null,null,null,null,0,0,0,0,null,null,null,null,0,0,0,0,0,0,0,0]
[null,null,null,null,null,"4th",null,null,null,null,null,null,null,null,null,0,2.4,null,null,null,null,null,null,0,0.30480000000000002,0,0,0,0,0,0,0,0,0,0,0,0,0,0,0,0,0,0,0,0,0,0,0,0,0,0,0,0,0,0,0,null,0,0,0,0,0,0,0,0,0,0,0,0,0,0,0,0,0,0,0,0,0,0,0,0,0,0,0,0,0,0,null,0,0,0,null,0,0,0,null,null,null,null,null,null,0,0,0,0,0,0,0,0,0,0,0,0,0,0,0,0,0,0,0,0,0,0,0,0,0,0,0,0,null,null,0,0,0,0,0,0,0,0,0,0,0,0,0,0,0,0,0,0,0,0,0,0,0,0,0,0,0,0,0,null,null,null,null,null,null,null,null,null,null,null,null,null,null,null,null,null,null,null,null,null,null,null,null,null,null,null,null,null,null,0,0,0,0,null,null,null,null,0,0,0,0,0,0,0,0]
[null,null,null,null,null,"5th",null,null,null,null,null,null,null,null,null,0,2.4,null,null,null,null,null,null,0,0.30480000000000002,0,0,0,0,0,0,0,0,0,0,0,0,0,0,0,0,0,0,0,0,0,0,0,0,0,0,0,0,0,0,0,null,0,0,0,0,0,0,0,0,0,0,0,0,0,0,0,0,0,0,0,0,0,0,0,0,0,0,0,0,0,0,null,0,0,0,null,0,0,0,null,null,null,null,null,null,0,0,0,0,0,0,0,0,0,0,0,0,0,0,0,0,0,0,0,0,0,0,0,0,0,0,0,0,null,null,0,0,0,0,0,0,0,0,0,0,0,0,0,0,0,0,0,0,0,0,0,0,0,0,0,0,0,0,0,null,null,null,null,null,null,null,null,null,null,null,null,null,null,null,null,null,null,null,null,null,null,null,null,null,null,null,null,null,null,0,0,0,0,null,null,null,null,0,0,0,0,0,0,0,0]
[null,null,null,null,null,"6th",null,null,null,null,null,null,null,null,null,0,2.4,null,null,null,null,null,null,0,0.30480000000000002,0,0,0,0,0,0,0,0,0,0,0,0,0,0,0,0,0,0,0,0,0,0,0,0,0,0,0,0,0,0,0,null,0,0,0,0,0,0,0,0,0,0,0,0,0,0,0,0,0,0,0,0,0,0,0,0,0,0,0,0,0,0,null,0,0,0,null,0,0,0,null,null,null,null,null,null,0,0,0,0,0,0,0,0,0,0,0,0,0,0,0,0,0,0,0,0,0,0,0,0,0,0,0,0,null,null,0,0,0,0,0,0,0,0,0,0,0,0,0,0,0,0,0,0,0,0,0,0,0,0,0,0,0,0,0,null,null,null,null,null,null,null,null,null,null,null,null,null,null,null,null,null,null,null,null,null,null,null,null,null,null,null,null,null,null,0,0,0,0,null,null,null,null,0,0,0,0,0,0,0,0]
[null,null,null,null,1640,"1st",null,null,null,null,null,null,null,null,null,0,2.4,null,null,null,null,null,null,0,0.30480000000000002,0,0,0,{"$f":"AB15*0.7","v":0},{"$f":"Z15*0.87","v":0},{"$f":"AD15*0.6","v":0},0,{"$f":"AF15*0.7","v":0},{"$f":"Z15*0.74","v":0},{"$f":"AA15*0.5","v":0},{"$f":"AI15*0.63","v":0},{"$f":"AJ15*0.7","v":0},{"$f":"Z15*0.83","v":0},0,0,0,{"$f":"Z15/36","v":0},0,0,{"$f":"AR15*(2/3)","v":0},0,0,0,{"$f":"AV15*(2/3)","v":0},0,0,0,{"$f":"AZ15*(2/3)","v":0},0,0,0,null,{"$f":"+Z15*0.97","v":0},{"$f":"BF15*(7/15)","v":0},0,{"$f":"BH15/2","v":0},{"$f":"BF15*0.77","v":0},0,0,{"$f":"BL15/2","v":0},{"$f":"BF15*0.466","v":0},0,0,0,{"$f":"BJ15*0.9","v":0},0,0,0,0,{"$f":"BJ15*(2/3)","v":0},{"$f":"BW15/2","v":0},0,0,0,0,0,0,0,0,0,0,0,{"$f":"CH15/2","v":0},0,0,0,{"$f":"CL15/2","v":0},0,0,0,0,{"$f":"BR15*(($CK$2)*(1/2))","v":0},0,0,0,0,0,0,0,0,0,0,0,0,0,0,0,0,0,0,0,{"$f":"Z15/10","v":0},{"$f":"AA15/10","v":0},0,{"$f":"AE15/10","v":0},{"$f":"AF15/10","v":0},0,{"$f":"DQ15","v":0},{"$f":"DQ15","v":0},0,{"$f":"DU15/2","v":0},0,{"$f":"DW15/2","v":0},0,null,null,0,0,0,{"$f":"CJ15*(5/12)","v":0},0,0,0,{"$f":"CN15*(5/12)","v":0},0,0,0,{"$f":"CR15*(5/12)","v":0},0,0,{"$f":"CT15*(1/2)","v":0},0,{"$f":"CV15*(2/3)","v":0},{"$f":"CV15*(3/4)","v":0},{"$f":"CW15*(1/2)","v":0},{"$f":"CX15*(1/2)","v":0},{"$f":"CY15*(1/2)","v":0},{"$f":"CZ15*(2/3)","v":0},{"$f":"DA15*(2/3)","v":0},{"$f":"DB15*(2/3)","v":0},{"$f":"DC15*(2/3)","v":0},{"$f":"DD15*(1/2)","v":0},{"$f":"DE15*(1/2)","v":0},{"$f":"DF15*(1/2)","v":0},{"$f":"DG15*(1/2)","v":0},null,null,null,{"$f":"IF($G15>0,2,0)","v":0},null,null,null,{"$f":"IF($G15>0,2,0)","v":0},null,null,null,null,null,null,null,null,null,null,null,null,null,null,null,null,null,null,null,null,null,null,0,0,0,0,null,null,null,null,0,0,0,0,0,0,0,0]
[null,null,null,null,null,"2nd",null,null,null,null,null,null,null,null,null,0,2.4,null,null,null,null,null,null,0,0.30480000000000002,0,0,0,0,0,0,0,0,0,0,0,0,0,0,0,0,0,0,0,0,0,0,0,0,0,0,0,0,0,0,0,null,0,0,0,0,0,0,0,0,0,0,0,0,0,0,0,0,0,0,0,0,0,0,0,0,0,0,0,0,0,0,0,0,0,0,0,0,0,0,0,0,0,0,0,0,0,0,0,0,0,0,0,0,0,0,0,0,0,0,0,0,{"$f":"AA16/10","v":0},0,{"$f":"AE16/10","v":0},0,0,{"$f":"DQ16","v":0},{"$f":"DQ16","v":0},0,0,0,0,0,null,null,0,0,0,{"$f":"CJ16*(5/12)","v":0},0,0,0,{"$f":"CN16*(5/12)","v":0},0,0,0,{"$f":"CR16*(5/12)","v":0},0,0,{"$f":"CT16*(1/2)","v":0},0,{"$f":"CV16*(2/3)","v":0},{"$f":"CV16*(3/4)","v":0},{"$f":"CW16*(1/2)","v":0},0,0,{"$f":"CZ16*(2/3)","v":0},0,0,0,{"$f":"DD16*(1/2)","v":0},0,0,0,null,null,null,0,null,null,null,0,null,null,null,null,null,null,null,null,null,null,null,null,null,null,null,null,null,null,null,null,null,null,0,0,0,0,null,null,null,null,0,0,0,0,0,0,0,0]
[null,null,null,null,null,"3rd",null,null,null,null,null,null,null,null,null,0,2.4,null,null,null,null,null,null,0,0.30480000000000002,0,0,0,0,0,0,0,0,0,0,0,0,0,0,0,0,0,0,0,0,0,0,0,0,0,0,0,0,0,0,0,null,0,0,0,0,0,0,0,0,0,0,0,0,0,0,0,0,0,0,0,0,0,0,0,0,0,0,0,0,0,0,0,0,0,0,0,0,0,0,0,0,0,0,0,0,0,0,0,0,0,0,0,0,0,0,0,0,0,0,0,0,{"$f":"AA17/10","v":0},0,0,0,0,{"$f":"DQ17","v":0},{"$f":"DQ17","v":0},0,0,0,0,0,null,null,0,0,0,{"$f":"CJ17*(5/12)","v":0},0,0,0,{"$f":"CN17*(5/12)","v":0},0,0,0,{"$f":"CR17*(5/12)","v":0},0,0,0,0,{"$f":"CV17*(2/3)","v":0},{"$f":"CV17*(3/4)","v":0},0,0,0,0,0,0,0,0,0,0,0,null,null,null,0,null,null,null,0,null,null,null,null,null,null,null,null,null,null,null,null,null,null,null,null,null,null,null,null,null,null,0,0,0,0,null,null,null,null,0,0,0,0,0,0,0,0]
[null,null,null,null,null,"4th",null,null,null,null,null,null,null,null,null,0,2.4,null,null,null,null,null,null,0,0.30480000000000002,0,0,0,0,0,0,0,0,0,0,0,0,0,0,0,0,0,0,0,0,0,0,0,0,0,0,0,0,0,0,0,null,0,0,0,0,0,0,0,0,0,0,0,0,0,0,0,0,0,0,0,0,0,0,0,0,0,0,0,0,0,0,0,0,0,0,0,0,0,0,0,0,0,0,0,0,0,0,0,0,0,0,0,0,0,0,0,0,0,0,0,0,{"$f":"AA18/10","v":0},0,0,0,0,{"$f":"DQ18","v":0},{"$f":"DQ18","v":0},0,0,0,0,0,null,null,0,0,0,{"$f":"CJ18*(5/12)","v":0},0,0,0,{"$f":"CN18*(5/12)","v":0},0,0,0,{"$f":"CR18*(5/12)","v":0},0,0,0,0,{"$f":"CV18*(2/3)","v":0},{"$f":"CV18*(3/4)","v":0},0,0,0,0,0,0,0,0,0,0,0,null,null,null,0,null,null,null,0,null,null,null,null,null,null,null,null,null,null,null,null,null,null,null,null,null,null,null,null,null,null,0,0,0,0,null,null,null,null,0,0,0,0,0,0,0,0]
[null,null,null,null,null,"5th",null,null,null,null,null,null,null,null,null,0,2.4,null,null,null,null,null,null,0,0.30480000000000002,0,0,0,0,0,0,0,0,0,0,0,0,0,0,0,0,0,0,0,0,0,0,0,0,0,0,0,0,0,0,0,null,0,0,0,0,0,0,0,0,0,0,0,0,0,0,0,0,0,0,0,0,0,0,0,0,0,0,0,0,0,0,0,0,0,0,0,0,0,0,0,0,0,0,0,0,0,0,0,0,0,0,0,0,0,0,0,0,0,0,0,0,{"$f":"AA19/10","v":0},0,0,0,0,{"$f":"DQ19","v":0},{"$f":"DQ19","v":0},0,0,0,0,0,null,null,0,0,0,{"$f":"CJ19*(5/12)","v":0},0,0,0,{"$f":"CN19*(5/12)","v":0},0,0,0,{"$f":"CR19*(5/12)","v":0},0,0,0,0,{"$f":"CV19*(2/3)","v":0},{"$f":"CV19*(3/4)","v":0},0,0,0,0,0,0,0,0,0,0,0,null,null,null,0,null,null,null,0,null,null,null,null,null,null,null,null,null,null,null,null,null,null,null,null,null,null,null,null,null,null,0,0,0,0,null,null,null,null,0,0,0,0,0,0,0,0]
[null,null,null,null,null,"6th",null,null,null,null,null,null,null,null,null,0,2.4,null,null,null,null,null,null,0,0.30480000000000002,0,0,0,0,0,0,0,0,0,0,0,0,0,0,0,0,0,0,0,0,0,0,0,0,0,0,0,0,0,0,0,null,0,0,0,0,0,0,0,0,0,0,0,0,0,0,0,0,0,0,0,0,0,0,0,0,0,0,0,0,0,0,0,0,0,0,0,0,0,0,0,0,0,0,0,0,0,0,0,0,0,0,0,0,0,0,0,0,0,0,0,0,{"$f":"AA20/10","v":0},0,0,0,0,{"$f":"DQ20","v":0},{"$f":"DQ20","v":0},0,0,0,0,0,null,null,0,0,0,{"$f":"CJ20*(5/12)","v":0},0,0,0,{"$f":"CN20*(5/12)","v":0},0,0,0,{"$f":"CR20*(5/12)","v":0},0,0,0,0,{"$f":"CV20*(2/3)","v":0},{"$f":"CV20*(3/4)","v":0},0,0,0,0,0,0,0,0,0,0,0,null,null,null,0,null,null,null,0,null,null,null,null,null,null,null,null,null,null,null,null,null,null,null,null,null,null,null,null,null,null,0,0,0,0,null,null,null,null,0,0,0,0,0,0,0,0]
[null,null,null,null,1660,"1st",null,null,null,null,null,null,null,null,null,0,2.4,null,null,null,null,null,null,0,0.30480000000000002,0,0,0,0,0,0,0,0,0,0,0,0,0,0,0,0,0,0,0,0,0,0,0,0,0,0,0,0,0,0,0,null,{"$f":"AD21","v":0},0,0,0,0,0,0,0,{"$f":"AE21","v":0},0,0,0,0,0,0,0,0,0,0,{"$f":"BF21*(5/9)","v":0},{"$f":"BG21/2","v":0},0,0,{"$f":"BY21*(4/7)","v":0},{"$f":"BZ21*(4/7)","v":0},0,0,0,0,0,0,0,0,0,0,0,0,0,0,0,0,0,0,0,0,0,{"$f":"BY21*($CZ$2/100)","v":0},{"$f":"BZ21*($CZ$2/100)","v":0},0,0,{"$f":"CC21*($CZ$2/100)","v":0},{"$f":"CD21*($CZ$2/100)","v":0},0,0,0,0,0,0,0,0,0,0,0,0,0,0,0,0,0,0,0,0,null,null,0,0,0,0,0,0,0,0,0,0,0,0,0,0,0,0,0,0,0,0,0,0,0,0,0,0,0,0,0,null,null,null,{"$f":"IF($G21>0,2,0)","v":0},null,null,null,{"$f":"IF($G21>0,2,0)","v":0},null,null,null,null,null,null,null,null,null,null,null,null,null,null,null,null,null,null,null,null,null,null,0,0,0,0,null,null,null,null,0,0,0,0,0,0,0,0]
[null,null,null,null,null,"2nd",null,null,null,null,null,null,null,null,null,0,2.4,null,null,null,null,null,null,0,0.30480000000000002,0,0,0,0,0,0,0,0,0,0,0,0,0,0,0,0,0,0,0,0,0,0,0,0,0,0,0,0,0,0,0,null,0,0,0,0,0,0,0,0,0,0,0,0,0,0,0,0,0,0,0,0,0,0,0,{"$f":"BY22*(4/7)","v":0},0,0,0,0,0,0,0,0,0,0,0,0,0,0,0,0,0,0,0,0,0,0,{"$f":"BY22*($CZ$2/100)","v":0},0,0,0,{"$f":"CC22*($CZ$2/100)","v":0},0,0,0,0,0,0,0,0,0,{"$f":"AA22/10","v":0},0,{"$f":"AE22/10","v":0},0,0,{"$f":"DQ22","v":0},{"$f":"DQ22","v":0},0,0,0,0,0,null,null,0,0,0,{"$f":"CJ22*(5/12)","v":0},0,0,0,{"$f":"CN22*(5/12)","v":0},0,0,0,{"$f":"CR22*(5/12)","v":0},0,0,{"$f":"CT22*(1/2)","v":0},0,{"$f":"CV22*(2/3)","v":0},{"$f":"CV22*(3/4)","v":0},{"$f":"CW22*(1/2)","v":0},0,0,{"$f":"CZ22*(2/3)","v":0},0,0,0,{"$f":"DD22*(1/2)","v":0},0,0,0,null,null,null,0,null,null,null,0,null,null,null,null,null,null,null,null,null,null,null,null,null,null,null,null,null,null,null,null,null,null,0,0,0,0,null,null,null,null,0,0,0,0,0,0,0,0]
[null,null,null,null,null,"3rd",null,null,null,null,null,null,null,null,null,0,2.4,null,null,null,null,null,null,0,0.30480000000000002,0,0,0,0,0,0,0,0,0,0,0,0,0,0,0,0,0,0,0,0,0,0,0,0,0,0,0,0,0,0,0,null,0,0,0,0,0,0,0,0,0,0,0,0,0,0,0,0,0,0,0,0,0,0,0,0,0,0,0,0,0,0,0,0,0,0,0,0,0,0,0,0,0,0,0,0,0,0,0,0,0,0,0,0,0,0,0,0,0,0,0,0,{"$f":"AA23/10","v":0},0,0,0,0,{"$f":"DQ23","v":0},{"$f":"DQ23","v":0},0,0,0,0,0,null,null,0,0,0,{"$f":"CJ23*(5/12)","v":0},0,0,0,{"$f":"CN23*(5/12)","v":0},0,0,0,{"$f":"CR23*(5/12)","v":0},0,0,0,0,{"$f":"CV23*(2/3)","v":0},{"$f":"CV23*(3/4)","v":0},0,0,0,0,0,0,0,0,0,0,0,null,null,null,0,null,null,null,0,null,null,null,null,null,null,null,null,null,null,null,null,null,null,null,null,null,null,null,null,null,null,0,0,0,0,null,null,null,null,0,0,0,0,0,0,0,0]
[null,null,null,null,null,"4th",null,null,null,null,null,null,null,null,null,0,2.4,null,null,null,null,null,null,0,0.30480000000000002,0,0,0,0,0,0,0,0,0,0,0,0,0,0,0,0,0,0,0,0,0,0,0,0,0,0,0,0,0,0,0,null,0,0,0,0,0,0,0,0,0,0,0,0,0,0,0,0,0,0,0,0,0,0,0,0,0,0,0,0,0,0,0,0,0,0,0,0,0,0,0,0,0,0,0,0,0,0,0,0,0,0,0,0,0,0,0,0,0,0,0,0,{"$f":"AA24/10","v":0},0,0,0,0,{"$f":"DQ24","v":0},{"$f":"DQ24","v":0},0,0,0,0,0,null,null,0,0,0,{"$f":"CJ24*(5/12)","v":0},0,0,0,{"$f":"CN24*(5/12)","v":0},0,0,0,{"$f":"CR24*(5/12)","v":0},0,0,0,0,{"$f":"CV24*(2/3)","v":0},{"$f":"CV24*(3/4)","v":0},0,0,0,0,0,0,0,0,0,0,0,null,null,null,0,null,null,null,0,null,null,null,null,null,null,null,null,null,null,null,null,null,null,null,null,null,null,null,null,null,null,0,0,0,0,null,null,null,null,0,0,0,0,0,0,0,0]
[null,null,null,null,null,"5th",null,null,null,null,null,null,null,null,null,0,2.4,null,null,null,null,null,null,0,0.30480000000000002,0,0,0,0,0,0,0,0,0,0,0,0,0,0,0,0,0,0,0,0,0,0,0,0,0,0,0,0,0,0,0,null,0,0,0,0,0,0,0,0,0,0,0,0,0,0,0,0,0,0,0,0,0,0,0,0,0,0,0,0,0,0,0,0,0,0,0,0,0,0,0,0,0,0,0,0,0,0,0,0,0,0,0,0,0,0,0,0,0,0,0,0,{"$f":"AA25/10","v":0},0,0,0,0,{"$f":"DQ25","v":0},{"$f":"DQ25","v":0},0,0,0,0,0,null,null,0,0,0,{"$f":"CJ25*(5/12)","v":0},0,0,0,{"$f":"CN25*(5/12)","v":0},0,0,0,{"$f":"CR25*(5/12)","v":0},0,0,0,0,{"$f":"CV25*(2/3)","v":0},{"$f":"CV25*(3/4)","v":0},0,0,0,0,0,0,0,0,0,0,0,null,null,null,0,null,null,null,0,null,null,null,null,null,null,null,null,null,null,null,null,null,null,null,null,null,null,null,null,null,null,0,0,0,0,null,null,null,null,0,0,0,0,0,0,0,0]
[null,null,null,null,null,"6th",null,null,null,null,null,null,null,null,null,0,2.4,null,null,null,null,null,null,0,0.30480000000000002,0,0,0,0,0,0,0,0,0,0,0,0,0,0,0,0,0,0,0,0,0,0,0,0,0,0,0,0,0,0,0,null,0,0,0,0,0,0,0,0,0,0,0,0,0,0,0,0,0,0,0,0,0,0,0,0,0,0,0,0,0,0,0,0,0,0,0,0,0,0,0,0,0,0,0,0,0,0,0,0,0,0,0,0,0,0,0,0,0,0,0,0,{"$f":"AA26/10","v":0},0,0,0,0,{"$f":"DQ26","v":0},{"$f":"DQ26","v":0},0,0,0,0,0,null,null,0,0,0,{"$f":"CJ26*(5/12)","v":0},0,0,0,{"$f":"CN26*(5/12)","v":0},0,0,0,{"$f":"CR26*(5/12)","v":0},0,0,0,0,{"$f":"CV26*(2/3)","v":0},{"$f":"CV26*(3/4)","v":0},0,0,0,0,0,0,0,0,0,0,0,null,null,null,0,null,null,null,0,null,null,null,null,null,null,null,null,null,null,null,null,null,null,null,null,null,null,null,null,null,null,0,0,0,0,null,null,null,null,0,0,0,0,0,0,0,0]
[null,null,null,null,1670,"1st",null,null,null,null,null,null,null,null,null,0,null,"Calcs for 1670-1710",{"$f":"(G27+J27+K27)/1.66","v":0},{"$f":"IF($G27>8.2296,($S27-(G27-8.2296)),0)","v":0},{"$f":"IF($G27<8.2296,($S27+(G27-8.2296)),0)","v":-8.2295999999999996},{"$f":"IF(G27=8.2296,S27,0)","v":0},null,{"$f":"IF(G27>0,SUM(T27:V27),0)","v":0},0.30480000000000002,0,0,0,0,{"$f":"Z27*0.9","v":0},0,0,0,{"$f":"Z27*0.67","v":0},0,0,0,{"$f":"Z27*0.66","v":0},{"$f":"AA27*0.33","v":0},0,0,{"$f":"(Z27*($AR$2*(15/16)))","v":0},0,0,0,0,0,0,0,{"$f":"(AH27*($AR$2*(15/16)))","v":0},{"$f":"AI27*$AR$2","v":0},0,0,0,0,0,null,0,0,0,0,{"$f":"BF27*0.9","v":0},0,0,0,0,0,0,0,{"$f":"BJ27","v":0},0,0,0,0,{"$f":"BJ27","v":0},0,0,0,0,0,{"$f":"BY27*(4/7)","v":0},{"$f":"BZ27*(4/7)","v":0},0,0,0,0,0,0,0,0,0,0,0,0,0,0,0,0,0,0,0,0,0,{"$f":"BY27*($CZ$2/100)","v":0},{"$f":"BZ27*($CZ$2/100)","v":0},0,0,{"$f":"CC27*($CZ$2/100)","v":0},{"$f":"CD27*($CZ$2/100)","v":0},0,0,0,0,0,0,{"$f":"((Z27*$DP$2)*(4.5*25.4))/1000","v":0},0,0,{"$f":"((AD27*$DP$2)*(4.5*25.4))/1000","v":0},0,0,0,0,0,0,0,0,0,0,null,null,0,0,0,0,0,0,0,0,0,0,0,0,0,0,0,0,0,0,0,0,0,0,0,0,0,0,0,0,0,null,null,null,0,null,null,null,0,null,null,null,null,null,null,null,null,null,null,null,null,null,null,null,null,null,null,null,null,null,null,0,0,0,0,null,null,null,null,{"$f":"GI27*0.34","v":0},{"$f":"GJ27*0.34","v":0},{"$f":"GK27*0.304","v":0},{"$f":"GL27*0.25","v":0},0,0,0,{"$f":"GL27*0.307","v":0}]
[null,null,null,null,null,"2nd",null,null,null,null,null,null,null,null,null,0,null,"Calcs for 1670-1710",0,0,-8.2295999999999996,0,null,0,0.30480000000000002,0,0,0,0,0,0,0,0,0,0,0,0,0,0,0,0,0,0,0,0,0,0,0,0,0,0,0,0,0,0,0,null,0,0,0,0,0,0,0,0,0,0,0,0,0,0,0,0,0,0,0,0,0,0,0,{"$f":"BY28*(4/7)","v":0},0,0,0,0,0,0,0,0,0,0,0,0,0,0,0,0,0,0,0,0,0,0,{"$f":"BY28*($CZ$2/100)","v":0},0,0,0,{"$f":"CC28*($CZ$2/100)","v":0},0,0,0,0,0,0,0,0,0,{"$f":"AA28/10","v":0},0,{"$f":"AE28/10","v":0},0,0,{"$f":"DQ28","v":0},{"$f":"DQ28","v":0},0,0,0,0,0,null,null,0,0,0,{"$f":"CJ28*(5/12)","v":0},0,0,0,{"$f":"CN28*(5/12)","v":0},0,0,0,{"$f":"CR28*(5/12)","v":0},0,0,{"$f":"CT28*(1/2)","v":0},0,{"$f":"CV28*(2/3)","v":0},{"$f":"CV28*(3/4)","v":0},{"$f":"CW28*(1/2)","v":0},0,0,{"$f":"CZ28*(2/3)","v":0},0,0,0,{"$f":"DD28*(1/2)","v":0},0,0,0,null,null,null,0,null,null,null,0,null,null,null,null,null,null,null,null,null,null,null,null,null,null,null,null,null,null,null,null,null,null,0,0,0,0,null,null,null,null,0,0,0,0,0,0,0,0]
[null,null,null,null,null,"3rd",null,null,null,null,null,null,null,null,null,0,null,"Calcs for 1670-1710",0,0,-8.2295999999999996,0,null,0,0.30480000000000002,0,0,0,0,0,0,0,0,0,0,0,0,0,0,0,0,0,0,0,0,0,0,0,0,0,0,0,0,0,0,0,null,0,0,0,0,0,{"$f":"BJ29/2","v":0},0,0,0,{"$f":"BN29/2","v":0},0,0,0,0,0,0,0,0,0,0,0,0,0,0,0,0,0,0,0,0,0,0,0,0,0,0,0,0,0,0,0,0,0,0,0,0,0,0,0,0,0,0,0,0,0,0,0,0,0,0,{"$f":"AA29/10","v":0},0,0,0,0,{"$f":"DQ29","v":0},{"$f":"DQ29","v":0},0,0,0,0,0,null,null,0,0,0,{"$f":"CJ29*(5/12)","v":0},0,0,0,{"$f":"CN29*(5/12)","v":0},0,0,0,{"$f":"CR29*(5/12)","v":0},0,0,0,0,{"$f":"CV29*(2/3)","v":0},{"$f":"CV29*(3/4)","v":0},0,0,0,0,0,0,0,0,0,0,0,null,null,null,0,null,null,null,0,null,null,null,null,null,null,null,null,null,null,null,null,null,null,null,null,null,null,null,null,null,null,0,0,0,0,null,null,null,null,0,0,0,0,0,0,0,0]
[null,null,null,null,null,"4th",null,null,null,null,null,null,null,null,null,0,null,"Calcs for 1670-1710",0,0,-8.2295999999999996,0,null,0,0.30480000000000002,0,0,0,0,0,0,0,0,0,0,0,0,0,0,0,0,0,0,0,0,0,0,0,0,0,0,0,0,0,0,0,null,0,0,0,0,0,0,0,0,0,0,0,0,0,0,0,0,0,0,0,0,0,0,0,0,0,0,0,0,0,0,0,0,0,0,0,0,0,0,0,0,0,0,0,0,0,0,0,0,0,0,0,0,0,0,0,0,0,0,0,0,{"$f":"AA30/10","v":0},0,0,0,0,{"$f":"DQ30","v":0},{"$f":"DQ30","v":0},0,0,0,0,0,null,null,0,0,0,{"$f":"CJ30*(5/12)","v":0},0,0,0,{"$f":"CN30*(5/12)","v":0},0,0,0,{"$f":"CR30*(5/12)","v":0},0,0,0,0,{"$f":"CV30*(2/3)","v":0},{"$f":"CV30*(3/4)","v":0},0,0,0,0,0,0,0,0,0,0,0,null,null,null,0,null,null,null,0,null,null,null,null,null,null,null,null,null,null,null,null,null,null,null,null,null,null,null,null,null,null,0,0,0,0,null,null,null,null,0,0,0,0,0,0,0,0]
[null,null,null,null,null,"5th",null,null,null,null,null,null,null,null,null,0,null,"Calcs for 1670-1710",0,0,-8.2295999999999996,0,null,0,0.30480000000000002,0,0,0,0,0,0,0,0,0,0,0,0,0,0,0,0,0,0,0,0,0,0,0,0,0,0,0,0,0,0,0,null,0,0,0,0,0,0,0,0,0,0,0,0,0,0,0,0,0,0,0,0,0,0,0,0,0,0,0,0,0,0,0,0,0,0,0,0,0,0,0,0,0,0,0,0,0,0,0,0,0,0,0,0,0,0,0,0,0,0,0,0,{"$f":"AA31/10","v":0},0,0,0,0,{"$f":"DQ31","v":0},{"$f":"DQ31","v":0},0,0,0,0,0,null,null,0,0,0,{"$f":"CJ31*(5/12)","v":0},0,0,0,{"$f":"CN31*(5/12)","v":0},0,0,0,{"$f":"CR31*(5/12)","v":0},0,0,0,0,{"$f":"CV31*(2/3)","v":0},{"$f":"CV31*(3/4)","v":0},0,0,0,0,0,0,0,0,0,0,0,null,null,null,0,null,null,null,0,null,null,null,null,null,null,null,null,null,null,null,null,null,null,null,null,null,null,null,null,null,null,0,0,0,0,null,null,null,null,0,0,0,0,0,0,0,0]
[null,null,null,null,null,"6th",null,null,null,null,null,null,null,null,null,0,null,"Calcs for 1670-1710",0,0,-8.2295999999999996,0,null,0,0.30480000000000002,0,0,0,0,0,0,0,0,0,0,0,0,0,0,0,0,0,0,0,0,0,0,0,0,0,0,0,0,0,0,0,null,0,0,0,0,0,0,0,0,0,0,0,0,0,0,0,0,0,0,0,0,0,0,0,0,0,0,0,0,0,0,0,0,0,0,0,0,0,0,0,0,0,0,0,0,0,0,0,0,0,0,0,0,0,0,0,0,0,0,0,0,{"$f":"AA32/10","v":0},0,0,0,0,{"$f":"DQ32","v":0},{"$f":"DQ32","v":0},0,0,0,0,0,null,null,0,0,0,{"$f":"CJ32*(5/12)","v":0},0,0,0,{"$f":"CN32*(5/12)","v":0},0,0,0,{"$f":"CR32*(5/12)","v":0},0,0,0,0,{"$f":"CV32*(2/3)","v":0},{"$f":"CV32*(3/4)","v":0},0,0,0,0,0,0,0,0,0,0,0,null,null,null,0,null,null,null,0,null,null,null,null,null,null,null,null,null,null,null,null,null,null,null,null,null,null,null,null,null,null,0,0,0,0,null,null,null,null,0,0,0,0,0,0,0,0]
[null,null,null,null,1680,"1st",null,null,null,null,null,null,null,null,null,0,null,"Calcs for 1670-1710",0,0,-8.2295999999999996,0,null,0,0.30480000000000002,0,0,0,0,0,0,0,0,0,0,0,0,0,0,0,0,0,0,0,0,0,0,0,0,0,0,0,0,0,0,0,null,0,{"$f":"BF33/2","v":0},0,0,0,0,0,0,0,0,0,0,0,0,0,0,0,0,0,0,0,0,0,{"$f":"BY33*(4/7)","v":0},{"$f":"BZ33*(4/7)","v":0},0,0,0,0,0,0,0,0,0,0,0,0,0,0,0,0,0,0,0,0,0,{"$f":"BY33*($CZ$2/100)","v":0},{"$f":"BZ33*($CZ$2/100)","v":0},0,0,{"$f":"CC33*($CZ$2/100)","v":0},{"$f":"CD33*($CZ$2/100)","v":0},0,0,0,0,0,0,0,0,0,0,0,0,0,0,0,0,0,0,0,0,null,null,0,0,0,0,0,0,0,0,0,0,0,0,0,0,0,0,0,0,0,0,0,0,0,0,0,0,0,0,0,null,null,null,0,null,null,null,0,null,null,null,null,null,null,null,null,null,null,null,null,null,null,null,null,null,null,null,null,null,null,0,0,0,0,null,null,null,null,0,0,0,0,0,0,0,0]
[null,null,null,null,null,"2nd",null,null,null,null,null,null,null,null,null,0,null,"Calcs for 1670-1710",0,0,-8.2295999999999996,0,null,0,0.30480000000000002,0,0,0,0,0,0,0,0,0,0,0,0,0,0,0,0,0,0,0,0,0,0,0,0,0,0,0,0,0,0,0,null,0,{"$f":"BF34/2","v":0},0,0,0,0,0,0,0,0,0,0,0,0,0,0,0,0,0,0,0,0,0,{"$f":"BY34*(4/7)","v":0},0,0,0,0,0,0,0,0,0,0,0,0,0,0,0,0,0,0,0,0,0,0,{"$f":"BY34*($CZ$2/100)","v":0},0,0,0,{"$f":"CC34*($CZ$2/100)","v":0},0,0,0,0,0,0,0,0,0,{"$f":"AA34/10","v":0},0,{"$f":"AE34/10","v":0},0,0,{"$f":"DQ34","v":0},{"$f":"DQ34","v":0},0,0,0,0,0,null,null,0,0,0,{"$f":"CJ34*(5/12)","v":0},0,0,0,{"$f":"CN34*(5/12)","v":0},0,0,0,{"$f":"CR34*(5/12)","v":0},0,0,{"$f":"CT34*(1/2)","v":0},0,{"$f":"CV34*(2/3)","v":0},{"$f":"CV34*(3/4)","v":0},{"$f":"CW34*(1/2)","v":0},0,0,{"$f":"CZ34*(2/3)","v":0},0,0,0,{"$f":"DD34*(1/2)","v":0},0,0,0,null,null,null,0,null,null,null,0,null,null,null,null,null,null,null,null,null,null,null,null,null,null,null,null,null,null,null,null,null,null,0,0,0,0,null,null,null,null,0,0,0,0,0,0,0,0]
[null,null,null,null,null,"3rd",null,null,null,null,null,null,null,null,null,0,null,"Calcs for 1670-1710",0,0,-8.2295999999999996,0,null,0,0.30480000000000002,0,0,0,0,0,0,0,0,0,0,0,0,0,0,0,0,0,0,0,0,0,0,0,0,0,0,0,0,0,0,0,null,0,{"$f":"BF35/2","v":0},0,0,0,0,0,0,0,0,0,0,0,0,0,0,0,0,0,0,0,0,0,0,0,0,0,0,0,0,0,0,0,0,0,0,0,0,0,0,0,0,0,0,0,0,0,0,0,0,0,0,0,0,0,0,0,0,0,0,{"$f":"AA35/10","v":0},0,0,0,0,{"$f":"DQ35","v":0},{"$f":"DQ35","v":0},0,0,0,0,0,null,null,0,0,0,{"$f":"CJ35*(5/12)","v":0},0,0,0,{"$f":"CN35*(5/12)","v":0},0,0,0,{"$f":"CR35*(5/12)","v":0},0,0,0,0,{"$f":"CV35*(2/3)","v":0},{"$f":"CV35*(3/4)","v":0},0,0,0,0,0,0,0,0,0,0,0,null,null,null,0,null,null,null,0,null,null,null,null,null,null,null,null,null,null,null,null,null,null,null,null,null,null,null,null,null,null,0,0,0,0,null,null,null,null,0,0,0,0,0,0,0,0]
[null,null,null,null,null,"4th",null,null,null,null,null,null,null,null,null,0,null,"Calcs for 1670-1710",0,0,-8.2295999999999996,0,null,0,0.30480000000000002,0,0,0,0,0,0,0,0,0,0,0,0,0,0,0,0,0,0,0,0,0,0,0,0,0,0,0,0,0,0,0,null,0,{"$f":"BF36/2","v":0},0,0,0,0,0,0,0,0,0,0,0,0,0,0,0,0,0,0,0,0,0,0,0,0,0,0,0,0,0,0,0,0,0,0,0,0,0,0,0,0,0,0,0,0,0,0,0,0,0,0,0,0,0,0,0,0,0,0,{"$f":"AA36/10","v":0},0,0,0,0,{"$f":"DQ36","v":0},{"$f":"DQ36","v":0},0,0,0,0,0,null,null,0,0,0,{"$f":"CJ36*(5/12)","v":0},0,0,0,{"$f":"CN36*(5/12)","v":0},0,0,0,{"$f":"CR36*(5/12)","v":0},0,0,0,0,{"$f":"CV36*(2/3)","v":0},{"$f":"CV36*(3/4)","v":0},0,0,0,0,0,0,0,0,0,0,0,null,null,null,0,null,null,null,0,null,null,null,null,null,null,null,null,null,null,null,null,null,null,null,null,null,null,null,null,null,null,0,0,0,0,null,null,null,null,0,0,0,0,0,0,0,0]
[null,null,null,null,null,"5th",null,null,null,null,null,null,null,null,null,0,null,"Calcs for 1670-1710",0,0,-8.2295999999999996,0,null,0,0.30480000000000002,0,0,0,0,0,0,0,0,0,0,0,0,0,0,0,0,0,0,0,0,0,0,0,0,0,0,0,0,0,0,0,null,0,{"$f":"BF37/2","v":0},{"$f":"BG37/2","v":0},{"$f":"BH37/2","v":0},0,0,0,0,0,0,0,0,0,0,0,0,0,0,0,0,0,0,0,0,0,0,0,0,0,0,0,0,0,0,0,0,0,0,0,0,0,0,0,0,0,0,0,0,0,0,0,0,0,0,0,0,0,0,0,0,{"$f":"AA37/10","v":0},0,0,0,0,{"$f":"DQ37","v":0},{"$f":"DQ37","v":0},0,0,0,0,0,null,null,0,0,0,{"$f":"CJ37*(5/12)","v":0},0,0,0,{"$f":"CN37*(5/12)","v":0},0,0,0,{"$f":"CR37*(5/12)","v":0},0,0,0,0,{"$f":"CV37*(2/3)","v":0},{"$f":"CV37*(3/4)","v":0},0,0,0,0,0,0,0,0,0,0,0,null,null,null,0,null,null,null,0,null,null,null,null,null,null,null,null,null,null,null,null,null,null,null,null,null,null,null,null,null,null,0,0,0,0,null,null,null,null,0,0,0,0,0,0,0,0]
[null,null,null,null,null,"6th",null,null,null,null,null,null,null,null,null,0,null,"Calcs for 1670-1710",0,0,-8.2295999999999996,0,null,0,0.30480000000000002,0,0,0,0,0,0,0,0,0,0,0,0,0,0,0,0,0,0,0,0,0,0,0,0,0,0,0,0,0,0,0,null,0,{"$f":"BF38/2","v":0},0,0,0,0,0,0,0,0,0,0,0,0,0,0,0,0,0,0,0,0,0,0,0,0,0,0,0,0,0,0,0,0,0,0,0,0,0,0,0,0,0,0,0,0,0,0,0,0,0,0,0,0,0,0,0,0,0,0,{"$f":"AA38/10","v":0},0,0,0,0,{"$f":"DQ38","v":0},{"$f":"DQ38","v":0},0,0,0,0,0,null,null,0,0,0,{"$f":"CJ38*(5/12)","v":0},0,0,0,{"$f":"CN38*(5/12)","v":0},0,0,0,{"$f":"CR38*(5/12)","v":0},0,0,0,0,{"$f":"CV38*(2/3)","v":0},{"$f":"CV38*(3/4)","v":0},0,0,0,0,0,0,0,0,0,0,0,null,null,null,0,null,null,null,0,null,null,null,null,null,null,null,null,null,null,null,null,null,null,null,null,null,null,null,null,null,null,0,0,0,0,null,null,null,null,0,0,0,0,0,0,0,0]
[null,null,null,null,1685,"1st",null,null,null,null,null,null,null,null,null,0,null,"Calcs for 1670-1710",0,0,-8.2295999999999996,0,null,0,0.30480000000000002,0,0,0,0,0,0,0,0,0,0,0,0,0,0,0,0,0,0,0,0,0,0,0,0,0,0,0,0,0,0,0,null,0,0,0,0,0,0,0,0,{"$f":"AA39*(16/19)","v":0},0,0,0,0,0,0,0,0,{"$f":"AE39","v":0},0,0,0,0,0,{"$f":"BY39*(4/7)","v":0},{"$f":"BZ39*(4/7)","v":0},0,0,0,0,0,0,0,0,0,0,0,0,0,0,0,0,0,0,0,0,0,{"$f":"BY39*($CZ$2/100)","v":0},{"$f":"BZ39*($CZ$2/100)","v":0},0,0,{"$f":"CC39*($CZ$2/100)","v":0},{"$f":"CD39*($CZ$2/100)","v":0},0,0,0,0,0,0,0,0,0,0,0,0,0,0,0,0,0,0,0,0,null,null,0,0,0,0,0,0,0,0,0,0,0,0,0,0,0,0,0,0,0,0,0,0,0,0,0,0,0,0,0,null,null,null,0,null,null,null,0,null,null,null,null,null,null,null,null,null,null,null,null,null,null,null,null,null,null,null,null,null,null,0,0,0,0,null,null,null,null,0,0,0,0,0,0,0,0]
[null,null,null,null,null,"2nd",null,null,null,null,null,null,null,null,null,0,null,"Calcs for 1670-1710",0,0,-8.2295999999999996,0,null,0,0.30480000000000002,0,0,0,0,0,0,0,0,0,0,0,0,0,0,0,0,0,0,0,0,0,0,0,0,0,0,0,0,0,0,0,null,0,0,0,0,0,0,0,0,0,0,0,0,0,0,0,0,0,0,0,0,0,0,0,{"$f":"BY40*(4/7)","v":0},0,0,0,0,0,0,0,0,0,0,0,0,0,0,0,0,0,0,0,0,0,0,{"$f":"BY40*($CZ$2/100)","v":0},0,0,0,{"$f":"CC40*($CZ$2/100)","v":0},0,0,0,0,0,0,0,0,0,{"$f":"AA40/10","v":0},0,{"$f":"AE40/10","v":0},0,0,{"$f":"DQ40","v":0},{"$f":"DQ40","v":0},0,0,0,0,0,null,null,0,0,0,{"$f":"CJ40*(5/12)","v":0},0,0,0,{"$f":"CN40*(5/12)","v":0},0,0,0,{"$f":"CR40*(5/12)","v":0},0,0,{"$f":"CT40*(1/2)","v":0},0,{"$f":"CV40*(2/3)","v":0},{"$f":"CV40*(3/4)","v":0},{"$f":"CW40*(1/2)","v":0},0,0,{"$f":"CZ40*(2/3)","v":0},0,0,0,{"$f":"DD40*(1/2)","v":0},0,0,0,null,null,null,0,null,null,null,0,null,null,null,null,null,null,null,null,null,null,null,null,null,null,null,null,null,null,null,null,null,null,0,0,0,0,null,null,null,null,0,0,0,0,0,0,0,0]
[null,null,null,null,null,"3rd",null,null,null,null,null,null,null,null,null,{"$f":"IF(G41>0,Q41,0)","v":0},null,"Calcs for 1670-1710",0,0,-8.2295999999999996,0,null,0,0.30480000000000002,{"$f":"IF($X$7=0,(X41*Y41),X41)","v":0},0,0,0,0,0,0,0,0,0,0,0,0,0,0,0,0,0,0,0,{"$f":"AP41","v":0},0,0,0,0,0,{"$f":"(AJ41*$AR$2)","v":0},0,0,0,0,null,0,0,0,0,0,0,0,0,0,0,0,0,0,0,0,0,0,0,0,0,0,0,0,0,0,0,0,{"$f":"BF41*(($CK$2)*(3/4))","v":0},0,0,0,{"$f":"BJ41*(($CK$2)*(3/4))","v":0},0,0,0,{"$f":"BN41*(($CK$2)*(8/13))","v":0},{"$f":"BO41*(($CK$2)*(5/8))","v":0},{"$f":"BP41*(($CK$2)*(3/5))","v":0},0,0,0,0,0,0,0,0,0,0,0,0,0,0,0,0,0,0,0,0,0,0,{"$f":"AA41/10","v":0},0,0,0,{"$f":"((AH41*$DP$2)*(3.75*25.4))/1000","v":0},{"$f":"DQ41","v":0},{"$f":"DQ41","v":0},0,0,0,0,{"$f":"DR41*(2/3)","v":0},null,null,0,0,0,{"$f":"CJ41*(5/12)","v":0},0,0,0,{"$f":"CN41*(5/12)","v":0},0,0,0,{"$f":"CR41*(5/12)","v":0},{"$f":"CS41*(1/2)","v":0},{"$f":"CS41*(2/3)","v":0},0,0,{"$f":"CV41*(2/3)","v":0},{"$f":"CV41*(3/4)","v":0},0,0,0,0,0,0,0,0,0,0,0,null,null,null,0,null,null,null,0,null,null,null,null,null,null,null,null,null,null,null,null,null,null,null,null,null,null,null,null,null,null,0,0,0,0,null,null,null,null,0,0,0,0,0,0,0,0]
[null,null,null,null,null,"4th",null,null,null,null,null,null,null,null,null,0,null,"Calcs for 1670-1710",0,0,-8.2295999999999996,0,null,0,0.30480000000000002,0,0,0,0,0,0,0,0,0,0,0,0,0,0,0,0,0,0,0,0,0,0,0,0,0,0,0,0,0,0,0,null,0,0,0,0,0,0,0,0,0,0,0,0,0,0,0,0,0,0,0,0,0,0,0,0,0,0,0,0,0,0,0,0,0,0,0,0,0,0,0,0,0,0,0,0,0,0,0,0,0,0,0,0,0,0,0,0,0,0,0,0,{"$f":"AA42/10","v":0},0,0,0,0,{"$f":"DQ42","v":0},{"$f":"DQ42","v":0},0,0,0,0,0,null,null,0,0,0,{"$f":"CJ42*(5/12)","v":0},0,0,0,{"$f":"CN42*(5/12)","v":0},0,0,0,{"$f":"CR42*(5/12)","v":0},0,0,0,0,{"$f":"CV42*(2/3)","v":0},{"$f":"CV42*(3/4)","v":0},0,0,0,0,0,0,0,0,0,0,0,null,null,null,0,null,null,null,0,null,null,null,null,null,null,null,null,null,null,null,null,null,null,null,null,null,null,null,null,null,null,0,0,0,0,null,null,null,null,0,0,0,0,0,0,0,0]
[null,null,null,null,null,"5th",null,null,null,null,null,null,null,null,null,0,null,"Calcs for 1670-1710",0,0,-8.2295999999999996,0,null,0,0.30480000000000002,0,0,0,0,0,0,0,0,0,0,0,0,0,0,0,0,0,0,0,0,0,0,0,0,0,0,0,0,0,0,0,null,0,{"$f":"BF43/2","v":0},{"$f":"BG43/2","v":0},{"$f":"BH43/2","v":0},0,0,0,0,0,0,0,0,0,0,0,0,0,0,0,0,0,0,0,0,0,0,0,0,0,0,0,0,0,0,0,0,0,0,0,0,0,0,0,0,0,0,0,0,0,0,0,0,0,0,0,0,0,0,0,0,{"$f":"AA43/10","v":0},0,0,0,0,{"$f":"DQ43","v":0},{"$f":"DQ43","v":0},0,0,0,0,0,null,null,0,0,0,{"$f":"CJ43*(5/12)","v":0},0,0,0,{"$f":"CN43*(5/12)","v":0},0,0,0,{"$f":"CR43*(5/12)","v":0},0,0,0,0,{"$f":"CV43*(2/3)","v":0},{"$f":"CV43*(3/4)","v":0},0,0,0,0,0,0,0,0,0,0,0,null,null,null,0,null,null,null,0,null,null,null,null,null,null,null,null,null,null,null,null,null,null,null,null,null,null,null,null,null,null,0,0,0,0,null,null,null,null,0,0,0,0,0,0,0,0]
[null,null,null,null,null,"6th",null,null,null,null,null,null,null,null,null,0,null,"Calcs for 1670-1710",0,0,-8.2295999999999996,0,null,0,0.30480000000000002,0,0,0,0,0,0,0,0,0,0,0,0,0,0,0,0,0,0,0,0,0,0,0,0,0,0,0,0,0,0,0,null,0,{"$f":"BF44/2","v":0},0,0,0,0,0,0,0,0,0,0,0,0,0,0,0,0,0,0,0,0,0,0,0,0,0,0,0,0,0,0,0,0,0,0,0,0,0,0,0,0,0,0,0,0,0,0,0,0,0,0,0,0,0,0,0,0,0,0,{"$f":"AA44/10","v":0},0,0,0,0,{"$f":"DQ44","v":0},{"$f":"DQ44","v":0},0,0,0,0,0,null,null,0,0,0,{"$f":"CJ44*(5/12)","v":0},0,0,0,{"$f":"CN44*(5/12)","v":0},0,0,0,{"$f":"CR44*(5/12)","v":0},0,0,0,0,{"$f":"CV44*(2/3)","v":0},{"$f":"CV44*(3/4)","v":0},0,0,0,0,0,0,0,0,0,0,0,null,null,null,0,null,null,null,0,null,null,null,null,null,null,null,null,null,null,null,null,null,null,null,null,null,null,null,null,null,null,0,0,0,0,null,null,null,null,0,0,0,0,0,0,0,0]
[null,null,null,null,1700,"1st",null,null,null,null,null,null,null,null,null,0,null,"Calcs for 1670-1710",0,0,-8.2295999999999996,0,null,0,0.30480000000000002,0,0,0,0,0,0,0,0,0,0,0,0,0,0,0,0,0,0,0,0,0,0,0,0,0,0,0,0,0,0,0,null,0,0,0,0,0,0,0,0,0,0,0,0,0,0,0,0,0,0,0,0,0,0,0,{"$f":"BY45*(4/7)","v":0},{"$f":"BZ45*(4/7)","v":0},0,0,0,0,0,0,0,0,0,0,0,0,0,0,0,0,0,0,0,0,0,{"$f":"BY45*($CZ$2/100)","v":0},{"$f":"BZ45*($CZ$2/100)","v":0},0,0,{"$f":"CC45*($CZ$2/100)","v":0},{"$f":"CD45*($CZ$2/100)","v":0},0,0,0,0,0,0,{"$f":"((Z45*$DP$2)*(4*25.4))/1000","v":0},0,0,{"$f":"((AD45*$DP$2)*(4*25.4))/1000","v":0},0,0,0,0,0,{"$f":"DM45*(2/3)","v":0},0,{"$f":"DP45*(2/3)","v":0},0,0,null,null,0,0,0,0,0,0,0,0,0,0,0,0,0,0,0,0,0,0,0,0,0,0,0,0,0,0,0,0,0,{"$f":"IF($G45>0,1,0)","v":0},{"$f":"IF($G45>0,1,0)","v":0},{"$f":"IF($G45>0,1,0)","v":0},0,{"$f":"IF($G45>0,1,0)","v":0},{"$f":"IF($G45>0,1,0)","v":0},{"$f":"IF($G45>0,1,0)","v":0},0,null,{"$f":"IF($G45>0,1,0)","v":0},{"$f":"IF($G45>0,1,0)","v":0},null,{"$f":"IF($G45>0,1,0)","v":0},{"$f":"IF($G45>0,1,0)","v":0},{"$f":"BF45*0.25","v":0},null,{"$f":"BG45/4","v":0},0,0,{"$f":"BJ45*0.25","v":0},null,{"$f":"BK45/4","v":0},0,0,null,{"$f":"BO45/4","v":0},0,0,{"$f":"BW45/4","v":0},0,{"$f":"AA45*0.33","v":0},{"$f":"AE45*0.33","v":0},{"$f":"AI45*0.3","v":0},{"$f":"AM45*0.3","v":0},{"$f":"GI45*0.785","v":0},0,0,0,{"$f":"GI45*0.446","v":0},{"$f":"GJ45*0.446","v":0},{"$f":"GK45*0.446","v":0},{"$f":"GL45*0.288","v":0},{"$f":"GQ45*0.89","v":0},{"$f":"GR45*0.89","v":0},{"$f":"GS45*0.89","v":0},0]
[null,null,null,null,null,"2nd",null,null,null,null,null,null,null,null,null,0,null,"Calcs for 1670-1710",0,0,-8.2295999999999996,0,null,0,0.30480000000000002,0,0,0,0,0,0,0,0,0,0,0,0,0,0,0,0,0,0,0,0,0,0,0,0,0,0,0,0,0,0,0,null,0,0,0,0,0,0,0,0,0,0,0,0,0,0,0,0,0,0,0,0,0,0,0,{"$f":"BY46*(4/7)","v":0},0,0,0,0,0,0,0,0,0,0,0,0,0,0,0,0,0,0,0,0,0,0,{"$f":"BY46*($CZ$2/100)","v":0},0,0,0,{"$f":"CC46*($CZ$2/100)","v":0},0,0,0,0,0,0,0,0,0,{"$f":"AA46/10","v":0},0,{"$f":"AE46/10","v":0},0,0,{"$f":"DQ46","v":0},{"$f":"DQ46","v":0},{"$f":"DM46*(2/3)","v":0},0,{"$f":"DP46*(2/3)","v":0},0,0,null,null,0,0,0,{"$f":"CJ46*(5/12)","v":0},0,0,0,{"$f":"CN46*(5/12)","v":0},0,0,0,{"$f":"CR46*(5/12)","v":0},0,0,{"$f":"CT46*(1/2)","v":0},0,{"$f":"CV46*(2/3)","v":0},{"$f":"CV46*(3/4)","v":0},{"$f":"CW46*(1/2)","v":0},0,0,{"$f":"CZ46*(2/3)","v":0},0,0,0,{"$f":"DD46*(1/2)","v":0},0,0,0,{"$f":"IF($G46>0,1,0)","v":0},0,0,0,{"$f":"IF($G46>0,1,0)","v":0},0,0,0,null,{"$f":"IF($G46>0,1,0)","v":0},0,null,{"$f":"IF($G46>0,1,0)","v":0},0,0,null,0,0,0,0,null,0,0,0,null,0,0,0,0,0,0,0,0,0,0,0,0,0,0,0,0,0,0,0,0,0]
[null,null,null,null,null,"3rd",null,null,null,null,null,null,null,null,null,0,null,"Calcs for 1670-1710",0,0,-8.2295999999999996,0,null,0,0.30480000000000002,0,0,0,0,0,0,0,0,0,0,0,0,0,0,0,0,0,0,0,0,0,0,0,0,0,0,0,0,0,0,0,null,0,0,0,0,0,0,0,{"$f":"BL47/2","v":0},0,0,0,0,0,0,0,0,0,0,0,0,0,0,0,0,0,0,0,0,0,0,{"$f":"CH47/2","v":0},0,0,0,{"$f":"CL47/2","v":0},0,0,0,0,0,0,0,0,0,0,0,0,0,0,0,0,0,0,0,0,0,0,0,0,{"$f":"Z47/10","v":0},0,0,0,0,0,0,0,0,0,0,0,0,null,null,0,0,0,0,0,0,0,0,0,0,0,0,0,0,0,0,0,0,0,0,0,0,0,0,0,0,0,0,0,0,0,0,0,0,0,0,0,null,0,0,null,0,0,0,null,0,0,0,0,null,0,0,0,null,0,0,0,0,0,0,0,0,0,0,0,0,0,0,0,0,0,0,0,0,0]
[null,null,null,null,null,"4th",null,null,null,null,null,null,null,null,null,0,null,"Calcs for 1670-1710",0,0,-8.2295999999999996,0,null,0,0.30480000000000002,0,0,0,0,0,0,0,0,0,0,0,0,0,0,0,0,0,0,0,0,0,0,0,0,0,0,0,0,0,0,0,null,0,0,0,0,0,0,0,0,0,0,0,0,0,0,0,0,0,0,0,0,0,0,0,0,0,0,0,0,0,0,0,0,0,0,0,0,0,0,0,0,0,0,0,0,0,0,0,0,0,0,0,0,0,0,0,0,0,0,0,0,0,0,0,0,0,0,0,0,0,0,0,0,null,null,0,0,0,0,0,0,0,0,0,0,0,0,0,0,0,0,0,0,0,0,0,0,0,0,0,0,0,0,0,0,0,0,0,0,0,0,0,null,0,0,null,0,0,0,null,0,0,0,0,null,0,0,0,null,0,0,0,0,0,0,0,0,0,0,0,0,0,0,0,0,0,0,0,0,0]
[null,null,null,null,null,"5th",null,null,null,null,null,null,null,null,null,0,null,"Calcs for 1670-1710",0,0,-8.2295999999999996,0,null,0,0.30480000000000002,0,0,0,0,0,0,0,0,0,0,0,0,0,0,0,0,0,0,0,0,0,0,0,0,0,0,0,0,0,0,0,null,0,{"$f":"BF49/2","v":0},0,0,0,{"$f":"BJ49/2","v":0},0,0,0,{"$f":"BN49/2","v":0},0,0,0,0,0,0,0,0,0,0,0,0,0,0,0,0,0,0,0,0,0,0,0,0,0,0,0,0,0,0,0,0,0,0,0,0,0,0,0,0,0,0,0,0,0,0,0,0,0,0,0,0,0,0,0,0,0,0,0,0,0,0,null,null,0,0,0,0,0,0,0,0,0,0,0,0,0,0,0,0,0,0,0,0,0,0,0,0,0,0,0,0,0,0,0,0,0,0,0,0,0,null,0,0,null,0,0,0,null,0,0,0,0,null,0,0,0,null,0,0,0,0,0,0,0,0,0,0,0,0,0,0,0,0,0,0,0,0,0]
[null,null,null,null,null,"6th",null,null,null,null,null,null,null,null,null,0,null,"Calcs for 1670-1710",0,0,-8.2295999999999996,0,null,0,0.30480000000000002,0,0,0,0,0,0,0,0,0,0,0,0,0,0,0,0,0,0,0,0,0,0,0,0,0,0,0,0,0,0,0,null,0,0,0,0,0,0,0,0,0,0,0,0,0,0,0,0,0,0,0,0,0,0,0,0,0,0,0,0,0,0,0,0,0,0,0,0,0,0,0,0,0,0,0,0,0,0,0,0,0,0,0,0,0,0,0,0,0,0,0,0,0,0,0,0,0,0,0,0,0,0,0,0,null,null,0,0,0,0,0,0,0,0,0,0,0,0,0,0,0,0,0,0,0,0,0,0,0,0,0,0,0,0,0,0,0,0,0,0,0,0,0,null,0,0,null,0,0,0,null,0,0,0,0,null,0,0,0,null,0,0,0,0,0,0,0,0,0,0,0,0,0,0,0,0,0,0,0,0,0]
[null,null,null,null,1706,"1st",null,null,null,null,null,null,null,null,null,{"$f":"IF(G51>0,Q51,0)","v":0},null,"Calcs for 1670-1710",{"$f":"(G51+J51+K51)/1.66","v":0},{"$f":"IF($G51>8.2296,($S51-(G51-8.2296)),0)","v":0},{"$f":"IF($G51<8.2296,($S51+(G51-8.2296)),0)","v":-8.2295999999999996},{"$f":"IF(G51=8.2296,S51,0)","v":0},null,{"$f":"IF(G51>0,SUM(T51:V51),0)","v":0},0.30480000000000002,{"$f":"IF($X$7=0,(X51*Y51),X51)","v":0},0,0,0,0,0,0,0,{"$f":"Z51*0.67","v":0},{"$f":"AA51*0.5","v":0},0,0,{"$f":"Z51*0.66","v":0},{"$f":"AA51*0.33","v":0},0,0,0,{"$f":"(AA51*($AR$2*(15/16)))","v":0},{"$f":"(AB51*($AR$2*(15/16)))","v":0},0,{"$f":"AP51","v":0},{"$f":"(AE51*($AR$2*(15/16)))","v":0},{"$f":"(AF51*($AR$2*(15/16)))","v":0},0,{"$f":"(AH51*($AR$2*(15/16)))","v":0},{"$f":"AI51*$AR$2","v":0},{"$f":"(AJ51*$AR$2)","v":0},0,{"$f":"AP51","v":0},{"$f":"AU51*(15/16)","v":0},0,null,{"$f":"AD51","v":0},{"$f":"BF51/2","v":0},0,0,{"$f":"BF51*0.9","v":0},0,0,0,{"$f":"AA51*(16/19)","v":0},0,0,0,{"$f":"BJ51","v":0},0,0,0,0,{"$f":"AE51","v":0},0,0,0,0,0,0,0,0,0,{"$f":"BF51*(($CK$2)*(3/4))","v":0},{"$f":"BG51*(($CK$2)*(5/8))","v":0},{"$f":"BH51*(($CK$2)*(5/8))","v":0},0,{"$f":"BJ51*(($CK$2)*(3/4))","v":0},{"$f":"BK51*(($CK$2)*(5/8))","v":0},{"$f":"BL51*(($CK$2)*(5/8))","v":0},0,{"$f":"BN51*(($CK$2)*(8/13))","v":0},{"$f":"BO51*(($CK$2)*(5/8))","v":0},{"$f":"BP51*(($CK$2)*(3/5))","v":0},0,{"$f":"BR51*(($CK$2)*(1/2))","v":0},0,0,0,0,{"$f":"BW51*(($CK$2)*(5/8))","v":0},{"$f":"BX51*(($CK$2)*(5/8))","v":0},0,0,0,0,0,0,0,0,{"$f":"AP51*(4/7)","v":0},{"$f":"AT51*(4/7)","v":0},{"$f":"AX51*(4/7)","v":0},{"$f":"BB51*(1/2)","v":0},{"$f":"((Z51*$DP$2)*(4*25.4))/1000","v":0},0,0,{"$f":"((AD51*$DP$2)*(4*25.4))/1000","v":0},0,0,{"$f":"((AH51*$DP$2)*(3.75*25.4))/1000","v":0},0,0,0,0,0,0,{"$f":"DR51*(2/3)","v":0},null,null,{"$f":"CG51*(1/3)","v":0},{"$f":"CH51*(1/2)","v":0},{"$f":"CI51*(1/2)","v":0},0,{"$f":"CK51*(1/3)","v":0},{"$f":"CL51*(1/2)","v":0},{"$f":"CM51*(1/2)","v":0},0,{"$f":"CO51*(1/3)","v":0},{"$f":"CP51*(1/2)","v":0},{"$f":"CQ51*(1/2)","v":0},0,{"$f":"CS51*(1/2)","v":0},{"$f":"CS51*(2/3)","v":0},0,0,0,0,0,0,0,0,0,0,0,0,0,0,0,{"$f":"IF($G51>0,1,0)","v":0},{"$f":"IF($G51>0,1,0)","v":0},{"$f":"IF($G51>0,1,0)","v":0},0,{"$f":"IF($G51>0,1,0)","v":0},{"$f":"IF($G51>0,1,0)","v":0},{"$f":"IF($G51>0,1,0)","v":0},0,null,{"$f":"IF($G51>0,1,0)","v":0},{"$f":"IF($G51>0,1,0)","v":0},null,{"$f":"IF($G51>0,1,0)","v":0},{"$f":"IF($G51>0,1,0)","v":0},{"$f":"BF51*0.25","v":0},null,{"$f":"BG51/4","v":0},{"$f":"BH51/4","v":0},{"$f":"BI51/4","v":0},{"$f":"BJ51*0.25","v":0},null,{"$f":"BK51/4","v":0},{"$f":"BL51/4","v":0},{"$f":"BM51/4","v":0},null,{"$f":"BO51/4","v":0},{"$f":"BP51/4","v":0},{"$f":"BQ51/4","v":0},{"$f":"BW51/4","v":0},{"$f":"BX51/4","v":0},{"$f":"AA51*0.33","v":0},{"$f":"AE51*0.33","v":0},{"$f":"AI51*0.3","v":0},{"$f":"AM51*0.3","v":0},{"$f":"GI51*0.785","v":0},{"$f":"GJ51*0.785","v":0},{"$f":"GK51*0.785","v":0},{"$f":"GL51*0.785","v":0},{"$f":"GI51*0.446","v":0},{"$f":"GJ51*0.446","v":0},{"$f":"GK51*0.446","v":0},{"$f":"GL51*0.288","v":0},{"$f":"GQ51*0.89","v":0},{"$f":"GR51*0.89","v":0},{"$f":"GS51*0.89","v":0},{"$f":"GL51*0.307","v":0}]
[null,null,null,null,null,"2nd",null,null,null,null,null,null,null,null,null,0,null,"Calcs for 1670-1710",0,0,-8.2295999999999996,0,null,0,0.30480000000000002,0,0,0,0,0,0,0,0,0,0,0,0,0,0,0,0,0,0,0,0,0,0,0,0,0,0,0,0,0,0,0,null,0,0,0,0,0,0,0,0,0,0,0,0,0,0,0,0,0,0,0,0,0,0,0,{"$f":"BY52*(4/7)","v":0},0,0,0,0,0,0,0,0,0,0,0,0,0,0,0,0,0,0,0,0,0,0,{"$f":"BY52*($CZ$2/100)","v":0},0,0,0,{"$f":"CC52*($CZ$2/100)","v":0},0,0,0,0,0,0,0,0,0,0,0,{"$f":"AE52/10","v":0},0,0,0,0,0,0,0,0,0,null,null,0,0,0,0,0,0,0,0,0,0,0,0,0,0,{"$f":"CT52*(1/2)","v":0},0,0,0,{"$f":"CW52*(1/2)","v":0},0,0,{"$f":"CZ52*(2/3)","v":0},0,0,0,{"$f":"DD52*(1/2)","v":0},0,0,0,0,0,0,0,0,0,0,0,null,0,0,null,0,0,0,null,0,0,0,0,null,0,0,0,null,0,0,0,0,0,0,0,0,0,0,0,0,0,0,0,0,0,0,0,0,0]
[null,null,null,null,null,"3rd",null,null,null,null,null,null,null,null,null,0,null,"Calcs for 1670-1710",0,0,-8.2295999999999996,0,null,0,0.30480000000000002,0,0,0,0,0,0,0,0,0,0,0,0,0,0,0,0,0,0,0,0,0,0,0,0,0,0,0,0,0,0,0,null,0,0,0,0,0,0,0,0,0,0,0,0,0,0,0,0,0,0,0,{"$f":"BF53*(5/9)","v":0},{"$f":"BG53/2","v":0},0,0,0,0,0,0,0,0,0,{"$f":"CH53/2","v":0},0,0,0,{"$f":"CL53/2","v":0},0,0,0,0,0,0,0,0,0,0,0,0,0,0,0,0,0,0,0,0,0,0,0,0,{"$f":"Z53/10","v":0},0,0,0,0,0,0,0,0,0,0,0,0,null,null,0,0,0,0,0,0,0,0,0,0,0,0,0,0,0,0,0,0,0,0,0,0,0,0,0,0,0,0,0,0,0,0,0,0,0,0,0,null,0,0,null,0,0,0,null,0,0,0,0,null,0,0,0,null,0,0,0,0,0,0,0,0,0,0,0,0,0,0,0,0,0,0,0,0,0]
[null,null,null,null,null,"4th",null,null,null,null,null,null,null,null,null,0,null,"Calcs for 1670-1710",0,0,-8.2295999999999996,0,null,0,0.30480000000000002,0,0,0,0,0,0,0,0,0,0,0,0,0,0,0,0,0,0,0,0,0,0,0,0,0,0,0,0,0,0,0,null,0,0,0,0,0,0,0,0,0,0,0,0,0,0,0,0,0,0,0,0,0,0,0,0,0,0,0,0,0,0,{"$f":"CH54/2","v":0},0,0,0,{"$f":"CL54/2","v":0},0,0,0,0,0,0,0,0,0,0,0,0,0,0,0,0,0,0,0,0,0,0,0,0,{"$f":"Z54/10","v":0},0,0,0,0,0,0,0,0,0,0,0,0,null,null,0,0,0,0,0,0,0,0,0,0,0,0,0,0,0,0,0,0,0,0,0,0,0,0,0,0,0,0,0,0,0,0,0,0,0,0,0,null,0,0,null,0,0,0,null,0,0,0,0,null,0,0,0,null,0,0,0,0,0,0,0,0,0,0,0,0,0,0,0,0,0,0,0,0,0]
[null,null,null,null,null,"5th",null,null,null,null,null,null,null,null,null,0,null,"Calcs for 1670-1710",0,0,-8.2295999999999996,0,null,0,0.30480000000000002,0,0,0,0,0,0,0,0,0,0,0,0,0,0,0,0,0,0,0,0,0,0,0,0,0,0,0,0,0,0,0,null,0,0,0,0,0,0,0,0,0,0,0,0,0,0,0,0,0,0,0,0,0,0,0,0,0,0,0,0,0,0,{"$f":"CH55/2","v":0},0,0,0,{"$f":"CL55/2","v":0},0,0,0,0,0,0,0,0,0,0,0,0,0,0,0,0,0,0,0,0,0,0,0,0,{"$f":"Z55/10","v":0},0,0,0,0,0,0,0,0,0,0,0,0,null,null,0,0,0,0,0,0,0,0,0,0,0,0,0,0,0,0,0,0,0,0,0,0,0,0,0,0,0,0,0,0,0,0,0,0,0,0,0,null,0,0,null,0,0,0,null,0,0,0,0,null,0,0,0,null,0,0,0,0,0,0,0,0,0,0,0,0,0,0,0,0,0,0,0,0,0]
[null,null,null,null,null,"6th",null,null,null,null,null,null,null,null,null,0,null,"Calcs for 1670-1710",0,0,-8.2295999999999996,0,null,0,0.30480000000000002,0,0,0,0,0,0,0,0,0,0,0,0,0,0,0,0,0,0,0,0,0,0,0,0,0,0,0,0,0,0,0,null,0,0,0,0,0,0,0,0,0,0,0,0,0,0,0,0,0,0,0,0,0,0,0,0,0,0,0,0,0,0,{"$f":"CH56/2","v":0},0,0,0,{"$f":"CL56/2","v":0},0,0,0,0,0,0,0,0,0,0,0,0,0,0,0,0,0,0,0,0,0,0,0,0,{"$f":"Z56/10","v":0},0,0,0,0,0,0,0,0,0,0,0,0,null,null,0,0,0,0,0,0,0,0,0,0,0,0,0,0,0,0,0,0,0,0,0,0,0,0,0,0,0,0,0,0,0,0,0,0,0,0,0,null,0,0,null,0,0,0,null,0,0,0,0,null,0,0,0,null,0,0,0,0,0,0,0,0,0,0,0,0,0,0,0,0,0,0,0,0,0]
[null,null,null,null,1711,"1st",null,null,null,null,null,null,null,null,null,0,null,null,null,null,null,null,null,{"$f":"IF(G57>0,(G57+I57)/2,0)","v":0},0.30480000000000002,0,0,0,0,0,0,0,0,{"$f":"Z57*0.86","v":0},0,0,0,0,{"$f":"AE57*0.33","v":0},0,0,0,0,0,0,0,0,0,0,{"$f":"(AH57*($AR$2*(2/3)))","v":0},0,0,0,{"$f":"AP57*(9/10)","v":0},0,0,null,{"$f":"Z57*(7/8)","v":0},{"$f":"BF57*(5/9)","v":0},{"$f":"BG57/2","v":0},0,{"$f":"BF57*0.875","v":0},{"$f":"BJ57*(5/9)","v":0},{"$f":"BK57/2","v":0},0,{"$f":"BG57*(105/100)","v":0},{"$f":"BR57*(0.333333333333333)","v":0},{"$f":"BO57/2","v":0},0,0,0,0,0,0,{"$f":"BJ57*(5/7)","v":0},0,0,0,{"$f":"BG57*(5/9)","v":0},{"$f":"BK57/2","v":0},0,0,{"$f":"CA57*(4/7)","v":0},{"$f":"CB57*(4/7)","v":0},0,0,0,0,0,0,0,0,0,0,0,0,0,0,0,0,0,0,0,0,0,{"$f":"CA57*($CZ$2/100)","v":0},{"$f":"CB57*($CZ$2/100)","v":0},0,0,{"$f":"CE57*($CZ$2/100)","v":0},{"$f":"CF57*($CZ$2/100)","v":0},0,0,0,0,0,0,0,0,0,0,0,0,0,0,0,0,0,0,null,null,0,{"$f":"CH57*(3/7)","v":0},0,0,0,{"$f":"CL57*(3/7)","v":0},0,0,0,{"$f":"CP57*(3/7)","v":0},0,0,0,0,0,0,0,0,0,0,0,0,0,0,0,0,0,0,0,{"$f":"IF($G57>0,1,0)","v":0},0,0,0,{"$f":"IF($G57>0,1,0)","v":0},0,{"$f":"IF($G15>0,1,0)","v":0},0,null,{"$f":"IF($G57>0,1,0)","v":0},{"$f":"IF($G15>0,1,0)","v":0},null,{"$f":"IF($G15>0,1,0)","v":0},0,{"$f":"BF57*0.25","v":0},null,{"$f":"BG57/4","v":0},{"$f":"BH57/4","v":0},{"$f":"BI57/4","v":0},{"$f":"BJ57*0.25","v":0},null,{"$f":"BK57/4","v":0},{"$f":"BL57/4","v":0},{"$f":"BM57/4","v":0},null,{"$f":"BO57/4","v":0},{"$f":"BP57/4","v":0},{"$f":"BQ57/4","v":0},{"$f":"BW57/4","v":0},{"$f":"BX57/4","v":0},{"$f":"AA57*0.33","v":0},{"$f":"AE57*0.33","v":0},{"$f":"AI57*0.3","v":0},{"$f":"AM57*0.3","v":0},{"$f":"GI57*0.785","v":0},{"$f":"GJ57*0.785","v":0},{"$f":"GK57*0.785","v":0},{"$f":"GL57*0.785","v":0},0,0,0,0,0,0,0,0]
[null,null,null,null,null,"2nd",null,null,null,null,null,null,null,null,null,0,null,null,null,null,null,null,null,0,0.30480000000000002,0,0,0,0,0,0,0,0,0,0,0,0,0,0,0,0,0,0,0,0,0,0,0,0,0,0,0,0,0,0,0,null,0,0,0,0,{"$f":"BF58*0.875","v":0},0,0,0,0,0,0,0,0,0,0,0,0,0,0,0,0,{"$f":"BG58*(5/9)","v":0},{"$f":"BK58/2","v":0},{"$f":"BY58*(4/7)","v":0},0,0,0,0,0,0,0,0,0,0,0,0,0,0,0,0,0,0,0,0,0,0,{"$f":"BY58*($CZ$2/100)","v":0},0,0,0,0,0,0,0,0,0,0,0,0,0,{"$f":"AA58/10","v":0},0,{"$f":"AE58/10","v":0},0,0,{"$f":"DQ58","v":0},{"$f":"DQ58","v":0},{"$f":"DM58*(2/3)","v":0},0,{"$f":"DP58*(2/3)","v":0},0,0,null,null,0,0,0,{"$f":"CJ58*(5/12)","v":0},0,0,0,{"$f":"CN58*(5/12)","v":0},0,0,0,{"$f":"CR58*(5/12)","v":0},0,0,{"$f":"CT58*(1/2)","v":0},0,{"$f":"CV58*(2/3)","v":0},{"$f":"CV58*(3/4)","v":0},{"$f":"CW58*(1/2)","v":0},0,0,{"$f":"CZ58*(2/3)","v":0},0,0,0,{"$f":"DD58*(1/2)","v":0},0,0,0,0,0,0,0,0,0,0,0,null,0,0,null,0,0,{"$f":"BF58*0.25","v":0},null,{"$f":"BG58/4","v":0},0,0,{"$f":"BJ58*0.25","v":0},null,{"$f":"BK58/4","v":0},0,0,null,{"$f":"BO58/4","v":0},0,0,{"$f":"BW58/4","v":0},0,{"$f":"AA58*0.33","v":0},{"$f":"AE58*0.33","v":0},{"$f":"AI58*0.3","v":0},{"$f":"AM58*0.3","v":0},{"$f":"GI58*0.785","v":0},0,0,0,0,0,0,0,0,0,0,0]
[null,null,null,null,null,"3rd",null,null,null,null,null,null,null,null,null,0,null,null,null,null,null,null,null,0,0.30480000000000002,0,0,0,0,{"$f":"Z59*0.9","v":0},0,0,0,0,0,0,0,0,0,0,0,{"$f":"(Z59*($AR$2*(15/16)))","v":0},0,0,0,0,0,0,0,0,0,0,0,0,0,0,null,0,0,0,0,{"$f":"BF59*0.875","v":0},0,0,0,0,0,0,0,0,0,0,0,0,0,0,0,0,{"$f":"BG59*(5/9)","v":0},{"$f":"BK59/2","v":0},0,0,0,0,0,0,0,0,0,0,0,0,0,0,0,0,0,0,0,0,0,0,0,0,0,0,0,0,0,0,0,0,0,0,0,0,0,{"$f":"AA59/10","v":0},0,0,0,0,{"$f":"DQ59","v":0},{"$f":"DQ59","v":0},{"$f":"DM59*(2/3)","v":0},0,{"$f":"DP59*(2/3)","v":0},0,0,null,null,0,0,0,{"$f":"CJ59*(5/12)","v":0},0,0,0,{"$f":"CN59*(5/12)","v":0},0,0,0,{"$f":"CR59*(5/12)","v":0},0,0,0,0,{"$f":"CV59*(2/3)","v":0},{"$f":"CV59*(3/4)","v":0},0,0,0,0,0,0,0,0,0,0,0,0,0,0,0,0,0,0,0,null,0,0,null,0,0,{"$f":"BF59*0.25","v":0},null,0,0,0,{"$f":"BJ59*0.25","v":0},null,0,0,0,null,0,0,0,0,0,{"$f":"AA59*0.33","v":0},{"$f":"AE59*0.33","v":0},{"$f":"AI59*0.3","v":0},{"$f":"AM59*0.3","v":0},0,0,0,0,0,0,0,0,0,0,0,0]
[null,null,null,null,null,"4th",null,null,null,null,null,null,null,null,null,0,null,null,null,null,null,null,null,0,0.30480000000000002,0,0,0,0,0,0,0,0,0,0,0,0,0,0,0,0,0,0,0,0,0,0,0,0,0,0,0,0,0,0,0,null,0,0,0,0,{"$f":"BF60*0.875","v":0},0,0,0,0,0,0,0,0,0,0,0,0,0,0,0,0,{"$f":"BG60*(5/9)","v":0},{"$f":"BK60/2","v":0},0,0,0,0,0,0,0,0,0,0,0,0,0,0,0,0,0,0,0,0,0,0,0,0,0,0,0,0,0,0,0,0,0,0,0,0,0,{"$f":"AA60/10","v":0},0,0,0,0,{"$f":"DQ60","v":0},{"$f":"DQ60","v":0},{"$f":"DM60*(2/3)","v":0},0,{"$f":"DP60*(2/3)","v":0},0,0,null,null,0,0,0,{"$f":"CJ60*(5/12)","v":0},0,0,0,{"$f":"CN60*(5/12)","v":0},0,0,0,{"$f":"CR60*(5/12)","v":0},0,0,0,0,{"$f":"CV60*(2/3)","v":0},{"$f":"CV60*(3/4)","v":0},0,0,0,0,0,0,0,0,0,0,0,0,0,0,0,0,0,0,0,null,0,0,null,0,0,{"$f":"BF60*0.25","v":0},null,0,0,0,{"$f":"BJ60*0.25","v":0},null,0,0,0,null,0,0,0,0,0,{"$f":"AA60*0.33","v":0},{"$f":"AE60*0.33","v":0},{"$f":"AI60*0.3","v":0},{"$f":"AM60*0.3","v":0},0,0,0,0,0,0,0,0,0,0,0,0]
[null,null,null,null,null,"5th",null,null,null,null,null,null,null,null,null,0,null,null,null,null,null,null,null,0,0.30480000000000002,0,0,0,0,0,0,0,0,0,0,0,0,0,0,0,0,0,0,0,0,0,0,0,0,0,0,0,0,0,0,0,null,0,0,0,0,{"$f":"BF61*0.875","v":0},0,0,0,0,0,0,0,0,0,0,0,0,0,0,0,0,{"$f":"BG61*(5/9)","v":0},{"$f":"BK61/2","v":0},0,0,0,0,0,0,0,0,0,0,0,0,0,0,0,0,0,0,0,0,0,0,0,0,0,0,0,0,0,0,0,0,0,0,0,0,0,{"$f":"AA61/10","v":0},0,0,0,0,{"$f":"DQ61","v":0},{"$f":"DQ61","v":0},{"$f":"DM61*(2/3)","v":0},0,{"$f":"DP61*(2/3)","v":0},0,0,null,null,0,0,0,{"$f":"CJ61*(5/12)","v":0},0,0,0,{"$f":"CN61*(5/12)","v":0},0,0,0,{"$f":"CR61*(5/12)","v":0},0,0,0,0,{"$f":"CV61*(2/3)","v":0},{"$f":"CV61*(3/4)","v":0},0,0,0,0,0,0,0,0,0,0,0,0,0,0,0,0,0,0,0,null,0,0,null,0,0,{"$f":"BF61*0.25","v":0},null,0,0,0,{"$f":"BJ61*0.25","v":0},null,0,0,0,null,0,0,0,0,0,{"$f":"AA61*0.33","v":0},{"$f":"AE61*0.33","v":0},{"$f":"AI61*0.3","v":0},{"$f":"AM61*0.3","v":0},0,0,0,0,0,0,0,0,0,0,0,0]
[null,null,null,null,null,"6th",null,null,null,null,null,null,null,null,null,0,null,null,null,null,null,null,null,0,0.30480000000000002,0,0,0,0,0,0,0,0,0,0,0,0,0,0,0,0,0,0,0,0,0,0,0,0,0,0,0,0,0,0,0,null,0,0,0,0,{"$f":"BF62*0.875","v":0},0,0,0,0,0,0,0,0,0,0,0,0,0,0,0,0,{"$f":"BG62*(5/9)","v":0},{"$f":"BK62/2","v":0},0,0,0,0,0,0,0,0,0,0,0,0,0,0,0,0,0,0,0,0,0,0,0,0,0,0,0,0,0,0,0,0,0,0,0,0,0,{"$f":"AA62/10","v":0},0,0,0,0,{"$f":"DQ62","v":0},{"$f":"DQ62","v":0},{"$f":"DM62*(2/3)","v":0},0,{"$f":"DP62*(2/3)","v":0},0,0,null,null,0,0,0,{"$f":"CJ62*(5/12)","v":0},0,0,0,{"$f":"CN62*(5/12)","v":0},0,0,0,{"$f":"CR62*(5/12)","v":0},0,0,0,0,{"$f":"CV62*(2/3)","v":0},{"$f":"CV62*(3/4)","v":0},0,0,0,0,0,0,0,0,0,0,0,0,0,0,0,0,0,0,0,null,0,0,null,0,0,{"$f":"BF62*0.25","v":0},null,0,0,0,{"$f":"BJ62*0.25","v":0},null,0,0,0,null,0,0,0,0,0,{"$f":"AA62*0.33","v":0},{"$f":"AE62*0.33","v":0},{"$f":"AI62*0.3","v":0},{"$f":"AM62*0.3","v":0},0,0,0,0,0,0,0,0,0,0,0,0]
[null,null,null,null,1719,"1st and 2nd",null,null,null,null,null,null,null,null,null,0,2.2799999999999998,null,null,null,null,null,null,{"$f":"(G63*Q63)","v":0},0.30480000000000002,0,0,{"$f":"AA63*0.49","v":0},0,0,0,{"$f":"AE63*0.49","v":0},0,{"$f":"Z63*0.85","v":0},{"$f":"AA63*0.7","v":0},0,0,{"$f":"Z63*0.6","v":0},{"$f":"AL63*0.375","v":0},{"$f":"IF(G63>0,G63-1.8288,0)","v":0},0,0,{"$f":"(AA63*($AR$2*(9/10)))","v":0},{"$f":"(AB63*$AR$2)","v":0},0,0,{"$f":"(AE63*($AR$2*(15/16)))","v":0},{"$f":"(AF63*$AR$2)","v":0},0,{"$f":"(AH63*($AR$2*(15/22)))","v":0},{"$f":"AI63*($AR$2*(5/6))","v":0},0,0,{"$f":"AL63*(1+(5/9))*$AR$2","v":0},{"$f":"(AM63*Inch_to_Yard)","v":0},{"$f":"AN63*(Inch_to_Yard*(7/8))","v":0},null,{"$f":"Z63*0.571","v":0},{"$f":"BF63*0.72","v":0},0,0,0,{"$f":"BJ63*0.72","v":0},0,0,{"$f":"BK63","v":0},{"$f":"BN63*(3/4)","v":0},0,0,{"$f":"BF63*(5/6)","v":0},0,0,0,0,{"$f":"BK63","v":0},{"$f":"BW63*(2/3)","v":0},0,0,0,0,{"$f":"BY63*(4/7)","v":0},{"$f":"BZ63*(4/7)","v":0},0,0,0,{"$f":"BG63*(($CK$2)*(5/8))","v":0},{"$f":"BH63*(($CK$2)*(3/5))","v":0},0,0,{"$f":"BK63*(($CK$2)*(5/8))","v":0},{"$f":"BL63*(($CK$2)*(3/5))","v":0},0,0,0,0,0,{"$f":"BR63*(($CK$2)*(7/13))","v":0},0,0,0,0,{"$f":"BW63*(($CK$2)*(5/8))","v":0},{"$f":"BX63*(($CK$2)*(3/5))","v":0},{"$f":"BY63*($CZ$2/100)","v":0},{"$f":"BZ63*($CZ$2/100)","v":0},0,0,{"$f":"CC63*($CZ$2/100)","v":0},{"$f":"CD63*($CZ$2/100)","v":0},0,0,{"$f":"AP63*(5/8)","v":0},{"$f":"AT63*(5/8)","v":0},{"$f":"AX63*(5/8)","v":0},{"$f":"BB63*(5/9)","v":0},{"$f":"((Z63*$DP$2)*(5*25.4))/1000","v":0},0,0,{"$f":"((AD63*$DP$2)*(4.75*25.4))/1000","v":0},0,0,0,0,0,0,0,0,0,0,null,null,{"$f":"CG63*(3/7)","v":0},{"$f":"CH63*(3/7)","v":0},0,0,{"$f":"CK63*(3/7)","v":0},{"$f":"CL63*(3/7)","v":0},0,0,{"$f":"CO63*(3/7)","v":0},{"$f":"CP63*(3/7)","v":0},0,0,0,0,0,0,0,0,0,0,0,0,0,0,0,0,0,0,0,0,0,0,0,0,0,0,0,null,0,0,null,0,0,0,null,0,0,0,0,null,0,0,0,null,0,0,0,0,0,0,0,0,0,0,0,0,0,{"$f":"GI63*0.41","v":0},{"$f":"GJ63*0.41","v":0},{"$f":"GK63*0.41","v":0},{"$f":"GL63*0.41","v":0},{"$f":"GQ63*0.895","v":0},{"$f":"GR63*0.895","v":0},{"$f":"GS63*0.895","v":0},0]
[null,null,null,null,null,"3rd of 80 Guns",null,null,null,null,null,null,null,null,null,0,2.2799999999999998,null,null,null,null,null,null,0,0.30480000000000002,0,0,{"$f":"AA64*0.49","v":0},0,0,0,{"$f":"AE64*0.49","v":0},0,0,0,0,0,{"$f":"Z64*0.59","v":0},{"$f":"AL64*0.375","v":0},{"$f":"IF(G64>0,G64-1.8288,0)","v":0},0,0,{"$f":"(AA64*($AR$2*(9/10)))","v":0},0,0,0,0,0,0,{"$f":"(AH64*($AR$2*(15/22)))","v":0},{"$f":"AI64*($AR$2*(5/6))","v":0},0,0,{"$f":"AL64*(1+(5/9))*$AR$2","v":0},0,0,null,0,{"$f":"BF64*0.72","v":0},0,0,0,{"$f":"BJ64*0.72","v":0},0,0,{"$f":"BK64","v":0},{"$f":"BN64*(3/4)","v":0},0,0,{"$f":"BF64*(5/6)","v":0},0,0,0,0,0,{"$f":"BW64*(2/3)","v":0},0,0,0,0,0,0,0,0,0,0,0,0,0,0,0,0,0,0,0,0,{"$f":"BR64*(($CK$2)*(7/13))","v":0},0,0,0,0,0,0,0,0,0,0,0,0,0,0,0,0,0,{"$f":"BB64*(5/9)","v":0},0,0,0,{"$f":"((AD64*$DP$2)*(4.75*25.4))/1000","v":0},0,0,0,0,0,0,0,0,0,0,null,null,{"$f":"CG64*(3/7)","v":0},0,0,0,{"$f":"CK64*(3/7)","v":0},0,0,0,{"$f":"CO64*(3/7)","v":0},0,0,0,0,0,0,0,0,0,0,0,0,0,0,0,0,0,0,0,0,0,0,0,0,0,0,{"$f":"IF($G27>0,1,0)","v":0},0,null,0,{"$f":"IF($G27>0,1,0)","v":0},null,{"$f":"IF($G27>0,1,0)","v":0},{"$f":"IF($G27>0,1,0)","v":0},0,null,0,0,0,0,null,0,0,0,null,0,0,0,0,0,0,0,0,0,0,0,0,0,{"$f":"GI64*0.41","v":0},{"$f":"GJ64*0.41","v":0},{"$f":"GK64*0.41","v":0},{"$f":"GL64*0.41","v":0},{"$f":"GQ64*0.895","v":0},{"$f":"GR64*0.895","v":0},{"$f":"GS64*0.895","v":0},{"$f":"GL64*0.307","v":0}]
[null,null,null,null,null,"3rd of 70 Guns",null,null,null,null,null,null,null,null,null,0,2.3199999999999998,null,null,null,null,null,null,0,0.30480000000000002,0,0,{"$f":"AA65*0.49","v":0},0,0,0,{"$f":"AE65*0.49","v":0},0,0,0,0,0,0,0,0,0,0,0,0,0,0,0,0,0,{"$f":"(AH65*($AR$2*(15/22)))","v":0},0,0,0,{"$f":"AL65*(1+(5/9))*$AR$2","v":0},0,0,null,0,0,0,0,0,0,0,0,0,0,0,0,0,0,0,0,0,0,0,0,0,0,0,0,0,0,0,0,0,0,0,0,0,0,0,0,0,0,0,0,0,0,0,0,0,0,0,0,0,0,0,0,0,0,0,0,0,0,0,0,0,0,0,0,0,0,0,0,0,0,0,0,null,null,0,0,0,0,0,0,0,0,0,0,0,0,0,0,0,0,0,0,0,0,0,0,0,0,0,0,0,0,0,0,0,0,0,0,0,{"$f":"IF($G33>0,1,0)","v":0},0,null,0,{"$f":"IF($G33>0,1,0)","v":0},null,{"$f":"IF($G33>0,1,0)","v":0},{"$f":"IF($G33>0,1,0)","v":0},0,null,0,0,0,0,null,0,0,0,null,0,0,0,0,0,0,0,0,0,0,0,0,0,0,0,0,0,0,0,0,0]
[null,null,null,null,null,"4th of 60 Guns",null,null,null,null,null,null,null,null,null,0,2.34,null,null,null,null,null,null,0,0.30480000000000002,0,0,0,0,0,0,0,0,0,0,0,0,0,0,0,0,0,0,0,0,0,0,0,0,{"$f":"(AH66*($AR$2*(15/22)))","v":0},0,0,0,{"$f":"AL66*(1+(5/9))*$AR$2","v":0},0,0,null,0,0,0,0,0,0,0,0,0,0,0,0,0,0,0,0,0,0,0,0,0,0,0,0,0,0,0,0,0,0,0,0,0,0,0,0,0,0,0,0,0,0,0,0,0,0,0,0,0,0,0,0,0,0,0,0,0,0,0,0,0,0,0,0,0,0,0,0,0,0,0,0,null,null,0,0,0,0,0,0,0,0,0,0,0,0,0,0,0,0,0,0,0,0,0,0,0,0,0,0,0,0,0,0,0,0,0,0,0,{"$f":"IF($G39>0,1,0)","v":0},0,null,0,{"$f":"IF($G39>0,1,0)","v":0},null,{"$f":"IF($G39>0,1,0)","v":0},{"$f":"IF($G39>0,1,0)","v":0},0,null,0,0,0,0,null,0,0,0,null,0,0,0,0,0,0,0,0,0,0,0,0,0,0,0,0,0,0,0,0,0]
[null,null,null,null,null,"4th of 50 Guns",null,null,null,null,null,null,null,null,null,0,2.36,null,null,null,null,null,null,0,0.30480000000000002,0,0,0,0,0,0,0,0,0,0,0,0,0,0,0,0,0,0,0,0,0,0,0,0,{"$f":"(AH67*($AR$2*(2/3)))","v":0},0,0,0,{"$f":"AL67*(1+(3/7))*$AR$2","v":0},0,0,null,0,0,0,0,0,0,0,0,0,0,0,0,0,0,0,0,0,0,0,0,0,0,0,0,0,0,0,0,0,0,0,0,0,0,0,0,0,0,0,0,0,0,0,0,0,0,0,0,0,0,0,0,0,0,0,0,0,0,0,0,0,0,0,0,0,0,0,0,0,0,0,0,null,null,0,0,0,0,0,0,0,0,0,0,0,0,0,0,0,0,0,0,0,0,0,0,0,0,0,0,0,0,0,0,0,0,0,0,0,{"$f":"IF($G45>0,1,0)","v":0},0,null,0,{"$f":"IF($G45>0,1,0)","v":0},null,{"$f":"IF($G45>0,1,0)","v":0},{"$f":"IF($G45>0,1,0)","v":0},0,null,0,0,0,0,null,0,0,0,null,0,0,0,0,0,0,0,0,0,0,0,0,0,0,0,0,0,0,0,0,0]
[null,null,null,null,null,"5th of 40 Guns",null,null,null,null,null,null,null,null,null,0,2.38,null,null,null,null,null,null,0,0.30480000000000002,0,0,0,0,0,0,0,0,0,0,0,0,0,0,0,0,0,0,0,0,0,0,0,0,{"$f":"(AH68*($AR$2*(2/3)))","v":0},0,0,0,{"$f":"AL68*(1+(1/3))*$AR$2","v":0},0,0,null,0,0,0,0,0,0,0,0,0,0,0,0,0,0,0,0,0,0,0,0,0,0,0,0,0,0,0,0,0,0,0,0,0,0,0,0,0,0,0,0,0,0,0,0,0,0,0,0,0,0,0,0,0,0,0,0,0,0,0,0,0,0,0,0,0,0,0,0,0,0,0,0,null,null,0,0,0,0,0,0,0,0,0,0,0,0,0,0,0,0,0,0,0,0,0,0,0,0,0,0,0,0,0,0,0,0,0,0,0,{"$f":"IF($G57>0,1,0)","v":0},0,null,0,{"$f":"IF($G57>0,1,0)","v":0},null,{"$f":"IF($G57>0,1,0)","v":0},{"$f":"IF($G57>0,1,0)","v":0},0,null,0,0,0,0,null,0,0,0,null,0,0,0,0,0,0,0,0,0,0,0,0,0,0,0,0,0,0,0,0,0]
[null,null,null,null,null,"5th - 30 Guns",null,null,null,null,null,null,null,null,null,0,2.4,null,null,null,null,null,null,0,0.30480000000000002,0,0,0,0,0,0,0,0,0,0,0,0,0,0,0,0,0,0,0,0,0,0,0,0,{"$f":"(AH69*($AR$2*(2/3)))","v":0},0,0,0,{"$f":"AL69*(1+(1/3))*$AR$2","v":0},0,0,null,0,0,0,0,0,0,0,0,0,0,0,0,0,0,0,0,0,0,0,0,0,0,0,0,0,0,0,0,0,0,0,0,0,0,0,0,0,0,0,0,0,0,0,0,0,0,0,0,0,0,0,0,0,0,0,0,0,0,0,0,0,0,0,0,0,0,0,0,0,0,0,0,null,null,0,0,0,0,0,0,0,0,0,0,0,0,0,0,0,0,0,0,0,0,0,0,0,0,0,0,0,0,0,0,0,0,0,0,0,{"$f":"IF($G63>0,1,0)","v":0},0,null,0,{"$f":"IF($G63>0,1,0)","v":0},null,{"$f":"IF($G63>0,1,0)","v":0},0,0,null,0,0,0,0,null,0,0,0,null,0,0,0,0,0,0,0,0,0,0,0,0,0,0,0,0,0,0,0,0,0]
[null,null,null,null,null,"6th of 20 Guns",null,null,null,null,null,null,null,null,null,0,2.42,null,null,null,null,null,null,0,0.30480000000000002,0,0,0,0,0,0,0,0,{"$f":"Z70*0.8","v":0},0,0,0,0,0,0,0,0,0,0,0,0,0,0,0,{"$f":"(AH70*($AR$2*(8/13)))","v":0},0,0,0,{"$f":"AL70*(1+(2/9))*$AR$2","v":0},0,0,null,0,0,0,0,0,0,0,0,0,0,0,0,0,0,0,0,0,0,0,0,0,0,0,0,0,0,0,0,0,0,0,0,0,0,0,0,0,0,0,0,0,0,0,0,0,0,0,0,0,0,0,0,0,0,0,0,0,0,0,0,0,0,0,0,0,0,0,0,0,0,0,0,null,null,0,0,0,0,0,0,0,0,0,0,0,0,0,0,0,0,0,0,0,0,0,0,0,0,0,0,0,0,0,0,0,0,0,0,0,0,0,null,0,0,null,0,0,0,null,0,0,0,0,null,0,0,0,null,0,0,0,0,0,0,0,0,0,0,0,0,0,0,0,0,0,0,0,0,0]
[null,null,null,null,1729,"1st and 2nd",null,null,null,null,null,null,null,null,null,0,2.2799999999999998,null,null,null,null,null,null,0,0.30480000000000002,0,0,0,0,0,0,0,0,{"$f":"Z71*0.85","v":0},0,0,0,{"$f":"Z71*0.6","v":0},0,0,0,0,0,0,0,0,0,0,0,{"$f":"(AH71*($AR$2*(15/22)))","v":0},0,0,0,{"$f":"AL71*(1+(5/9))*$AR$2","v":0},0,0,null,0,0,0,0,0,0,0,0,0,0,0,0,0,0,0,{"$f":"BG71","v":0},{"$f":"BL71","v":0},0,0,0,0,0,0,0,0,0,0,0,0,0,0,0,0,0,0,0,0,0,0,0,0,0,{"$f":"BU71*(($CK$2)*(5/8))","v":0},{"$f":"CM71","v":0},0,0,0,0,0,0,0,0,0,0,0,0,0,0,0,0,0,0,0,0,0,0,0,0,0,0,0,0,null,null,0,0,0,0,0,0,0,0,0,0,0,0,0,0,0,0,0,0,0,0,0,0,0,0,0,0,0,0,0,0,0,0,0,0,0,0,0,null,0,0,null,0,0,0,null,0,0,0,0,null,0,0,0,null,0,0,0,0,0,0,0,0,0,0,0,0,0,0,0,0,0,0,0,0,0]
[null,null,null,null,null,"3rd of 80 Guns",null,null,null,null,null,null,null,null,null,0,2.2799999999999998,null,null,null,null,null,null,0,0.30480000000000002,0,0,0,0,0,0,0,0,0,0,0,0,{"$f":"Z72*0.59","v":0},0,0,0,0,0,0,0,0,0,0,0,{"$f":"(AH72*($AR$2*(15/22)))","v":0},0,0,0,{"$f":"AL72*(1+(5/9))*$AR$2","v":0},0,0,null,0,0,0,0,0,0,0,0,0,0,{"$f":"BO72/2","v":0},0,0,0,0,0,0,0,0,0,0,0,0,0,0,0,0,0,0,0,0,0,0,0,0,0,0,0,0,0,0,0,0,0,0,0,0,0,0,0,0,0,0,0,0,0,0,0,0,0,0,0,0,0,0,0,0,0,0,0,0,0,null,null,0,0,0,0,0,0,0,0,0,0,0,0,0,0,0,0,0,0,0,0,0,0,0,0,0,0,0,0,0,0,0,0,0,0,0,0,0,null,0,0,null,0,0,0,null,0,0,0,0,null,0,0,0,null,0,0,0,0,0,0,0,0,0,0,0,0,0,0,0,0,0,0,0,0,0]
[null,null,null,null,null,"3rd of 70 Guns",null,null,null,null,null,null,null,null,null,0,2.3199999999999998,null,null,null,null,null,null,0,0.30480000000000002,0,0,0,0,0,0,0,0,0,0,0,0,0,0,0,0,0,0,0,0,0,0,0,0,{"$f":"(AH73*($AR$2*(15/22)))","v":0},0,0,0,{"$f":"AL73*(1+(5/9))*$AR$2","v":0},0,0,null,0,0,0,0,0,0,{"$f":"BK73/2","v":0},0,0,0,0,0,0,0,0,0,0,0,0,0,0,0,0,0,0,0,0,0,0,0,0,0,0,0,0,0,0,0,0,0,0,0,0,0,0,0,0,0,0,0,0,0,0,0,0,0,0,0,0,0,0,0,0,0,0,0,0,0,0,0,0,0,null,null,0,0,0,0,0,0,0,0,0,0,0,0,0,0,0,0,0,0,0,0,0,0,0,0,0,0,0,0,0,0,0,0,0,0,0,0,0,null,0,0,null,0,0,0,null,0,0,0,0,null,0,0,0,null,0,0,0,0,0,0,0,0,0,0,0,0,0,0,0,0,0,0,0,0,0]
[null,null,null,null,null,"4th of 60 Guns",null,null,null,null,null,null,null,null,null,0,2.34,null,null,null,null,null,null,0,0.30480000000000002,0,0,0,0,0,0,0,0,0,0,0,0,0,0,0,0,0,0,0,0,0,0,0,0,{"$f":"(AH74*($AR$2*(15/22)))","v":0},0,0,0,{"$f":"AL74*(1+(5/9))*$AR$2","v":0},0,0,null,0,0,0,0,0,0,0,0,0,0,0,0,0,0,0,0,0,0,0,0,0,0,0,0,0,0,0,0,0,0,0,0,0,0,0,0,0,0,0,0,0,0,0,0,0,0,0,0,0,0,0,0,0,0,0,0,0,0,0,0,0,0,0,0,0,0,0,0,0,0,0,0,null,null,0,0,0,0,0,0,0,0,0,0,0,0,0,0,0,0,0,0,0,0,0,0,0,0,0,0,0,0,0,0,0,0,0,0,0,0,0,null,0,0,null,0,0,0,null,0,0,0,0,null,0,0,0,null,0,0,0,0,0,0,0,0,0,0,0,0,0,0,0,0,0,0,0,0,0]
[null,null,null,null,null,"4th of 50 Guns",null,null,null,null,null,null,null,null,null,0,2.36,null,null,null,null,null,null,0,0.30480000000000002,0,0,0,0,0,0,0,0,0,0,0,0,0,0,0,0,0,0,0,0,0,0,0,0,{"$f":"(AH75*($AR$2*(2/3)))","v":0},0,0,0,{"$f":"AL75*(1+(3/7))*$AR$2","v":0},0,0,null,0,0,0,0,0,0,0,0,0,0,0,0,0,0,0,0,0,0,0,0,0,0,0,0,0,0,0,0,0,0,0,0,0,0,0,0,0,0,0,0,0,0,0,0,0,0,0,0,0,0,0,0,0,0,0,0,0,0,0,0,0,0,0,0,0,0,0,0,0,0,0,0,null,null,0,0,0,0,0,0,0,0,0,0,0,0,0,0,0,0,0,0,0,0,0,0,0,0,0,0,0,0,0,0,0,0,0,0,0,0,0,null,0,0,null,0,0,0,null,0,0,0,0,null,0,0,0,null,0,0,0,0,0,0,0,0,0,0,0,0,0,0,0,0,0,0,0,0,0]
[null,null,null,null,null,"5th of 40 Guns",null,null,null,null,null,null,null,null,null,0,2.38,null,null,null,null,null,null,0,0.30480000000000002,0,0,0,0,0,0,0,0,0,0,0,0,0,0,0,0,0,0,0,0,0,0,0,0,{"$f":"(AH76*($AR$2*(2/3)))","v":0},0,0,0,{"$f":"AL76*(1+(1/3))*$AR$2","v":0},0,0,null,0,0,0,0,0,0,0,0,0,0,0,0,0,0,0,0,0,0,0,0,0,0,0,0,0,0,0,0,0,0,0,0,0,0,0,0,0,0,0,0,0,0,0,0,0,0,0,0,0,0,0,0,0,0,0,0,0,0,0,0,0,0,0,0,0,0,0,0,0,0,0,0,null,null,0,0,0,0,0,0,0,0,0,0,0,0,0,0,0,0,0,0,0,0,0,0,0,0,0,0,0,0,0,0,0,0,0,0,0,0,0,null,0,0,null,0,0,0,null,0,0,0,0,null,0,0,0,null,0,0,0,0,0,0,0,0,0,0,0,0,0,0,0,0,0,0,0,0,0]
[null,null,null,null,null,"5th - 30 Guns",null,null,null,null,null,null,null,null,null,0,2.4,null,null,null,null,null,null,0,0.30480000000000002,0,0,0,0,0,0,0,0,0,0,0,0,0,0,0,0,0,0,0,0,0,0,0,0,{"$f":"(AH77*($AR$2*(2/3)))","v":0},0,0,0,{"$f":"AL77*(1+(1/3))*$AR$2","v":0},0,0,null,0,0,0,0,0,0,0,0,0,0,0,0,0,0,0,0,0,0,0,0,0,0,0,0,0,0,0,0,0,0,0,0,0,0,0,0,0,0,0,0,0,0,0,0,0,0,0,0,0,0,0,0,0,0,0,0,0,0,0,0,0,0,0,0,0,0,0,0,0,0,0,0,null,null,0,0,0,0,0,0,0,0,0,0,0,0,0,0,0,0,0,0,0,0,0,0,0,0,0,0,0,0,0,0,0,0,0,0,0,0,0,null,0,0,null,0,0,0,null,0,0,0,0,null,0,0,0,null,0,0,0,0,0,0,0,0,0,0,0,0,0,0,0,0,0,0,0,0,0]
[null,null,null,null,null,"6th of 20 Guns",null,null,null,null,null,null,null,null,null,0,2.42,null,null,null,null,null,null,0,0.30480000000000002,0,0,0,0,0,0,0,0,{"$f":"Z78*0.8","v":0},0,0,0,0,0,0,0,0,0,0,0,0,0,0,0,{"$f":"(AH78*($AR$2*(8/13)))","v":0},0,0,0,{"$f":"AL78*(1+(2/9))*$AR$2","v":0},0,0,null,0,0,0,0,0,0,0,0,0,0,0,0,0,0,0,0,0,0,0,0,0,0,0,0,0,0,0,0,0,0,0,0,0,0,0,0,0,0,0,0,0,0,0,0,0,0,0,0,0,0,0,0,0,0,0,0,0,0,0,0,0,0,0,0,0,0,0,0,0,0,0,0,null,null,0,0,0,0,0,0,0,0,0,0,0,0,0,0,0,0,0,0,0,0,0,0,0,0,0,0,0,0,0,0,0,0,0,0,0,0,0,null,0,0,null,0,0,0,null,0,0,0,0,null,0,0,0,null,0,0,0,0,0,0,0,0,0,0,0,0,0,0,0,0,0,0,0,0,0]
[null,null,null,null,1745,"1st and 2nd",null,null,null,null,null,null,null,null,null,{"$f":"IF(G79>0,Q79,0)","v":0},2.2400000000000002,null,null,null,null,null,null,0,0.30480000000000002,{"$f":"IF($X$7=0,(X79*Y79),X79)","v":0},0,0,0,0,0,0,0,{"$f":"Z79*0.86","v":0},0,0,0,{"$f":"Z79*0.63","v":0},{"$f":"AE79*0.43","v":0},{"$f":"AL79*0.7","v":0},0,0,0,0,0,{"$f":"AP79","v":0},0,0,0,{"$f":"(AH79*($AR$2*(2/3)))","v":0},0,{"$f":"(AJ79*$AR$2)","v":0},0,{"$f":"AL79*(1+(5/9))*$AR$2","v":0},0,0,null,{"$f":"Z79*0.9","v":0},0,0,0,0,0,0,0,0,0,0,0,0,0,0,0,0,0,0,0,0,0,0,0,0,0,0,{"$f":"BF79*(($CK$2)*(3/4))","v":0},0,0,0,{"$f":"BJ79*(($CK$2)*(3/4))","v":0},0,0,0,{"$f":"BN79*(($CK$2)*(8/13))","v":0},{"$f":"BO79*(($CK$2)*(5/8))","v":0},{"$f":"BP79*(($CK$2)*(3/5))","v":0},0,0,0,0,0,0,0,0,0,0,0,0,0,0,0,0,0,0,0,0,0,0,0,0,0,0,{"$f":"((AH79*$DP$2)*(3.75*25.4))/1000","v":0},0,0,0,0,0,0,{"$f":"DR79*(2/3)","v":0},{"$f":"DS79*(2/3)","v":0},{"$f":"DZ79/2","v":0},0,0,0,0,0,0,0,0,0,0,0,0,{"$f":"CS79*(2/3)","v":0},{"$f":"CS79*(2/5)","v":0},0,0,0,0,0,0,0,0,0,0,0,0,0,0,0,0,0,0,0,0,0,0,0,{"$f":"IF($G79>0,2,0)","v":0},0,0,null,0,0,0,null,0,0,0,0,null,0,0,0,{"$f":"BN79/4","v":0},0,0,0,0,0,0,0,0,0,0,0,0,0,{"$f":"GI79*0.4067","v":0},{"$f":"GJ79*0.4067","v":0},{"$f":"GK79*0.4067","v":0},{"$f":"GL79*0.4067","v":0},0,0,0,0]
[null,null,null,null,null,"3rd of 80 Guns",null,null,null,null,null,null,null,null,null,0,2.2599999999999998,null,null,null,null,null,null,0,0.30480000000000002,0,0,0,0,0,0,0,0,0,0,0,0,0,0,0,0,0,0,0,0,0,0,0,0,0,0,0,0,{"$f":"AL80*(1+(5/9))*$AR$2","v":0},0,0,null,0,0,0,0,0,0,0,0,0,0,0,0,0,0,0,0,0,0,0,0,0,0,0,0,0,0,0,0,0,0,0,0,0,0,0,0,0,0,0,0,0,0,0,0,0,0,0,0,0,0,0,0,0,0,0,0,0,0,0,0,0,0,0,0,0,0,0,0,0,0,0,0,0,0,0,0,0,0,0,0,0,0,0,0,0,0,{"$f":"CS80*(2/3)","v":0},{"$f":"CS80*(2/5)","v":0},0,0,0,0,0,0,0,0,0,0,0,0,0,0,0,0,0,0,0,0,0,0,0,{"$f":"IF($G80>0,2,0)","v":0},0,0,null,0,0,0,null,0,0,0,0,null,0,0,0,{"$f":"BN80/4","v":0},0,0,0,0,0,0,0,0,0,0,0,0,0,{"$f":"GI80*0.4067","v":0},{"$f":"GJ80*0.4067","v":0},{"$f":"GK80*0.4067","v":0},{"$f":"GL80*0.4067","v":0},{"$f":"GQ80*0.895","v":0},{"$f":"GR80*0.895","v":0},{"$f":"GS80*0.895","v":0},0]
[null,null,null,null,null,"3rd of 70 Guns",null,null,null,null,null,null,null,null,null,0,2.27,null,null,null,null,null,null,0,0.30480000000000002,0,0,0,0,0,0,0,0,0,0,0,0,0,0,0,0,0,0,0,0,0,0,0,0,0,0,0,0,{"$f":"AL81*(1+(5/9))*$AR$2","v":0},0,0,null,0,0,0,0,0,0,0,0,0,0,0,0,0,0,0,0,0,0,0,0,0,0,0,0,0,0,0,0,0,0,0,0,0,0,0,0,0,0,0,0,0,0,0,0,0,0,0,0,0,0,0,0,0,0,0,0,0,0,0,0,0,0,0,0,0,0,0,0,0,0,0,0,0,0,0,0,0,0,0,0,0,0,0,0,0,0,0,0,0,0,0,0,0,0,0,0,0,0,0,0,0,0,0,0,0,0,0,0,0,0,0,0,0,0,null,0,0,0,null,0,0,0,0,null,0,0,0,0,0,0,0,0,0,0,0,0,0,0,0,0,0,0,0,0,0,0,0,0,0]
[null,null,null,null,null,"4th of 60 Guns",null,null,null,null,null,null,null,null,null,0,2.27,null,null,null,null,null,null,0,0.30480000000000002,0,0,0,0,0,0,0,0,0,0,0,0,0,0,0,0,0,{"$f":"(AA82*($AR$2*(9/10)))","v":0},0,0,0,0,0,0,0,{"$f":"AI82*($AR$2*(5/6))","v":0},{"$f":"(AJ82*$AR$2)","v":0},0,{"$f":"AL82*(1+(5/9))*$AR$2","v":0},0,0,null,0,0,0,0,0,0,0,0,0,0,0,0,0,0,0,0,0,0,0,0,0,0,0,0,0,0,0,0,0,0,0,0,0,0,0,0,0,0,0,0,0,0,0,0,0,0,0,0,0,0,0,0,0,0,0,0,0,0,0,0,0,0,0,0,0,0,0,0,0,0,0,0,0,0,0,0,0,0,0,0,0,0,0,0,0,0,0,0,0,0,0,0,0,0,0,0,0,0,0,0,0,0,0,0,0,0,0,0,0,0,0,0,0,0,null,{"$f":"IF($G76>0,1,0)","v":0},0,0,null,0,0,0,0,null,0,0,0,0,0,0,0,0,0,0,0,0,0,0,0,0,0,0,0,0,0,0,0,0,0]
[null,null,null,null,null,"4th of 50 Guns",null,null,null,null,null,null,null,null,null,0,2.2200000000000002,null,null,null,null,null,null,0,0.30480000000000002,0,0,0,0,0,0,0,0,0,0,0,0,0,0,0,0,0,{"$f":"(AA83*($AR$2*(9/10)))","v":0},0,0,0,0,0,0,0,{"$f":"AI83*($AR$2*(5/6))","v":0},{"$f":"(AJ83*$AR$2)","v":0},0,{"$f":"AL83*(1+(3/7))*$AR$2","v":0},0,0,null,0,0,0,0,0,0,0,0,0,0,0,0,0,0,0,0,0,0,0,0,0,0,0,0,0,0,0,0,0,0,0,0,0,0,0,0,0,0,0,0,0,0,0,0,0,0,0,0,0,0,0,0,0,0,0,0,0,0,0,0,0,0,0,0,0,0,0,0,0,0,0,0,0,0,0,0,0,0,0,0,0,0,0,0,0,0,0,0,0,0,0,0,0,0,0,0,0,0,0,0,0,0,0,0,0,0,0,0,0,0,0,0,0,0,null,0,0,0,null,0,0,0,0,null,0,0,0,0,0,0,0,0,0,0,0,0,0,0,0,0,0,0,0,0,0,0,0,0,0]
[null,null,null,null,null,"5th of 40 Guns",null,null,null,null,null,null,null,null,null,0,2.2200000000000002,null,null,null,null,null,null,0,0.30480000000000002,0,0,0,0,0,0,0,0,0,0,0,0,0,0,0,0,0,{"$f":"(AA84*($AR$2*(9/10)))","v":0},0,0,0,0,0,0,0,{"$f":"AI84*($AR$2*(5/6))","v":0},{"$f":"(AJ84*$AR$2)","v":0},0,{"$f":"AL84*(1+(1/3))*$AR$2","v":0},0,0,null,0,0,0,0,0,0,0,0,0,0,0,0,0,{"$f":"BU84*(5/8)","v":0},0,0,0,0,0,0,0,0,0,0,0,0,0,0,0,0,0,0,0,0,0,0,0,0,0,0,{"$f":"CV84","v":0},0,0,0,0,0,0,0,0,0,0,0,0,0,0,0,0,0,0,0,0,0,0,0,0,0,0,0,0,0,0,0,0,0,0,0,0,0,0,0,0,0,0,0,0,0,0,0,0,0,0,0,0,0,0,0,0,0,0,0,0,0,0,0,0,0,0,0,0,0,0,0,0,0,null,0,0,0,null,0,0,0,0,null,0,0,0,0,0,0,0,0,0,0,0,0,0,0,0,0,0,0,0,0,0,0,0,0,0]
[null,null,null,null,null,"5th - 30 Guns",null,null,null,null,null,null,null,null,null,0,2.2200000000000002,null,null,null,null,null,null,0,0.30480000000000002,0,0,0,0,0,0,0,0,0,0,0,0,0,0,0,0,0,0,0,0,0,0,0,0,0,0,0,0,{"$f":"AL85*(1+(1/3))*$AR$2","v":0},0,0,0,0,0,0,0,0,0,0,0,0,0,0,0,0,0,0,0,0,0,0,0,0,0,0,0,0,0,0,0,0,0,0,0,0,0,0,0,0,0,0,0,0,0,0,0,0,0,0,0,0,0,0,0,0,0,0,0,0,0,0,0,0,0,0,0,0,0,0,0,0,0,0,0,0,0,0,0,0,0,0,0,0,0,0,0,0,0,0,0,0,0,0,0,0,0,0,0,0,0,0,0,0,0,0,0,0,0,0,0,0,0,0,0,0,0,null,0,0,0,null,0,0,0,0,null,0,0,0,0,0,0,0,0,0,0,0,0,0,0,0,0,0,0,0,0,0,0,0,0,0]
[null,null,null,null,null,"6th of 20 Guns",null,null,null,null,null,null,null,null,null,0,2.2799999999999998,null,null,null,null,null,null,0,0.30480000000000002,0,0,0,0,0,0,0,0,0,0,0,0,0,0,0,0,0,0,0,0,0,0,0,0,{"$f":"(AH86*($AR$2*(8/13)))","v":0},0,0,0,{"$f":"AL86*(1+(2/9))*$AR$2","v":0},0,0,0,0,0,0,0,0,0,0,0,0,0,0,0,0,0,0,0,0,0,0,0,0,0,0,0,0,0,0,0,0,0,0,0,0,0,0,0,0,0,0,0,0,0,0,0,0,0,0,0,0,0,0,0,0,0,0,0,0,0,0,0,0,0,0,0,0,0,0,0,0,0,0,0,0,0,0,0,0,0,0,0,0,0,0,0,0,0,0,0,0,0,0,0,0,0,0,0,0,0,0,0,0,0,0,0,0,0,0,0,0,{"$f":"IF($G80>0,1,0)","v":0},0,0,0,{"$f":"IF($G80>0,1,0)","v":0},null,0,0,0,null,0,0,0,0,null,0,0,0,0,0,0,0,0,0,0,0,0,0,0,0,0,0,0,0,0,0,0,0,0,0]
[null,null,null,null,1769,"1st and 2nd",null,null,null,null,null,null,null,null,null,{"$f":"IF(G87>0,Q87,0)","v":0},2.2400000000000002,null,null,null,null,null,null,{"$f":"(G87*Q87)","v":0},0.30480000000000002,{"$f":"IF($X$7=0,(X87*Y87),X87)","v":0},0,0,0,{"$f":"Z87*0.9","v":0},0,0,0,{"$f":"Z87*0.86","v":0},0,0,0,{"$f":"Z87*0.63","v":0},{"$f":"AE87*0.43","v":0},{"$f":"AL87*0.7","v":0},0,{"$f":"(Z87*($AR$2*(15/16)))","v":0},{"$f":"(AA87*($AR$2*(9/10)))","v":0},{"$f":"(AB87*$AR$2)","v":0},0,{"$f":"AP87","v":0},{"$f":"(AE87*($AR$2*(15/16)))","v":0},{"$f":"(AF87*$AR$2)","v":0},0,{"$f":"(AH87*($AR$2*(2/3)))","v":0},{"$f":"AI87*($AR$2*(5/6))","v":0},{"$f":"(AJ87*$AR$2)","v":0},0,{"$f":"AL87*(1+(5/9))*$AR$2","v":0},{"$f":"(AM87*Inch_to_Yard)","v":0},{"$f":"AN87*(Inch_to_Yard*(7/8))","v":0},null,{"$f":"Z87*0.9","v":0},0,{"$f":"BG87/2","v":0},0,{"$f":"BF87*0.875","v":0},0,{"$f":"BK87/2","v":0},0,{"$f":"BK87","v":0},0,0,0,{"$f":"BF87*(5/6)","v":0},0,0,{"$f":"BG87","v":0},{"$f":"BL87","v":0},{"$f":"BK87","v":0},0,{"$f":"BF87*(5/9)","v":0},{"$f":"BG87/2","v":0},{"$f":"BG87*(5/9)","v":0},{"$f":"BK87/2","v":0},{"$f":"BY87*(4/7)","v":0},{"$f":"BZ87*(4/7)","v":0},{"$f":"CA87*(4/7)","v":0},{"$f":"CB87*(4/7)","v":0},{"$f":"BF87*(($CK$2)*(3/4))","v":0},{"$f":"BG87*(($CK$2)*(5/8))","v":0},{"$f":"BH87*(($CK$2)*(3/5))","v":0},{"$f":"CH87/2","v":0},{"$f":"BJ87*(($CK$2)*(3/4))","v":0},{"$f":"BK87*(($CK$2)*(5/8))","v":0},{"$f":"BL87*(($CK$2)*(3/5))","v":0},{"$f":"CL87/2","v":0},{"$f":"BN87*(($CK$2)*(8/13))","v":0},{"$f":"BO87*(($CK$2)*(5/8))","v":0},{"$f":"BP87*(($CK$2)*(3/5))","v":0},0,{"$f":"BR87*(($CK$2)*(7/13))","v":0},0,0,{"$f":"BU87*(($CK$2)*(5/8))","v":0},{"$f":"CM87","v":0},{"$f":"BW87*(($CK$2)*(5/8))","v":0},{"$f":"BX87*(($CK$2)*(3/5))","v":0},{"$f":"BY87*($CZ$2/100)","v":0},{"$f":"BZ87*($CZ$2/100)","v":0},{"$f":"CA87*($CZ$2/100)","v":0},{"$f":"CB87*($CZ$2/100)","v":0},{"$f":"CC87*($CZ$2/100)","v":0},{"$f":"CD87*($CZ$2/100)","v":0},{"$f":"CE87*($CZ$2/100)","v":0},{"$f":"CF87*($CZ$2/100)","v":0},{"$f":"AP87*(5/8)","v":0},{"$f":"AT87*(5/8)","v":0},{"$f":"AX87*(5/8)","v":0},{"$f":"BB87*(5/9)","v":0},{"$f":"((Z87*$DP$2)*(5*25.4))/1000","v":0},{"$f":"Z87/10","v":0},{"$f":"AA87/10","v":0},{"$f":"((AD87*$DP$2)*(4.75*25.4))/1000","v":0},{"$f":"AE87/10","v":0},{"$f":"AF87/10","v":0},{"$f":"((AH87*$DP$2)*(3.75*25.4))/1000","v":0},{"$f":"DQ87","v":0},{"$f":"DQ87","v":0},{"$f":"DM87*(2/3)","v":0},0,{"$f":"DP87*(2/3)","v":0},0,{"$f":"DR87*(2/3)","v":0},{"$f":"DS87*(2/3)","v":0},0,{"$f":"CG87*(3/7)","v":0},{"$f":"CH87*(3/7)","v":0},{"$f":"CI87*(3/7)","v":0},{"$f":"CJ87*(5/12)","v":0},{"$f":"CK87*(3/7)","v":0},{"$f":"CL87*(3/7)","v":0},{"$f":"CM87*(3/7)","v":0},{"$f":"CN87*(5/12)","v":0},{"$f":"CO87*(3/7)","v":0},{"$f":"CP87*(3/7)","v":0},{"$f":"CQ87*(3/7)","v":0},{"$f":"CR87*(5/12)","v":0},{"$f":"CS87*(2/3)","v":0},{"$f":"CS87*(2/5)","v":0},{"$f":"CT87*(1/2)","v":0},{"$f":"CU87*(1/2)","v":0},{"$f":"CV87*(2/3)","v":0},{"$f":"CV87*(3/4)","v":0},{"$f":"CW87*(1/2)","v":0},{"$f":"CX87*(1/2)","v":0},{"$f":"CY87*(1/2)","v":0},{"$f":"CZ87*(2/3)","v":0},{"$f":"DA87*(2/3)","v":0},{"$f":"DB87*(2/3)","v":0},{"$f":"DC87*(2/3)","v":0},{"$f":"DD87*(1/2)","v":0},{"$f":"DE87*(1/2)","v":0},{"$f":"DF87*(1/2)","v":0},{"$f":"DG87*(1/2)","v":0},0,0,0,0,0,0,0,0,{"$f":"IF($G87>0,2,0)","v":0},0,0,null,0,0,{"$f":"BF87*0.25","v":0},null,{"$f":"BG87/4","v":0},{"$f":"BH87/4","v":0},{"$f":"BI87/4","v":0},{"$f":"BJ87*0.25","v":0},null,{"$f":"BK87/4","v":0},{"$f":"BL87/4","v":0},{"$f":"BM87/4","v":0},{"$f":"BN87/4","v":0},{"$f":"BO87/4","v":0},{"$f":"BP87/4","v":0},{"$f":"BQ87/4","v":0},{"$f":"BW87/4","v":0},{"$f":"BX87/4","v":0},{"$f":"AA87*0.33","v":0},{"$f":"AE87*0.33","v":0},{"$f":"AI87*0.33","v":0},null,{"$f":"GI87*0.75","v":0},{"$f":"GJ87*0.75","v":0},{"$f":"GK87*0.75","v":0},null,{"$f":"GI87*(5/12)","v":0},{"$f":"GJ87*(5/12)","v":0},{"$f":"GK87*(5/12)","v":0},null,{"$f":"GQ87*0.93","v":0},{"$f":"GR87*0.93","v":0},{"$f":"GS87*0.93","v":0}]
[null,null,null,null,null,"3rd of 80 Guns",null,null,null,null,null,null,null,null,null,0,2.2599999999999998,null,null,null,null,null,null,0,0.30480000000000002,0,0,0,0,0,0,0,0,0,0,0,0,0,0,0,0,0,0,0,0,0,0,0,0,0,0,0,0,{"$f":"AL88*(1+(5/9))*$AR$2","v":0},0,0,null,0,0,0,0,0,0,0,0,0,0,0,0,0,0,0,0,0,0,0,0,0,0,0,0,0,0,0,0,0,0,0,0,0,0,0,0,0,0,0,0,0,0,0,0,0,0,0,0,0,0,0,0,0,0,0,0,0,0,0,0,0,0,0,0,0,0,0,0,0,0,0,0,0,0,0,0,0,0,0,0,0,0,0,0,0,0,{"$f":"CS88*(2/3)","v":0},{"$f":"CS88*(2/5)","v":0},0,0,0,0,0,0,0,0,0,0,0,0,0,0,0,{"$f":"IF($G88>0,1,0)","v":0},0,0,0,{"$f":"IF($G88>0,1,0)","v":0},0,0,0,0,0,0,null,0,0,0,null,0,0,0,0,null,0,0,0,{"$f":"BN88/4","v":0},0,0,0,0,0,{"$f":"AA88*0.33","v":0},{"$f":"AE88*0.33","v":0},{"$f":"AI88*0.33","v":0},null,{"$f":"GI88*0.75","v":0},{"$f":"GJ88*0.75","v":0},{"$f":"GK88*0.75","v":0},null,{"$f":"GI88*(5/12)","v":0},0,0,null,{"$f":"GQ88*0.93","v":0},0,0]
[null,null,null,null,null,"3rd of 70 Guns",null,null,null,null,null,null,null,null,null,0,2.27,null,null,null,null,null,null,0,0.30480000000000002,0,0,0,0,0,0,0,0,0,0,0,0,0,0,0,0,0,0,0,0,0,0,0,0,0,0,0,0,{"$f":"AL89*(1+(5/9))*$AR$2","v":0},0,0,null,0,0,0,0,0,0,0,0,0,0,0,0,0,0,0,0,0,0,0,0,0,0,0,0,0,0,0,0,0,0,0,0,0,0,0,0,0,0,0,0,0,0,0,0,0,0,0,0,0,0,0,0,0,0,0,0,0,0,0,0,0,0,0,0,0,0,0,0,0,0,0,0,0,0,0,0,0,0,0,0,0,0,0,0,0,0,0,0,0,0,0,0,0,0,0,0,0,0,0,0,0,0,0,0,0,0,0,0,0,0,0,0,0,0,null,0,0,0,null,0,0,0,0,null,0,0,0,0,0,0,0,0,0,0,0,0,null,0,0,0,null,0,0,0,null,0,0,0]
[null,null,null,null,null,"4th of 60 Guns",null,null,null,null,null,null,null,null,null,0,2.27,null,null,null,null,null,null,0,0.30480000000000002,0,0,0,0,0,0,0,0,0,0,0,0,0,0,0,0,0,0,0,0,0,0,0,0,0,0,0,0,{"$f":"AL90*(1+(5/9))*$AR$2","v":0},0,0,null,0,0,0,0,0,0,0,0,0,0,0,0,0,0,0,0,0,0,0,0,0,0,0,0,0,0,0,0,0,0,0,0,0,0,0,0,0,0,0,0,0,0,0,0,0,0,0,0,0,0,0,0,0,0,0,0,0,0,0,0,0,0,0,0,0,0,0,0,0,0,0,0,0,0,0,0,0,0,0,0,0,0,0,0,0,0,0,0,0,0,0,0,0,0,0,0,0,0,0,0,0,0,0,0,0,0,0,0,0,0,0,0,0,0,null,0,0,0,null,0,0,0,0,null,0,0,0,0,0,0,0,0,0,0,0,0,null,0,0,0,null,0,0,0,null,0,0,0]
[null,null,null,null,null,"4th of 50 Guns",null,null,null,null,null,null,null,null,null,0,2.2200000000000002,null,null,null,null,null,null,0,0.30480000000000002,0,0,0,0,0,0,0,0,0,0,0,0,0,0,0,0,0,0,0,0,0,0,0,0,0,0,0,0,{"$f":"AL91*(1+(3/7))*$AR$2","v":0},0,0,null,0,0,0,0,0,0,0,0,0,0,0,0,0,0,0,0,0,0,0,0,0,0,0,0,0,0,0,0,0,0,0,0,0,0,0,0,0,0,0,0,0,0,0,0,0,0,0,0,0,0,0,0,0,0,0,0,0,0,0,0,0,0,0,0,0,0,0,0,0,0,0,0,0,0,0,0,0,0,0,0,0,0,0,0,0,0,0,0,0,0,0,0,0,0,0,0,0,0,0,0,0,0,0,0,0,0,0,0,0,0,0,0,0,0,null,0,0,0,null,0,0,0,0,null,0,0,0,0,0,0,0,0,0,0,0,0,null,0,0,0,null,0,0,0,null,0,0,0]
[null,null,null,null,null,"5th of 40 Guns",null,null,null,null,null,null,null,null,null,0,2.2200000000000002,null,null,null,null,null,null,0,0.30480000000000002,0,0,0,0,0,0,0,0,0,0,0,0,0,0,0,0,0,0,0,0,0,0,0,0,0,0,0,0,{"$f":"AL92*(1+(1/3))*$AR$2","v":0},0,0,null,0,0,0,0,0,0,0,0,0,0,0,0,0,{"$f":"BU92*(5/8)","v":0},0,0,0,0,0,0,0,0,0,0,0,0,0,0,0,0,0,0,0,0,0,0,0,0,0,0,{"$f":"CV92","v":0},0,0,0,0,0,0,0,0,0,0,0,0,0,0,0,0,0,0,0,0,0,0,0,0,0,0,0,0,0,0,0,0,0,0,0,0,0,0,0,0,0,0,0,0,0,0,0,0,0,0,0,0,0,0,0,0,0,0,0,0,0,0,0,0,0,0,0,0,0,0,0,0,0,null,0,0,0,null,0,0,0,0,null,0,0,0,0,0,0,0,0,0,0,0,0,null,0,0,0,null,0,0,0,null,0,0,0]
[null,null,null,null,null,"5th - 30 Guns",null,null,null,null,null,null,null,null,null,0,2.2200000000000002,null,null,null,null,null,null,0,0.30480000000000002,0,0,0,0,0,0,0,0,0,0,0,0,0,0,0,0,0,0,0,0,0,0,0,0,0,0,0,0,{"$f":"AL93*(1+(1/3))*$AR$2","v":0},0,0,0,0,0,0,0,0,0,0,0,0,0,0,0,0,{"$f":"BU93*(5/8)","v":0},0,0,0,0,0,0,0,0,0,0,0,0,0,0,0,0,0,0,0,0,0,0,0,0,0,0,{"$f":"CV93","v":0},0,0,0,0,0,0,0,0,0,0,0,0,0,0,0,0,0,0,0,0,0,0,0,0,0,0,0,0,0,0,0,0,0,0,0,0,0,0,0,0,0,0,0,0,0,0,0,0,0,0,0,0,0,0,0,0,0,0,0,0,0,0,0,0,0,0,0,0,0,0,0,0,0,null,0,0,0,null,0,0,0,0,null,0,0,0,0,0,0,0,0,0,0,0,0,null,0,0,0,null,0,0,0,null,0,0,0]
[null,null,null,null,null,"6th of 20 Guns",null,null,null,null,null,null,null,null,null,0,2.2799999999999998,null,null,null,null,null,null,0,0.30480000000000002,0,0,0,0,0,0,0,0,0,0,0,0,0,0,0,0,0,0,0,0,0,0,0,0,{"$f":"(AH94*($AR$2*(8/13)))","v":0},0,0,0,{"$f":"AL94*(1+(2/9))*$AR$2","v":0},0,0,0,0,0,0,0,0,0,0,0,0,0,0,0,0,{"$f":"BU94*(5/8)","v":0},0,0,0,0,0,0,0,0,0,0,0,0,0,0,0,0,0,0,0,0,0,0,0,0,0,0,{"$f":"CV94","v":0},0,0,0,0,0,0,0,0,0,0,0,0,0,0,0,0,0,0,0,0,0,0,0,0,0,0,0,0,0,0,0,0,0,0,0,0,0,0,0,0,0,0,0,0,0,0,0,0,0,0,0,0,0,0,0,0,0,0,0,0,0,0,0,0,0,0,0,0,{"$f":"IF($G88>0,1,0)","v":0},0,0,0,{"$f":"IF($G88>0,1,0)","v":0},null,0,0,0,null,0,0,0,0,null,0,0,0,0,0,0,0,0,0,0,0,0,null,0,0,0,null,0,0,0,null,0,0,0]
[null,null,null,null,1773,"1st and 2nd",null,null,null,null,null,null,null,null,null,{"$f":"IF(G95>0,Q95,0)","v":0},2.23,null,null,null,null,null,null,0,{"$f":"IF($X$7=1,0.3048,1)","v":0.30480000000000002},{"$f":"IF($X$7=0,(X95*Y95),X95)","v":0},{"$f":"Z95*0.6","v":0},{"$f":"AA95*0.5","v":0},0,{"$f":"Z95*0.93","v":0},0,{"$f":"AE95*0.5","v":0},0,{"$f":"Z95*0.84","v":0},0,{"$f":"AI95*0.5","v":0},0,{"$f":"Z95*0.6","v":0},0,{"$f":"Z95*0.41","v":0},0,{"$f":"(Z95*($AR$2*(9/10)))","v":0},0,0,0,{"$f":"AP95","v":0},{"$f":"AE95*$AR$2","v":0},0,0,{"$f":"(AH95*($AR$2*(2/3)))","v":0},{"$f":"AI95*($AR$2*(7/10))","v":0},0,0,{"$f":"AL95*(1+(5/9))*$AR$2","v":0},0,0,0,0,0,{"$f":"BG95*(2/3)","v":0},{"$f":"BH95/2","v":0},0,0,{"$f":"BK95*(2/3)","v":0},0,{"$f":"BJ95*0.72","v":0},0,{"$f":"BO95*(2/3)","v":0},{"$f":"BP95/2","v":0},0,0,0,0,0,0,0,{"$f":"BF95*(5/9)","v":0},{"$f":"BG95/2","v":0},0,0,{"$f":"BY95*(4/7)","v":0},0,0,0,{"$f":"BF95*(($CK$2)*(3/4))","v":0},{"$f":"BG95*(($CK$2)*(5/8))","v":0},0,{"$f":"CH95/2","v":0},{"$f":"BJ95*(($CK$2)*(3/4))","v":0},0,0,{"$f":"CL95/2","v":0},{"$f":"BN95*(($CK$2)*(8/13))","v":0},{"$f":"BO95*(($CK$2)*(5/8))","v":0},{"$f":"BP95*(($CK$2)*(3/5))","v":0},{"$f":"CP95/2","v":0},0,0,0,0,0,0,0,{"$f":"BY95*($CZ$2/100)","v":0},0,0,0,{"$f":"CC95*($CZ$2/100)","v":0},0,0,0,0,0,0,0,0,{"$f":"Z95/10","v":0},0,{"$f":"((AD95*$DP$2)*(5*25.4))/1000","v":0},0,0,{"$f":"((AH95*$DP$2)*(3.75*25.4))/1000","v":0},0,0,{"$f":"DM95*(4/5)","v":0},0,{"$f":"DP95*(4/5)","v":0},0,{"$f":"DR95*(2/3)","v":0},{"$f":"DS95*(4/5)","v":0},0,0,0,0,0,0,0,0,0,0,0,0,0,0,0,0,0,0,0,0,0,0,0,0,0,0,0,0,0,0,{"$f":"IF($G95>0,3,0)","v":0},{"$f":"IF($G95>0,1,0)","v":0},0,0,{"$f":"IF($G95>0,3,0)","v":0},{"$f":"IF($G95>0,1,0)","v":0},{"$f":"IF($G81>0,1,0)","v":0},0,0,0,{"$f":"IF($G81>0,1,0)","v":0},{"$f":"IF($G95>0,2,0)","v":0},{"$f":"IF($G81>0,1,0)","v":0},0,0,{"$f":"FS95","v":0},0,0,0,0,{"$f":"FX95","v":0},0,0,0,0,0,0,0,0,0,0,0,0,null,{"$f":"GI95*0.75","v":0},{"$f":"GJ95*0.75","v":0},{"$f":"GK95*0.75","v":0},null,{"$f":"GI95*(5/12)","v":0},{"$f":"GJ95*(5/12)","v":0},{"$f":"GK95*(5/12)","v":0},null,{"$f":"GQ95*0.93","v":0},{"$f":"GR95*0.93","v":0},{"$f":"GS95*0.93","v":0}]
[null,null,null,null,null,"3rd of 80 Guns",null,null,null,null,null,null,null,null,null,0,2.23,null,null,null,null,null,null,0,0.30480000000000002,0,0,{"$f":"AA96*0.5","v":0},0,0,0,{"$f":"AE96*0.5","v":0},0,0,{"$f":"AA96*0.7","v":0},{"$f":"AI96*0.5","v":0},0,0,0,0,0,0,{"$f":"(AA96*($AR$2*(9/10)))","v":0},{"$f":"(AB96*$AR$2)","v":0},0,{"$f":"AP96","v":0},{"$f":"AE96*$AR$2","v":0},{"$f":"(AF96*$AR$2)","v":0},0,{"$f":"(AH96*($AR$2*(2/3)))","v":0},{"$f":"AI96*($AR$2*(7/10))","v":0},{"$f":"(AJ96*$AR$2)","v":0},0,{"$f":"AL96*(1+(5/9))*$AR$2","v":0},0,0,0,0,0,{"$f":"BG96*(2/3)","v":0},0,0,0,{"$f":"BK96*(2/3)","v":0},0,{"$f":"BJ96*0.72","v":0},0,{"$f":"BO96*(2/3)","v":0},{"$f":"BP96/2","v":0},0,0,0,0,0,0,0,0,0,0,0,0,0,0,0,0,0,0,0,0,0,0,0,0,{"$f":"BO96*(($CK$2)*(5/8))","v":0},0,0,0,0,0,0,0,0,0,0,0,0,0,0,0,0,0,0,0,0,0,0,{"$f":"Z96/10","v":0},0,0,0,0,0,0,0,{"$f":"DM96*(4/5)","v":0},0,{"$f":"DP96*(4/5)","v":0},0,0,{"$f":"DS96*(4/5)","v":0},0,0,0,0,0,0,0,0,0,0,0,0,0,0,0,0,0,0,0,0,0,0,0,0,0,0,0,0,0,0,{"$f":"IF($G96>0,3,0)","v":0},0,0,0,{"$f":"IF($G96>0,3,0)","v":0},0,0,0,0,0,0,0,0,0,0,{"$f":"FS96","v":0},0,0,0,0,{"$f":"FX96","v":0},0,0,0,0,0,0,0,0,0,0,0,0,null,{"$f":"GI96*0.75","v":0},{"$f":"GJ96*0.75","v":0},{"$f":"GK96*0.75","v":0},null,{"$f":"GI96*(5/12)","v":0},{"$f":"GJ96*(5/12)","v":0},{"$f":"GK96*(5/12)","v":0},null,{"$f":"GQ96*0.93","v":0},{"$f":"GR96*0.93","v":0},{"$f":"GS96*0.93","v":0}]
[null,null,null,null,null,"3rd of 70 Guns",null,null,null,null,null,null,null,null,null,0,2.23,null,null,null,null,null,null,0,0.30480000000000002,0,0,0,0,0,0,0,0,0,0,0,0,0,0,0,0,0,0,0,0,0,0,0,0,0,0,0,0,{"$f":"AL97*(1+(5/9))*$AR$2","v":0},0,0,0,0,0,0,0,0,0,0,{"$f":"BL97/2","v":0},0,0,0,0,0,0,0,0,0,0,0,0,0,0,0,0,0,0,0,0,0,0,0,0,0,0,0,0,0,0,0,0,0,0,0,0,0,0,0,0,0,0,0,0,0,0,0,0,0,0,0,0,0,0,0,0,0,0,0,0,0,0,0,0,0,0,0,0,0,0,0,0,0,0,0,0,0,0,0,0,0,0,0,0,0,0,0,0,0,0,0,0,0,0,0,{"$f":"IF($G97>0,3,0)","v":0},0,0,0,{"$f":"IF($G97>0,3,0)","v":0},0,0,0,0,0,0,0,0,0,0,{"$f":"FS97","v":0},0,0,0,0,{"$f":"FX97","v":0},0,0,0,0,0,0,0,0,0,0,0,0,null,0,0,0,null,0,0,0,null,0,0,0]
[null,null,null,null,null,"4th of 60 Guns",null,null,null,null,null,null,null,null,null,0,2.23,null,null,null,null,null,null,0,0.30480000000000002,0,0,0,0,0,0,0,0,0,0,0,0,0,0,0,0,0,0,0,0,0,0,0,0,0,0,0,0,{"$f":"AL98*(1+(5/9))*$AR$2","v":0},0,0,0,0,0,0,0,0,0,0,0,0,0,0,0,0,0,0,0,0,0,0,0,0,0,0,0,0,0,0,0,0,0,0,0,0,0,0,0,0,0,0,0,0,0,0,0,0,0,0,0,0,0,0,0,0,0,0,0,0,0,0,0,0,0,0,0,0,0,0,0,0,0,0,0,0,0,0,0,0,0,0,0,0,0,0,0,0,0,0,0,0,0,0,0,0,0,0,0,0,0,0,0,0,0,0,{"$f":"IF($G98>0,1,0)","v":0},0,0,0,{"$f":"IF($G98>0,1,0)","v":0},0,0,0,0,0,0,0,0,0,0,null,0,0,0,0,null,0,0,0,0,0,0,0,0,0,0,0,0,null,0,0,0,null,0,0,0,null,0,0,0]
[null,null,null,null,null,"4th of 50 Guns",null,null,null,null,null,null,null,null,null,0,2.23,null,null,null,null,null,null,0,0.30480000000000002,0,0,0,0,0,0,0,0,0,0,0,0,0,0,0,0,0,0,0,0,0,0,0,0,0,0,0,0,{"$f":"AL99*(1+(3/7))*$AR$2","v":0},0,0,0,0,0,0,0,0,0,0,0,0,0,0,0,0,0,0,0,0,0,0,0,0,0,0,0,0,0,0,0,0,0,0,0,0,0,0,0,0,0,0,0,0,0,0,0,0,0,0,0,0,0,0,0,0,0,0,0,0,0,0,0,0,0,0,0,0,0,0,0,0,0,0,0,0,0,0,0,0,0,0,0,0,0,0,0,0,0,0,0,0,0,0,0,0,0,0,0,0,0,0,0,0,0,0,{"$f":"IF($G99>0,1,0)","v":0},0,0,0,{"$f":"IF($G99>0,1,0)","v":0},0,0,0,0,0,0,0,0,0,0,null,0,0,0,0,null,0,0,0,0,0,0,0,0,0,0,0,0,null,0,0,0,null,0,0,0,null,0,0,0]
[null,null,null,null,null,"5th of 40 Guns",null,null,null,null,null,null,null,null,null,0,2.23,null,null,null,null,null,null,0,0.30480000000000002,0,0,0,0,0,0,0,0,0,0,0,0,0,0,0,0,0,0,0,0,0,0,0,0,0,0,0,0,{"$f":"AL100*(1+(1/3))*$AR$2","v":0},0,0,0,0,0,0,0,0,0,0,0,0,0,0,0,0,0,0,0,0,0,0,0,0,0,0,0,0,0,0,0,0,0,0,0,0,0,0,0,0,0,0,0,0,0,0,0,0,0,0,0,0,0,0,0,0,0,0,0,0,0,0,0,0,0,0,0,0,0,0,0,0,0,0,0,0,0,0,0,0,0,0,0,0,0,0,0,0,0,0,0,0,0,0,0,0,0,0,0,0,0,0,0,0,0,0,{"$f":"IF($G100>0,1,0)","v":0},0,0,0,{"$f":"IF($G100>0,1,0)","v":0},0,0,0,0,0,0,0,0,0,0,null,0,0,0,0,null,0,0,0,0,0,0,0,0,0,0,0,0,null,0,0,0,null,0,0,0,null,0,0,0]
[null,null,null,null,null,"5th - 30 Guns",null,null,null,null,null,null,null,null,null,0,2.23,null,null,null,null,null,null,0,0.30480000000000002,0,0,0,0,0,0,0,0,0,0,0,0,0,0,0,0,0,0,0,0,0,0,0,0,0,0,0,0,{"$f":"AL101*(1+(1/3))*$AR$2","v":0},0,0,0,0,0,0,0,0,0,0,0,0,0,0,0,0,0,0,0,0,0,0,0,0,0,0,0,0,0,0,0,0,0,0,0,0,0,0,0,0,0,0,0,0,0,0,0,0,0,0,0,0,0,0,0,0,0,0,0,0,0,0,0,0,0,0,0,0,0,0,0,0,0,0,0,0,0,0,0,0,0,0,0,0,0,0,0,0,0,0,0,0,0,0,0,0,0,0,0,0,0,0,0,0,0,0,{"$f":"IF($G101>0,1,0)","v":0},0,0,0,{"$f":"IF($G101>0,1,0)","v":0},0,0,0,0,0,0,0,{"$f":"IF($G95>0,1,0)","v":0},0,0,null,0,0,0,0,null,0,0,0,0,0,0,0,0,0,0,0,0,null,0,0,0,null,0,0,0,null,0,0,0]
[null,null,null,null,null,"6th of 20 Guns",null,null,null,null,null,null,null,null,null,0,2.23,null,null,null,null,null,null,0,0.30480000000000002,0,0,0,0,0,0,0,0,0,0,0,0,0,0,0,0,0,0,0,0,0,0,0,0,0,0,0,0,{"$f":"AL102*(1+(2/9))*$AR$2","v":0},0,0,0,0,0,0,0,0,0,0,0,0,0,0,0,0,0,0,0,0,0,0,0,0,0,0,0,0,0,0,0,0,0,0,0,0,0,0,0,0,0,0,0,0,0,0,0,0,0,0,0,0,0,0,0,0,0,0,0,0,0,0,0,0,0,0,0,0,0,0,0,0,0,0,0,0,0,0,0,0,0,0,0,0,0,0,0,0,0,0,0,0,0,0,0,0,0,0,0,0,0,0,0,0,0,0,{"$f":"IF($G102>0,1,0)","v":0},0,0,0,{"$f":"IF($G102>0,1,0)","v":0},0,{"$f":"IF($G96>0,1,0)","v":0},0,0,0,{"$f":"IF($G96>0,1,0)","v":0},0,0,0,0,null,0,0,0,0,null,0,0,0,0,0,0,0,0,0,0,0,0,null,0,0,0,null,0,0,0,null,0,0,0]
[null,null,null,null,1780,"1st and 2nd",null,null,null,null,null,null,null,null,null,0,2.23,null,null,null,null,null,null,0,0.30480000000000002,0,0,0,0,0,0,0,0,0,{"$f":"AA103*0.7","v":0},0,0,0,0,0,0,0,{"$f":"(AA103*($AR$2*(9/10)))","v":0},{"$f":"(AB103*$AR$2)","v":0},0,{"$f":"AP103","v":0},{"$f":"AE103*$AR$2","v":0},{"$f":"(AF103*$AR$2)","v":0},0,{"$f":"(AH103*($AR$2*(2/3)))","v":0},{"$f":"AI103*($AR$2*(7/10))","v":0},{"$f":"(AJ103*$AR$2)","v":0},0,{"$f":"AL103*(1+(2/9))*$AR$2","v":0},0,{"$f":"AN103*(Inch_to_Yard*(7/8))","v":0},0,0,0,0,0,{"$f":"BF103*0.875","v":0},0,0,0,{"$f":"BJ103*0.72","v":0},0,0,0,{"$f":"BF103*(5/6)","v":0},{"$f":"BU103*(5/8)","v":0},0,{"$f":"BG103","v":0},{"$f":"BL103","v":0},{"$f":"BK103","v":0},0,{"$f":"BF103*(5/9)","v":0},{"$f":"BG103/2","v":0},{"$f":"BG103*(5/9)","v":0},{"$f":"BK103/2","v":0},{"$f":"BY103*(4/7)","v":0},{"$f":"BZ103*(4/7)","v":0},{"$f":"CA103*(4/7)","v":0},{"$f":"CB103*(4/7)","v":0},{"$f":"BF103*(($CK$2)*(3/4))","v":0},{"$f":"BG103*(($CK$2)*(5/8))","v":0},{"$f":"BH103*(($CK$2)*(3/5))","v":0},{"$f":"CH103/2","v":0},{"$f":"BJ103*(($CK$2)*(3/4))","v":0},{"$f":"BK103*(($CK$2)*(5/8))","v":0},{"$f":"BL103*(($CK$2)*(3/5))","v":0},{"$f":"CL103/2","v":0},{"$f":"BN103*(($CK$2)*(8/13))","v":0},{"$f":"BO103*(($CK$2)*(5/8))","v":0},{"$f":"BP103*(($CK$2)*(3/5))","v":0},{"$f":"CP103/2","v":0},{"$f":"BR103*(($CK$2)*(7/13))","v":0},{"$f":"CV103","v":0},0,{"$f":"BU103*(($CK$2)*(5/8))","v":0},{"$f":"CM103","v":0},{"$f":"BW103*(($CK$2)*(5/8))","v":0},{"$f":"BX103*(($CK$2)*(3/5))","v":0},{"$f":"BY103*($CZ$2/100)","v":0},{"$f":"BZ103*($CZ$2/100)","v":0},{"$f":"CA103*($CZ$2/100)","v":0},{"$f":"CB103*($CZ$2/100)","v":0},{"$f":"CC103*($CZ$2/100)","v":0},{"$f":"CD103*($CZ$2/100)","v":0},{"$f":"CE103*($CZ$2/100)","v":0},{"$f":"CF103*($CZ$2/100)","v":0},{"$f":"AP103*(5/8)","v":0},{"$f":"AT103*(5/8)","v":0},{"$f":"AX103*(5/8)","v":0},{"$f":"BB103*(5/9)","v":0},{"$f":"((Z103*$DP$2)*(5*25.4))/1000","v":0},0,0,0,0,0,{"$f":"((AH103*$DP$2)*(4*25.4))/1000","v":0},0,0,0,0,0,0,0,0,0,0,0,0,0,0,0,0,0,0,0,0,0,0,0,0,0,0,0,0,0,0,0,0,0,0,0,0,0,0,{"$f":"IF($G103>0,3,0)","v":0},0,0,0,{"$f":"IF($G103>0,3,0)","v":0},0,0,0,0,0,0,0,0,0,0,{"$f":"FS103","v":0},0,0,0,0,{"$f":"FX103","v":0},0,0,0,0,0,0,0,0,0,0,0,0,null,0,0,0,null,0,0,0,null,0,0,0]
[null,null,null,null,null,"3rd of 80 Guns",null,null,null,null,null,null,null,null,null,0,2.23,null,null,null,null,null,null,0,0.30480000000000002,0,0,0,0,0,0,0,0,0,0,0,0,0,0,0,0,0,0,0,0,0,0,0,0,0,0,0,0,0,0,0,0,0,0,0,0,0,0,0,0,0,0,0,0,0,0,0,0,0,0,0,0,0,0,0,0,0,0,0,0,0,0,0,0,0,0,0,0,0,0,0,0,0,0,0,0,0,0,0,0,0,0,0,0,0,0,0,0,0,0,0,0,0,0,0,0,{"$f":"((AH104*$DP$2)*(4*25.4))/1000","v":0},0,0,0,0,0,0,0,0,0,0,0,0,0,0,0,0,0,0,0,0,0,0,0,0,0,0,0,0,0,0,0,0,0,0,0,0,0,0,{"$f":"IF($G104>0,3,0)","v":0},0,0,0,{"$f":"IF($G104>0,3,0)","v":0},0,0,0,0,0,0,0,0,0,0,{"$f":"FS104","v":0},0,0,0,0,{"$f":"FX104","v":0},0,0,0,0,0,0,0,0,0,0,0,0,null,0,0,0,null,0,0,0,null,0,0,0]
[null,null,null,null,null,"3rd of 70 Guns",null,null,null,null,null,null,null,null,null,0,2.23,null,null,null,null,null,null,0,0.30480000000000002,0,0,0,0,0,0,0,0,0,0,0,0,0,0,0,0,0,0,0,0,0,0,0,0,0,0,0,0,0,0,0,0,0,0,0,0,0,0,0,0,0,0,0,0,0,0,0,0,0,0,0,0,0,0,0,0,0,0,0,0,0,0,0,0,0,0,0,0,0,0,0,0,0,0,0,0,0,0,0,0,0,0,0,0,0,0,0,0,0,0,0,0,0,0,0,0,0,0,0,0,0,0,0,0,0,0,0,0,0,0,0,0,0,0,0,0,0,0,0,0,0,0,0,0,0,0,0,0,0,0,0,0,0,0,0,{"$f":"IF($G105>0,3,0)","v":0},0,0,0,{"$f":"IF($G105>0,3,0)","v":0},0,0,0,0,0,0,0,0,0,0,{"$f":"FS105","v":0},0,0,0,0,{"$f":"FX105","v":0},0,0,0,0,0,0,0,0,0,0,0,0,null,0,0,0,null,0,0,0,null,0,0,0]
[null,null,null,null,null,"4th of 60 Guns",null,null,null,null,null,null,null,null,null,0,2.23,null,null,null,null,null,null,0,0.30480000000000002,0,0,0,0,0,0,0,0,0,0,0,0,0,0,0,0,0,0,0,0,0,0,0,0,0,0,0,0,0,0,0,0,0,0,0,0,0,0,0,0,0,0,0,0,0,0,0,0,0,0,0,0,0,0,0,0,0,0,0,0,0,0,0,0,0,0,0,0,0,0,0,0,0,0,0,0,0,0,0,0,0,0,0,0,0,0,0,0,0,0,0,0,0,0,0,0,0,0,0,0,0,0,0,0,0,0,0,0,0,0,0,0,0,0,0,0,0,0,0,0,0,0,0,0,0,0,0,0,0,0,0,0,0,0,0,{"$f":"IF($G106>0,1,0)","v":0},0,0,0,{"$f":"IF($G106>0,1,0)","v":0},0,0,0,0,0,0,0,0,0,0,null,0,0,0,0,null,0,0,0,0,0,0,0,0,0,0,0,0,null,0,0,0,null,0,0,0,null,0,0,0]
[null,null,null,null,null,"4th of 50 Guns",null,null,null,null,null,null,null,null,null,0,2.23,null,null,null,null,null,null,0,0.30480000000000002,0,0,0,0,0,0,0,0,0,0,0,0,0,0,0,0,0,0,0,0,0,0,0,0,0,0,0,0,0,0,0,0,0,0,0,0,0,0,0,0,0,0,0,0,0,0,0,0,0,0,0,0,0,0,0,0,0,0,0,0,0,0,0,0,0,0,0,0,0,0,0,0,0,0,0,0,0,0,0,0,0,0,0,0,0,0,0,0,0,0,0,0,0,0,0,0,0,0,0,0,0,0,0,0,0,0,0,0,0,0,0,0,0,0,0,0,0,0,0,0,0,0,0,0,0,0,0,0,0,0,0,0,0,0,0,{"$f":"IF($G107>0,1,0)","v":0},0,0,0,{"$f":"IF($G107>0,1,0)","v":0},0,0,0,0,0,0,0,0,0,0,null,0,0,0,0,null,0,0,0,0,0,0,0,0,0,0,0,0,null,0,0,0,null,0,0,0,null,0,0,0]
[null,null,null,null,null,"5th of 40 Guns",null,null,null,null,null,null,null,null,null,0,2.23,null,null,null,null,null,null,0,0.30480000000000002,0,0,0,0,0,0,0,0,0,0,0,0,0,0,0,0,0,0,0,0,0,0,0,0,0,0,0,0,0,0,0,0,0,0,0,0,0,0,0,0,0,0,0,0,0,0,0,0,0,0,0,0,0,0,0,0,0,0,0,0,0,0,0,0,0,0,0,0,0,0,0,0,0,0,0,0,0,0,0,0,0,0,0,0,0,0,0,0,0,0,0,0,0,0,0,0,0,0,0,0,0,0,0,0,0,0,0,0,0,0,0,0,0,0,0,0,0,0,0,0,0,0,0,0,0,0,0,0,0,0,0,0,0,0,0,{"$f":"IF($G108>0,1,0)","v":0},0,0,0,{"$f":"IF($G108>0,1,0)","v":0},0,0,0,0,0,0,0,0,0,0,null,0,0,0,0,null,0,0,0,0,0,0,0,0,0,0,0,0,null,0,0,0,null,0,0,0,null,0,0,0]
[null,null,null,null,null,"5th - 30 Guns",null,null,null,null,null,null,null,null,null,0,2.23,null,null,null,null,null,null,0,0.30480000000000002,0,0,0,0,0,0,0,0,0,0,0,0,0,0,0,0,0,0,0,0,0,0,0,0,0,0,0,0,0,0,0,0,0,0,0,0,0,0,0,0,0,0,0,0,0,0,0,0,0,0,0,0,0,0,0,0,0,0,0,0,0,0,0,0,0,0,0,0,0,0,0,0,0,0,0,0,0,0,0,0,0,0,0,0,0,0,0,0,0,0,0,0,0,0,0,0,0,0,0,0,0,0,0,0,0,0,0,0,0,0,0,0,0,0,0,0,0,0,0,0,0,0,0,0,0,0,0,0,0,0,0,0,0,0,0,{"$f":"IF($G109>0,1,0)","v":0},0,0,0,{"$f":"IF($G109>0,1,0)","v":0},0,0,0,0,0,0,0,0,0,0,null,0,0,0,0,null,0,0,0,0,0,0,0,0,0,0,0,0,null,0,0,0,null,0,0,0,null,0,0,0]
[null,null,null,null,null,"6th of 20 Guns",null,null,null,null,null,null,null,null,null,0,2.23,null,null,null,null,null,null,0,0.30480000000000002,0,0,0,0,0,0,0,0,0,0,0,0,0,0,0,0,0,0,0,0,0,0,0,0,0,0,0,0,0,0,0,0,0,0,0,0,0,0,0,0,0,0,0,0,0,0,0,0,0,0,0,0,0,0,0,0,0,0,0,0,0,0,0,0,0,0,0,0,0,0,0,0,0,0,0,0,0,0,0,0,0,0,0,0,0,0,0,0,0,0,0,0,0,0,0,0,0,0,0,0,0,0,0,0,0,0,0,0,0,0,0,0,0,0,0,0,0,0,0,0,0,0,0,0,0,0,0,0,0,0,0,0,0,0,0,{"$f":"IF($G110>0,1,0)","v":0},0,0,0,{"$f":"IF($G110>0,1,0)","v":0},0,0,0,0,0,0,0,{"$f":"IF($G104>0,1,0)","v":0},0,0,null,0,0,0,0,null,0,0,0,0,0,0,0,0,0,0,0,0,null,0,0,0,null,0,0,0,null,0,0,0]
[null,null,null,null,1794,"1st and 2nd",null,null,null,null,null,null,null,null,null,0,null,null,null,null,null,null,null,{"$f":"(G111+H111)/2","v":0},0.30480000000000002,0,0,{"$f":"AA111*0.5","v":0},0,{"$f":"Z111*0.9","v":0},0,{"$f":"AE111*0.5","v":0},0,{"$f":"Z111*0.85","v":0},{"$f":"AA111*0.7","v":0},{"$f":"AI111*0.5","v":0},0,{"$f":"Z111*0.64","v":0},0,{"$f":"AL111*0.715","v":0},{"$f":"AL111*0.92","v":0},{"$f":"Z111*$AR$2","v":0},{"$f":"AA111*$AR$2","v":0},{"$f":"(AB111*$AR$2)","v":0},0,{"$f":"AP111","v":0},{"$f":"AE111*$AR$2","v":0},{"$f":"(AF111*$AR$2)","v":0},0,{"$f":"(AH111*($AR$2*(3/5)))","v":0},{"$f":"AI111*($AR$2*(7/10))","v":0},{"$f":"(AJ111*$AR$2)","v":0},0,{"$f":"AL111*(1+(5/9))*$AR$2","v":0},0,{"$f":"AN111*(Inch_to_Yard*(7/8))","v":0},{"$f":"AO111*(Inch_to_Yard*(1/2))","v":0},{"$f":"Z111*(8/9)","v":0},{"$f":"BF111*0.714","v":0},0,0,{"$f":"BF111*0.875","v":0},{"$f":"BG111*(7/8)","v":0},0,0,{"$f":"BK111","v":0},{"$f":"BG111*(2/3)","v":0},0,0,0,{"$f":"BU111*(5/8)","v":0},0,{"$f":"BG111","v":0},{"$f":"BL111","v":0},{"$f":"BK111","v":0},{"$f":"BL111","v":0},{"$f":"BF111*(5/9)","v":0},{"$f":"BG111/2","v":0},{"$f":"BG111*(5/9)","v":0},{"$f":"BK111/2","v":0},{"$f":"BY111*(4/7)","v":0},{"$f":"BZ111*(4/7)","v":0},{"$f":"CA111*(4/7)","v":0},{"$f":"CB111*(4/7)","v":0},{"$f":"BF111*(($CK$2)*(7/10))","v":0},{"$f":"BG111*(($CK$2)*(5/8))","v":0},{"$f":"BH111*(($CK$2)*(3/5))","v":0},{"$f":"CH111/2","v":0},{"$f":"BJ111*(($CK$2)*(7/10))","v":0},{"$f":"BK111*(($CK$2)*(5/8))","v":0},{"$f":"BL111*(($CK$2)*(3/5))","v":0},{"$f":"CL111/2","v":0},{"$f":"BN111*(($CK$2)*(5/8))","v":0},{"$f":"BO111*(($CK$2)*(5/8))","v":0},{"$f":"BP111*(($CK$2)*(3/5))","v":0},{"$f":"CP111/2","v":0},0,{"$f":"CV111","v":0},0,{"$f":"BU111*(($CK$2)*(5/8))","v":0},{"$f":"CM111","v":0},{"$f":"BW111*(($CK$2)*(5/8))","v":0},{"$f":"BX111*(($CK$2)*(3/5))","v":0},{"$f":"BY111*($CZ$2/100)","v":0},{"$f":"BZ111*($CZ$2/100)","v":0},{"$f":"CA111*($CZ$2/100)","v":0},{"$f":"CB111*($CZ$2/100)","v":0},{"$f":"CC111*($CZ$2/100)","v":0},{"$f":"CD111*($CZ$2/100)","v":0},{"$f":"CE111*($CZ$2/100)","v":0},{"$f":"CF111*($CZ$2/100)","v":0},{"$f":"AP111*(3/4)","v":0},{"$f":"AT111*(3/4)","v":0},{"$f":"AX111*(3/4)","v":0},{"$f":"BB111*(2/3)","v":0},0,0,0,0,0,0,0,0,0,0,0,0,0,0,0,0,0,0,0,0,0,0,0,0,0,0,0,0,0,0,0,0,0,0,0,0,0,0,0,0,0,0,0,0,0,{"$f":"IF($G111>0,3,0)","v":0},0,0,0,{"$f":"IF($G111>0,3,0)","v":0},0,0,0,0,0,0,0,0,0,0,{"$f":"FS111","v":0},0,0,0,0,{"$f":"FX111","v":0},0,0,0,0,0,0,0,0,0,0,0,0,null,0,0,0,null,{"$f":"GI111*0.4","v":0},{"$f":"GJ111*0.4","v":0},{"$f":"GK111*0.4","v":0},null,0,0,0]
[null,null,null,null,null,"3rd of 80 Guns",null,null,null,null,null,null,null,null,null,0,null,null,null,null,null,null,null,{"$f":"(G112+H112)/2","v":0},0.30480000000000002,0,0,0,0,0,0,0,0,0,{"$f":"AA112*0.7","v":0},0,0,{"$f":"Z112*0.64","v":0},0,0,0,0,0,0,0,0,0,0,0,{"$f":"(AH112*($AR$2*(3/5)))","v":0},0,0,0,{"$f":"AL112*(1+(5/9))*$AR$2","v":0},0,0,0,0,0,0,0,0,0,0,0,0,0,0,0,0,0,0,0,0,0,0,{"$f":"BF112*(5/9)","v":0},{"$f":"BG112/2","v":0},0,0,{"$f":"BY112*(4/7)","v":0},0,0,0,0,{"$f":"BG112*(($CK$2)*(5/8))","v":0},0,{"$f":"CH112/2","v":0},0,0,0,{"$f":"CL112/2","v":0},0,0,{"$f":"BP112*(($CK$2)*(3/5))","v":0},0,0,0,0,0,0,0,0,{"$f":"BY112*($CZ$2/100)","v":0},0,0,0,{"$f":"CC112*($CZ$2/100)","v":0},0,0,0,0,0,0,0,0,0,0,0,0,0,0,0,0,0,0,0,0,0,0,0,0,0,0,0,0,0,0,0,0,0,0,0,0,0,0,0,0,0,0,0,0,0,0,0,0,0,0,0,0,{"$f":"IF($G112>0,3,0)","v":0},0,0,0,{"$f":"IF($G112>0,3,0)","v":0},0,0,0,0,0,0,0,0,0,0,{"$f":"FS112","v":0},0,0,0,0,{"$f":"FX112","v":0},0,0,0,0,0,0,0,0,0,0,0,0,null,0,0,0,null,{"$f":"GI112*0.4","v":0},{"$f":"GJ112*0.4","v":0},{"$f":"GK112*0.4","v":0},null,{"$f":"GQ112*0.93","v":0},{"$f":"GR112*0.93","v":0},{"$f":"GS112*0.93","v":0}]
[null,null,null,null,null,"3rd of 74 Guns",null,null,null,null,null,null,null,null,null,0,null,null,null,null,null,null,null,0,0.30480000000000002,0,0,0,{"$f":"AB113*0.7","v":0},0,{"$f":"AD113*0.6","v":0},0,{"$f":"AF113*0.7","v":0},0,0,0,{"$f":"AJ113*0.7","v":0},{"$f":"Z113*0.66","v":0},0,0,0,0,0,0,{"$f":"AR113*(2/3)","v":0},0,0,0,{"$f":"AV113*(2/3)","v":0},{"$f":"(AH113*($AR$2*(2/3)))","v":0},0,0,{"$f":"AZ113*(2/3)","v":0},{"$f":"AL113*(1+(2/9))*$AR$2","v":0},0,0,0,0,0,{"$f":"BG113*(3/5)","v":0},{"$f":"BH113/2","v":0},0,0,{"$f":"BK113*(3/5)","v":0},{"$f":"BL113/2","v":0},0,0,{"$f":"BO113*(3/5)","v":0},{"$f":"BP113/2","v":0},0,0,0,0,0,0,0,0,0,0,0,0,0,0,0,0,0,0,0,0,0,0,0,0,0,0,0,0,0,0,0,0,0,0,0,0,0,0,0,0,0,0,0,0,0,0,0,0,0,0,0,0,0,0,0,0,0,0,0,0,0,0,0,0,0,0,0,0,0,0,0,0,0,0,0,0,0,0,0,0,0,0,0,0,0,0,0,0,0,0,0,{"$f":"IF($G113>0,3,0)","v":0},0,0,0,{"$f":"IF($G113>0,3,0)","v":0},0,0,0,0,0,0,0,0,0,0,{"$f":"FS113","v":0},0,0,0,0,{"$f":"FX113","v":0},0,0,0,0,0,0,0,0,0,0,0,0,null,0,0,0,null,0,0,0,null,0,0,0]
[null,null,null,null,null,"4th of 60 Guns",null,null,null,null,null,null,null,null,null,0,null,null,null,null,null,null,null,0,0.30480000000000002,0,0,0,0,0,0,0,0,0,0,0,0,0,0,0,0,0,0,0,0,0,0,0,0,0,0,0,0,0,0,0,0,0,0,0,0,0,0,0,0,0,0,0,0,0,0,0,0,0,0,0,0,0,0,0,0,0,0,0,0,0,0,0,0,0,0,0,0,0,0,0,0,0,0,0,0,0,0,0,0,0,0,0,0,0,0,0,0,0,0,0,0,0,0,0,0,0,0,0,0,0,0,0,0,0,0,0,0,0,0,0,0,0,0,0,0,0,0,0,0,0,0,0,0,0,0,0,0,0,0,0,0,0,0,0,{"$f":"IF($G114>0,1,0)","v":0},0,0,0,{"$f":"IF($G114>0,1,0)","v":0},0,0,0,0,0,0,0,0,0,0,null,0,0,0,0,null,0,0,0,0,0,0,0,0,0,0,0,0,null,0,0,0,null,0,0,0,null,0,0,0]
[null,null,null,null,null,"4th of 50 Guns",null,null,null,null,null,null,null,null,null,0,null,null,null,null,null,null,null,0,0.30480000000000002,0,0,0,0,0,0,0,0,0,0,0,0,0,0,0,0,0,0,0,0,0,0,0,0,0,0,0,0,0,0,0,0,0,0,0,0,0,0,0,0,0,0,0,0,0,0,0,0,0,0,0,0,0,0,0,0,0,0,0,0,0,0,0,0,0,0,0,0,0,0,0,0,0,0,0,0,0,0,0,0,0,0,0,0,0,0,0,0,0,0,0,0,0,0,0,0,0,0,0,0,0,0,0,0,0,0,0,0,0,0,0,0,0,0,0,0,0,0,0,0,0,0,0,0,0,0,0,0,0,0,0,0,0,0,0,0,0,0,0,0,0,0,0,0,0,0,0,0,0,0,null,0,0,0,0,null,0,0,0,0,0,0,0,0,0,0,0,0,null,0,0,0,null,0,0,0,null,0,0,0]
[null,null,null,null,null,"5th of 40 Guns",null,null,null,null,null,null,null,null,null,0,null,null,null,null,null,null,null,0,0.30480000000000002,0,0,0,0,0,0,0,0,0,0,0,0,0,0,0,0,0,0,0,0,0,0,0,0,0,0,0,0,0,0,0,0,0,0,0,0,0,0,0,0,0,0,0,0,0,0,0,0,0,0,0,0,0,0,0,0,0,0,0,0,0,0,0,0,0,0,0,0,0,0,0,0,0,0,0,0,0,0,0,0,0,0,0,0,0,0,0,0,0,0,0,0,0,0,0,0,0,0,0,0,0,0,0,0,0,0,0,0,0,0,0,0,0,0,0,0,0,0,0,0,0,0,0,0,0,0,0,0,0,0,0,0,0,0,0,0,0,0,0,0,0,0,0,0,0,0,0,0,0,0,null,0,0,0,0,null,0,0,0,0,0,0,0,0,0,0,0,0,null,0,0,0,null,0,0,0,null,0,0,0]
[null,null,null,null,null,"5th - 30 Guns",null,null,null,null,null,null,null,null,null,0,null,null,null,null,null,null,null,0,0.30480000000000002,0,0,0,0,0,0,0,0,0,0,0,0,0,0,0,0,0,0,0,0,0,0,0,0,0,0,0,0,0,0,0,0,0,0,0,0,0,0,0,0,0,0,0,0,0,0,0,0,0,0,0,0,0,0,0,0,0,0,0,0,0,0,0,0,0,0,0,0,0,0,0,0,0,0,0,0,0,0,0,0,0,0,0,0,0,0,0,0,0,0,0,0,0,0,0,0,0,0,0,0,0,0,0,0,0,0,0,0,0,0,0,0,0,0,0,0,0,0,0,0,0,0,0,0,0,0,0,0,0,0,0,0,0,0,0,0,0,0,0,0,0,0,0,0,0,0,0,0,0,0,null,0,0,0,0,null,0,0,0,0,0,0,0,0,0,0,0,0,null,0,0,0,null,0,0,0,null,0,0,0]
[null,null,null,null,null,"6th of 20 Guns",null,null,null,null,null,null,null,null,null,0,null,null,null,null,null,null,null,0,0.30480000000000002,0,0,0,0,0,0,0,0,0,0,0,0,0,0,0,0,0,0,0,0,0,0,0,0,0,0,0,0,0,0,0,0,0,0,0,0,0,0,0,0,0,0,0,0,0,0,0,0,0,0,0,0,0,0,0,0,0,0,0,0,0,0,0,0,0,0,0,0,0,0,0,0,0,0,0,0,0,0,0,0,0,0,0,0,0,0,0,0,0,0,0,0,0,0,0,0,0,0,0,0,0,0,0,0,0,0,0,0,0,0,0,0,0,0,0,0,0,0,0,0,0,0,0,0,0,0,0,0,0,0,0,0,0,0,0,0,0,0,0,0,0,0,0,0,0,0,0,0,0,0,null,0,0,0,0,null,0,0,0,0,0,0,0,0,0,0,0,0,null,0,0,0,null,0,0,0,null,0,0,0]
[null,null,null,null,null,"Sloops",null,null,null,null,null,null,null,null,null,0,null,null,null,null,null,null,null,0,0.30480000000000002,0,0,0,0,0,0,0,0,0,{"$f":"AA119*0.71","v":0},0,0,0,0,0,0,0,0,0,0,0,0,0,0,0,0,0,0,0,0,0,0,0,0,0,0,0,0,0,0,0,0,0,0,0,0,0,0,0,0,0,{"$f":"BF119*(5/9)","v":0},{"$f":"BG119/2","v":0},0,0,{"$f":"BY119*(4/7)","v":0},{"$f":"BZ119*(4/7)","v":0},0,0,0,{"$f":"BG119*(($CK$2)*(5/8))","v":0},0,{"$f":"CH119/2","v":0},0,0,0,{"$f":"CL119/2","v":0},0,0,{"$f":"BP119*(($CK$2)*(3/5))","v":0},0,0,0,0,0,0,0,0,{"$f":"BY119*($CZ$2/100)","v":0},{"$f":"BZ119*($CZ$2/100)","v":0},0,0,{"$f":"CC119*($CZ$2/100)","v":0},{"$f":"CD119*($CZ$2/100)","v":0},0,0,0,0,0,0,0,0,0,0,0,0,0,0,0,0,0,0,0,0,0,0,0,0,0,0,0,0,0,0,0,0,0,0,0,0,0,0,0,0,0,0,0,0,0,0,0,0,0,0,0,0,0,0,0,0,0,0,0,0,0,0,0,0,0,0,null,0,0,0,0,null,0,0,0,0,0,0,0,0,0,0,0,0,null,0,0,0,null,0,0,0,null,0,0,0]
[null,null,null,null,1805,"1st and 2nd",null,null,null,null,null,null,null,null,null,0,null,null,null,null,null,null,null,0,0.30480000000000002,0,0,0,0,0,0,0,0,0,{"$f":"AA120*0.7","v":0},0,0,{"$f":"Z120*0.64","v":0},0,0,0,0,0,0,0,0,0,0,0,{"$f":"(AH120*($AR$2*(3/5)))","v":0},0,0,0,{"$f":"AL120*(1+(5/9))*$AR$2","v":0},0,0,0,0,0,{"$f":"BG120*(2/3)","v":0},0,0,0,{"$f":"BK120*(2/3)","v":0},0,0,0,{"$f":"BO120*(2/3)","v":0},0,0,0,0,0,0,0,0,{"$f":"BF120*(5/9)","v":0},{"$f":"BG120/2","v":0},0,0,{"$f":"BY120*(4/7)","v":0},0,0,0,0,{"$f":"BG120*(($CK$2)*(5/8))","v":0},0,{"$f":"CH120/2","v":0},0,0,0,{"$f":"CL120/2","v":0},0,0,{"$f":"BP120*(($CK$2)*(3/5))","v":0},0,0,0,0,0,0,0,0,{"$f":"BY120*($CZ$2/100)","v":0},0,0,0,{"$f":"CC120*($CZ$2/100)","v":0},0,0,0,0,0,0,0,0,0,0,0,0,0,{"$f":"((AH120*$DP$2)*(4.5*25.4))/1000","v":0},0,0,0,0,0,0,0,0,0,{"$f":"CG120*(1/2)","v":0},0,0,0,{"$f":"CK120*(1/2)","v":0},0,0,0,{"$f":"CO120*(1/2)","v":0},0,0,0,0,0,0,0,0,0,0,0,0,0,0,0,0,0,0,0,0,{"$f":"IF($G120>0,3,0)","v":0},0,0,0,{"$f":"IF($G120>0,3,0)","v":0},0,0,0,0,0,0,0,0,0,0,{"$f":"FS120","v":0},0,0,0,0,{"$f":"FX120","v":0},0,0,0,0,0,0,0,0,0,0,0,0,null,0,0,0,null,0,0,0,null,0,0,0]
[null,null,null,null,null,"3rd of 80 Guns",null,null,null,null,null,null,null,null,null,0,null,null,null,null,null,null,null,0,0.30480000000000002,0,0,0,0,0,0,0,0,0,0,0,0,{"$f":"Z121*0.64","v":0},0,0,0,0,0,0,0,0,0,0,0,{"$f":"(AH121*($AR$2*(3/5)))","v":0},0,0,0,{"$f":"AL121*(1+(5/9))*$AR$2","v":0},0,0,0,0,0,{"$f":"BG121*(2/3)","v":0},0,0,0,{"$f":"BK121*(2/3)","v":0},0,0,0,{"$f":"BO121*(2/3)","v":0},0,0,0,0,0,0,0,0,{"$f":"BF121*(5/9)","v":0},{"$f":"BG121/2","v":0},0,0,0,0,0,0,0,{"$f":"BG121*(($CK$2)*(5/8))","v":0},0,{"$f":"CH121/2","v":0},0,0,0,{"$f":"CL121/2","v":0},0,0,{"$f":"BP121*(($CK$2)*(3/5))","v":0},0,0,0,0,0,0,0,0,0,0,0,0,0,0,0,0,0,0,0,0,0,0,0,0,0,0,{"$f":"((AH121*$DP$2)*(4.5*25.4))/1000","v":0},0,0,0,0,0,0,0,0,0,{"$f":"CG121*(1/2)","v":0},0,0,0,{"$f":"CK121*(1/2)","v":0},0,0,0,{"$f":"CO121*(1/2)","v":0},0,0,0,0,0,0,0,0,0,0,0,0,0,0,0,0,0,0,0,0,{"$f":"IF($G121>0,3,0)","v":0},0,0,0,{"$f":"IF($G121>0,3,0)","v":0},0,0,0,0,0,0,0,0,0,0,{"$f":"FS121","v":0},0,0,0,0,{"$f":"FX121","v":0},0,0,0,0,0,0,0,0,0,0,0,0,null,0,0,0,null,0,0,0,null,0,0,0]
[null,null,null,null,null,"3rd of 74 Guns",null,null,null,null,null,null,null,null,null,0,null,null,null,null,null,null,null,0,0.30480000000000002,0,0,0,{"$f":"AB122*0.7","v":0},0,{"$f":"AD122*0.6","v":0},0,{"$f":"AF122*0.7","v":0},0,0,0,{"$f":"AJ122*0.7","v":0},{"$f":"Z122*0.66","v":0},0,0,0,0,0,0,{"$f":"AR122*(2/3)","v":0},0,0,0,{"$f":"AV122*(2/3)","v":0},{"$f":"(AH122*($AR$2*(2/3)))","v":0},0,0,{"$f":"AZ122*(2/3)","v":0},{"$f":"AL122*(1+(2/9))*$AR$2","v":0},0,0,0,0,0,{"$f":"BG122*(3/5)","v":0},{"$f":"BH122/2","v":0},0,0,{"$f":"BK122*(3/5)","v":0},{"$f":"BL122/2","v":0},0,0,{"$f":"BO122*(3/5)","v":0},{"$f":"BP122/2","v":0},0,0,0,0,0,0,0,{"$f":"BF122*(5/9)","v":0},{"$f":"BG122/2","v":0},0,0,0,0,0,0,0,{"$f":"BG122*(($CK$2)*(5/8))","v":0},0,{"$f":"CH122/2","v":0},0,0,0,{"$f":"CL122/2","v":0},0,0,{"$f":"BP122*(($CK$2)*(3/5))","v":0},0,0,0,0,0,0,0,0,0,0,0,0,0,0,0,0,0,0,0,0,0,0,0,0,0,0,0,0,0,0,0,0,0,0,0,0,0,0,0,0,0,0,0,0,0,0,0,0,0,0,0,0,0,0,0,0,0,0,0,0,0,0,0,0,0,{"$f":"IF($G122>0,3,0)","v":0},0,0,0,{"$f":"IF($G122>0,3,0)","v":0},0,0,0,0,0,0,0,0,0,0,{"$f":"FS122","v":0},0,0,0,0,{"$f":"FX122","v":0},0,0,0,0,0,0,0,0,0,0,0,0,null,0,0,0,null,0,0,0,null,0,0,0]
[null,null,null,null,null,"4th of 60 Guns",null,null,null,null,null,null,null,null,null,0,null,null,null,null,null,null,null,0,0.30480000000000002,0,0,0,0,0,0,0,0,0,0,0,0,0,0,{"$f":"AL123*0.715","v":0},{"$f":"AL123*0.92","v":0},0,0,{"$f":"(AB123*$AR$2)","v":0},0,{"$f":"AP123","v":0},{"$f":"AE123*$AR$2","v":0},{"$f":"(AF123*$AR$2)","v":0},0,0,{"$f":"AI123*($AR$2*(7/10))","v":0},{"$f":"(AJ123*$AR$2)","v":0},0,0,0,0,0,0,0,0,0,{"$f":"BF123*0.875","v":0},{"$f":"BG123*(7/8)","v":0},0,0,{"$f":"BK123","v":0},{"$f":"BG123*(2/3)","v":0},0,0,0,{"$f":"BU123*(5/8)","v":0},0,{"$f":"BG123","v":0},{"$f":"BL123","v":0},{"$f":"BK123","v":0},{"$f":"BL123","v":0},{"$f":"BF123*(5/9)","v":0},{"$f":"BG123/2","v":0},{"$f":"BG123*(5/9)","v":0},{"$f":"BK123/2","v":0},{"$f":"BY123*(4/7)","v":0},{"$f":"BZ123*(4/7)","v":0},{"$f":"CA123*(4/7)","v":0},{"$f":"CB123*(4/7)","v":0},{"$f":"BF123*(($CK$2)*(7/10))","v":0},{"$f":"BG123*(($CK$2)*(5/8))","v":0},{"$f":"BH123*(($CK$2)*(3/5))","v":0},{"$f":"CH123/2","v":0},{"$f":"BJ123*(($CK$2)*(7/10))","v":0},{"$f":"BK123*(($CK$2)*(5/8))","v":0},{"$f":"BL123*(($CK$2)*(3/5))","v":0},{"$f":"CL123/2","v":0},{"$f":"BN123*(($CK$2)*(5/8))","v":0},{"$f":"BO123*(($CK$2)*(5/8))","v":0},{"$f":"BP123*(($CK$2)*(3/5))","v":0},{"$f":"CP123/2","v":0},0,{"$f":"CV123","v":0},0,{"$f":"BU123*(($CK$2)*(5/8))","v":0},{"$f":"CM123","v":0},{"$f":"BW123*(($CK$2)*(5/8))","v":0},{"$f":"BX123*(($CK$2)*(3/5))","v":0},{"$f":"BY123*($CZ$2/100)","v":0},{"$f":"BZ123*($CZ$2/100)","v":0},{"$f":"CA123*($CZ$2/100)","v":0},{"$f":"CB123*($CZ$2/100)","v":0},{"$f":"CC123*($CZ$2/100)","v":0},{"$f":"CD123*($CZ$2/100)","v":0},{"$f":"CE123*($CZ$2/100)","v":0},{"$f":"CF123*($CZ$2/100)","v":0},0,0,0,{"$f":"BB123*(2/3)","v":0},0,0,0,0,0,0,0,0,0,0,0,0,0,0,0,0,0,0,0,0,0,0,0,0,0,0,0,0,0,0,0,0,0,0,0,0,0,0,0,0,0,0,0,0,0,{"$f":"IF($G123>0,1,0)","v":0},0,0,0,{"$f":"IF($G123>0,1,0)","v":0},0,0,0,0,0,0,0,0,0,0,null,0,0,0,0,null,0,0,0,0,0,0,0,0,0,0,0,0,null,0,0,0,null,0,0,0,null,0,0,0]
[null,null,null,null,null,"4th of 50 Guns",null,null,null,null,null,null,null,null,null,0,null,null,null,null,null,null,null,0,0.30480000000000002,0,0,0,0,0,0,0,0,0,0,0,0,0,0,0,0,0,0,0,0,0,0,0,0,0,0,0,0,0,0,0,0,0,0,0,0,0,0,0,0,0,0,0,0,0,0,0,0,0,0,0,0,0,0,0,0,0,0,0,0,0,0,0,0,0,0,0,0,0,0,0,0,0,0,0,0,0,0,0,0,0,0,0,0,0,0,0,0,0,0,0,0,0,0,0,0,0,0,0,0,0,0,0,0,0,0,0,0,0,0,0,0,0,0,0,0,0,0,0,0,0,0,0,0,0,0,0,0,0,0,0,0,0,0,0,0,0,0,0,0,0,0,0,0,0,0,0,0,0,0,null,0,0,0,0,null,0,0,0,0,0,0,0,0,0,0,0,0,null,0,0,0,null,0,0,0,null,0,0,0]
[null,null,null,null,null,"5th of 40 Guns",null,null,null,null,null,null,null,null,null,0,null,null,null,null,null,null,null,0,0.30480000000000002,0,0,0,0,0,0,0,0,0,0,0,0,0,0,0,0,0,0,0,0,0,0,0,0,0,0,0,0,0,0,0,0,0,0,0,0,0,0,0,0,0,0,0,0,0,0,0,0,0,0,0,0,0,0,0,0,0,0,0,0,0,0,0,0,0,0,0,0,0,0,0,0,0,0,0,0,0,0,0,0,0,0,0,0,0,0,0,0,0,0,0,0,0,0,0,0,0,0,0,0,0,0,0,0,0,0,0,0,0,0,0,0,0,0,0,0,0,0,0,0,0,0,0,0,0,0,0,0,0,0,0,0,0,0,0,0,0,0,0,0,0,0,0,0,0,0,0,0,0,0,null,0,0,0,0,null,0,0,0,0,0,0,0,0,0,0,0,0,null,0,0,0,null,0,0,0,null,0,0,0]
[null,null,null,null,null,"5th - 30 Guns",null,null,null,null,null,null,null,null,null,0,null,null,null,null,null,null,null,0,0.30480000000000002,0,0,0,0,0,0,0,0,0,0,0,0,0,0,0,0,0,0,0,0,0,0,0,0,0,0,0,0,0,0,0,0,0,0,0,0,0,0,0,0,0,0,0,0,0,0,0,0,0,0,0,0,0,0,0,0,0,0,0,0,0,0,0,0,0,0,0,0,0,0,0,0,0,0,0,0,0,0,0,0,0,0,0,0,0,0,0,0,0,0,0,0,0,0,0,0,0,0,0,0,0,0,0,0,0,0,0,0,0,0,0,0,0,0,0,0,0,0,0,0,0,0,0,0,0,0,0,0,0,0,0,0,0,0,0,0,0,0,0,0,0,0,0,0,0,0,0,0,0,0,null,0,0,0,0,null,0,0,0,0,0,0,0,0,0,0,0,0,null,0,0,0,null,0,0,0,null,0,0,0]
[null,null,null,null,null,"6th of 20 Guns",null,null,null,null,null,null,null,null,null,{"$f":"IF(G127>0,Q127,0)","v":0},null,null,null,null,null,null,null,0,{"$f":"IF($X$7=1,0.3048,1)","v":0.30480000000000002},{"$f":"IF($X$7=0,(X127*Y127),X127)","v":0},{"$f":"Z127*0.6","v":0},0,0,0,0,0,0,0,0,0,0,0,0,0,0,0,0,0,0,0,0,0,0,0,0,0,0,0,0,0,0,0,0,0,0,0,0,0,0,0,0,0,0,0,0,0,0,0,0,0,0,0,0,0,0,0,0,0,0,0,0,0,0,0,0,0,0,0,0,0,0,0,0,0,0,0,0,0,0,0,0,0,0,0,0,0,0,0,0,0,0,0,{"$f":"((AD127*$DP$2)*(5*25.4))/1000","v":0},0,0,0,0,0,0,0,0,0,0,0,0,0,0,0,0,0,0,0,0,0,0,0,0,0,0,0,0,0,0,0,0,0,0,0,0,0,0,0,0,0,0,0,0,0,0,0,0,0,0,0,0,0,0,0,0,null,0,0,0,0,null,0,0,0,0,0,0,0,0,0,0,0,0,null,0,0,0,null,0,0,0,null,0,0,0]
[null,null,null,null,null,"Sloops",null,null,null,null,null,null,null,null,null,0,null,null,null,null,null,null,null,0,0.30480000000000002,0,0,0,0,0,0,0,0,0,{"$f":"AA128*0.71","v":0},0,0,0,0,0,0,0,0,0,0,0,0,0,0,0,0,0,0,0,0,0,0,0,0,0,0,0,0,0,0,0,0,0,0,0,0,0,0,0,0,0,0,0,0,0,0,0,0,0,0,0,0,0,0,0,0,0,0,0,0,0,0,0,0,0,0,0,0,0,0,0,0,0,0,0,0,0,0,0,0,0,{"$f":"Z128/10","v":0},{"$f":"AA128/10","v":0},0,{"$f":"AE128/10","v":0},{"$f":"AF128/10","v":0},0,{"$f":"DQ128","v":0},{"$f":"DQ128","v":0},0,{"$f":"DU128/2","v":0},0,{"$f":"DW128/2","v":0},{"$f":"DR128*(2/3)","v":0},0,{"$f":"DZ128/2","v":0},0,0,0,{"$f":"CJ128*(5/12)","v":0},0,0,0,{"$f":"CN128*(5/12)","v":0},0,0,0,{"$f":"CR128*(5/12)","v":0},0,0,{"$f":"CT128*(1/2)","v":0},0,{"$f":"CV128*(2/3)","v":0},{"$f":"CV128*(3/4)","v":0},{"$f":"CW128*(1/2)","v":0},{"$f":"CX128*(1/2)","v":0},{"$f":"CY128*(1/2)","v":0},{"$f":"CZ128*(2/3)","v":0},{"$f":"DA128*(2/3)","v":0},{"$f":"DB128*(2/3)","v":0},{"$f":"DC128*(2/3)","v":0},{"$f":"DD128*(1/2)","v":0},{"$f":"DE128*(1/2)","v":0},{"$f":"DF128*(1/2)","v":0},{"$f":"DG128*(1/2)","v":0},0,0,0,0,0,0,0,0,0,0,0,0,0,0,0,null,0,0,0,0,null,0,0,0,0,0,0,0,0,0,0,0,0,null,0,0,0,null,0,0,0,null,0,0,0]
[null,null,null,null,1810,"1st and 2nd",null,null,null,null,null,null,null,null,null,0,null,null,null,null,null,null,null,0,0.30480000000000002,0,0,0,0,0,0,0,0,0,{"$f":"AA129*0.7","v":0},0,0,{"$f":"Z129*0.64","v":0},0,{"$f":"AL129*0.715","v":0},{"$f":"AL129*0.92","v":0},0,0,0,0,0,0,0,0,{"$f":"(AH129*($AR$2*(3/5)))","v":0},0,0,0,{"$f":"AL129*(1+(5/9))*$AR$2","v":0},0,0,0,0,0,{"$f":"BG129*(2/3)","v":0},0,0,{"$f":"BG129*(7/8)","v":0},{"$f":"BK129*(2/3)","v":0},0,{"$f":"BK129","v":0},{"$f":"BG129*(2/3)","v":0},{"$f":"BO129*(2/3)","v":0},0,0,0,0,0,0,0,{"$f":"BL129","v":0},0,0,0,0,0,0,0,0,{"$f":"BF129*(($CK$2)*(7/10))","v":0},0,0,0,{"$f":"BJ129*(($CK$2)*(7/10))","v":0},0,0,0,{"$f":"BN129*(($CK$2)*(5/8))","v":0},0,0,0,0,0,0,0,0,0,0,0,0,0,0,0,0,0,0,0,0,0,{"$f":"BB129*(2/3)","v":0},0,0,0,0,0,0,0,{"$f":"DP129","v":0},0,0,0,0,0,0,0,0,0,0,0,0,0,0,0,0,0,0,0,0,0,0,0,0,0,0,0,0,0,0,0,0,0,0,0,0,0,{"$f":"IF($G129>0,3,0)","v":0},0,0,{"$f":"IF($G129>0,2,0)","v":0},{"$f":"IF($G129>0,3,0)","v":0},0,0,{"$f":"IF($G129>0,2,0)","v":0},0,0,0,0,0,0,0,{"$f":"FS129","v":0},{"$f":"BG129/8","v":0},0,0,0,{"$f":"FX129","v":0},0,0,0,0,0,0,0,0,0,0,0,0,null,0,0,0,null,0,0,0,null,0,0,0]
[null,null,null,null,null,"3rd of 80 Guns",null,null,null,null,null,null,null,null,null,0,null,null,null,null,null,null,null,0,0.30480000000000002,0,0,0,0,0,0,0,0,0,0,0,0,{"$f":"Z130*0.64","v":0},0,{"$f":"AL130*0.715","v":0},{"$f":"AL130*0.92","v":0},0,0,0,0,0,0,0,0,{"$f":"(AH130*($AR$2*(3/5)))","v":0},0,0,0,{"$f":"AL130*(1+(5/9))*$AR$2","v":0},0,0,0,0,0,{"$f":"BG130*(2/3)","v":0},0,0,{"$f":"BG130*(7/8)","v":0},{"$f":"BK130*(2/3)","v":0},0,{"$f":"BK130","v":0},{"$f":"BG130*(2/3)","v":0},{"$f":"BO130*(2/3)","v":0},0,0,0,0,0,0,0,{"$f":"BL130","v":0},0,0,0,0,0,0,0,0,{"$f":"BF130*(($CK$2)*(7/10))","v":0},0,0,0,{"$f":"BJ130*(($CK$2)*(7/10))","v":0},0,0,0,{"$f":"BN130*(($CK$2)*(5/8))","v":0},0,0,0,0,0,0,0,0,0,0,0,0,0,0,0,0,0,0,0,0,0,{"$f":"BB130*(2/3)","v":0},0,0,0,0,0,0,0,{"$f":"DP130","v":0},0,0,0,0,0,0,0,0,0,0,0,0,0,0,0,0,0,0,0,0,0,0,0,0,0,0,0,0,0,0,0,0,0,0,0,0,0,{"$f":"IF($G130>0,3,0)","v":0},0,0,0,{"$f":"IF($G130>0,3,0)","v":0},0,0,0,0,0,0,0,{"$f":"IF($G124>0,1,0)","v":0},0,0,{"$f":"FS130","v":0},{"$f":"BG130/8","v":0},0,0,0,{"$f":"FX130","v":0},0,0,0,0,0,0,0,0,0,0,0,0,null,0,0,0,null,0,0,0,null,0,0,0]
[null,null,null,null,null,"3rd of 74 Guns",null,null,null,null,null,null,null,null,null,0,null,null,null,null,null,null,null,0,0.30480000000000002,0,0,0,{"$f":"AB131*0.7","v":0},0,{"$f":"AD131*0.6","v":0},0,{"$f":"AF131*0.7","v":0},0,0,0,{"$f":"AJ131*0.7","v":0},{"$f":"Z131*0.66","v":0},0,{"$f":"AL131*0.715","v":0},{"$f":"AL131*0.92","v":0},0,0,{"$f":"(AB131*$AR$2)","v":0},{"$f":"AR131*(2/3)","v":0},{"$f":"AP131","v":0},{"$f":"AE131*$AR$2","v":0},{"$f":"(AF131*$AR$2)","v":0},{"$f":"AV131*(2/3)","v":0},{"$f":"(AH131*($AR$2*(2/3)))","v":0},{"$f":"AI131*($AR$2*(7/10))","v":0},{"$f":"(AJ131*$AR$2)","v":0},{"$f":"AZ131*(2/3)","v":0},{"$f":"AL131*(1+(2/9))*$AR$2","v":0},0,0,0,0,0,{"$f":"BG131*(3/5)","v":0},{"$f":"BH131/2","v":0},{"$f":"BF131*0.875","v":0},{"$f":"BG131*(7/8)","v":0},{"$f":"BK131*(3/5)","v":0},{"$f":"BL131/2","v":0},{"$f":"BK131","v":0},{"$f":"BG131*(2/3)","v":0},{"$f":"BO131*(3/5)","v":0},{"$f":"BP131/2","v":0},0,{"$f":"BU131*(5/8)","v":0},0,{"$f":"BG131","v":0},{"$f":"BL131","v":0},{"$f":"BK131","v":0},{"$f":"BL131","v":0},{"$f":"BF131*(5/9)","v":0},{"$f":"BG131/2","v":0},{"$f":"BG131*(5/9)","v":0},{"$f":"BK131/2","v":0},{"$f":"BY131*(4/7)","v":0},{"$f":"BZ131*(4/7)","v":0},{"$f":"CA131*(4/7)","v":0},{"$f":"CB131*(4/7)","v":0},{"$f":"BF131*(($CK$2)*(7/10))","v":0},{"$f":"BG131*(($CK$2)*(5/8))","v":0},{"$f":"BH131*(($CK$2)*(3/5))","v":0},{"$f":"CH131/2","v":0},{"$f":"BJ131*(($CK$2)*(7/10))","v":0},{"$f":"BK131*(($CK$2)*(5/8))","v":0},{"$f":"BL131*(($CK$2)*(3/5))","v":0},{"$f":"CL131/2","v":0},{"$f":"BN131*(($CK$2)*(5/8))","v":0},{"$f":"BO131*(($CK$2)*(5/8))","v":0},{"$f":"BP131*(($CK$2)*(3/5))","v":0},{"$f":"CP131/2","v":0},0,{"$f":"CV131","v":0},0,{"$f":"BU131*(($CK$2)*(5/8))","v":0},{"$f":"CM131","v":0},{"$f":"BW131*(($CK$2)*(5/8))","v":0},{"$f":"BX131*(($CK$2)*(3/5))","v":0},{"$f":"BY131*($CZ$2/100)","v":0},0,0,0,0,0,0,0,0,0,0,{"$f":"BB131*(2/3)","v":0},0,0,0,0,0,0,0,0,0,0,0,0,0,0,0,0,0,0,0,0,0,0,0,0,0,0,0,0,0,0,0,0,0,0,0,0,0,0,0,0,0,0,0,0,0,{"$f":"IF($G131>0,3,0)","v":0},0,0,0,{"$f":"IF($G131>0,3,0)","v":0},0,0,0,0,0,0,0,0,0,0,{"$f":"FS131","v":0},0,0,0,0,{"$f":"FX131","v":0},0,0,0,0,0,0,0,0,0,0,0,0,null,0,0,0,null,0,0,0,null,0,0,0]
[null,null,null,null,null,"4th of 60 Guns",null,null,null,null,null,null,null,null,null,0,null,null,null,null,null,null,null,0,0.30480000000000002,0,0,0,0,0,0,0,0,0,0,0,0,0,0,{"$f":"AL132*0.715","v":0},{"$f":"AL132*0.92","v":0},0,0,{"$f":"(AB132*$AR$2)","v":0},0,{"$f":"AP132","v":0},{"$f":"AE132*$AR$2","v":0},{"$f":"(AF132*$AR$2)","v":0},0,0,{"$f":"AI132*($AR$2*(7/10))","v":0},{"$f":"(AJ132*$AR$2)","v":0},0,0,0,0,0,0,0,0,0,{"$f":"BF132*0.875","v":0},{"$f":"BG132*(7/8)","v":0},0,0,{"$f":"BK132","v":0},{"$f":"BG132*(2/3)","v":0},0,0,0,{"$f":"BU132*(5/8)","v":0},0,{"$f":"BG132","v":0},{"$f":"BL132","v":0},{"$f":"BK132","v":0},{"$f":"BL132","v":0},{"$f":"BF132*(5/9)","v":0},{"$f":"BG132/2","v":0},{"$f":"BG132*(5/9)","v":0},{"$f":"BK132/2","v":0},{"$f":"BY132*(4/7)","v":0},{"$f":"BZ132*(4/7)","v":0},{"$f":"CA132*(4/7)","v":0},{"$f":"CB132*(4/7)","v":0},{"$f":"BF132*(($CK$2)*(7/10))","v":0},{"$f":"BG132*(($CK$2)*(5/8))","v":0},{"$f":"BH132*(($CK$2)*(3/5))","v":0},{"$f":"CH132/2","v":0},{"$f":"BJ132*(($CK$2)*(7/10))","v":0},{"$f":"BK132*(($CK$2)*(5/8))","v":0},{"$f":"BL132*(($CK$2)*(3/5))","v":0},{"$f":"CL132/2","v":0},{"$f":"BN132*(($CK$2)*(5/8))","v":0},{"$f":"BO132*(($CK$2)*(5/8))","v":0},{"$f":"BP132*(($CK$2)*(3/5))","v":0},{"$f":"CP132/2","v":0},0,{"$f":"CV132","v":0},0,{"$f":"BU132*(($CK$2)*(5/8))","v":0},{"$f":"CM132","v":0},{"$f":"BW132*(($CK$2)*(5/8))","v":0},{"$f":"BX132*(($CK$2)*(3/5))","v":0},{"$f":"BY132*($CZ$2/100)","v":0},{"$f":"BZ132*($CZ$2/100)","v":0},{"$f":"CA132*($CZ$2/100)","v":0},{"$f":"CB132*($CZ$2/100)","v":0},{"$f":"CC132*($CZ$2/100)","v":0},{"$f":"CD132*($CZ$2/100)","v":0},{"$f":"CE132*($CZ$2/100)","v":0},{"$f":"CF132*($CZ$2/100)","v":0},0,0,0,{"$f":"BB132*(2/3)","v":0},0,0,0,0,0,0,0,0,0,0,0,0,0,0,0,0,0,0,0,0,0,0,0,0,0,0,0,0,0,0,0,0,0,0,0,0,0,0,0,0,0,0,0,0,0,{"$f":"IF($G132>0,1,0)","v":0},0,0,0,{"$f":"IF($G132>0,1,0)","v":0},0,0,0,0,0,0,0,0,0,0,null,0,0,0,0,null,0,0,0,0,0,0,0,0,0,0,0,0,null,0,0,0,null,0,0,0,null,0,0,0]
[null,null,null,null,null,"4th of 50 Guns",null,null,null,null,null,null,null,null,null,0,null,null,null,null,null,null,null,0,0.30480000000000002,0,0,0,0,0,0,0,0,0,0,0,0,0,0,0,0,0,0,0,0,0,0,0,0,0,0,0,0,0,0,0,0,0,0,0,0,0,0,0,0,0,0,0,0,0,0,0,0,0,0,0,0,0,0,0,0,0,0,0,0,0,0,0,0,0,0,0,0,0,0,0,0,0,0,0,0,0,0,0,0,0,0,0,0,0,0,0,0,0,0,0,0,0,0,0,0,0,0,0,0,0,0,0,0,0,0,0,0,0,0,0,0,0,0,0,0,0,0,0,0,0,0,0,0,0,0,0,0,0,0,0,0,0,0,0,0,0,0,0,0,0,0,0,0,0,0,0,0,0,0,null,0,0,0,0,null,0,0,0,0,0,0,0,0,0,0,0,0,null,0,0,0,null,0,0,0,null,0,0,0]
[null,null,null,null,null,"5th of 40 Guns",null,null,null,null,null,null,null,null,null,0,null,null,null,null,null,null,null,0,0.30480000000000002,0,0,0,0,0,0,0,0,0,0,0,0,0,0,0,0,0,0,0,0,0,0,0,0,0,0,0,0,0,0,0,0,0,0,0,0,0,0,0,0,0,0,0,0,0,0,0,0,0,0,0,0,0,0,0,0,0,0,0,0,0,0,0,0,0,0,0,0,0,0,0,0,0,0,0,0,0,0,0,0,0,0,0,0,0,0,0,0,0,0,0,0,0,0,0,0,0,0,0,0,0,0,0,0,0,0,0,0,0,0,0,0,0,0,0,0,0,0,0,0,0,0,0,0,0,0,0,0,0,0,0,0,0,0,0,0,0,0,0,0,0,{"$f":"IF($G128>0,1,0)","v":0},0,0,{"$f":"IF($G134>0,1,0)","v":0},{"$f":"IF($G128>0,1,0)","v":0},0,0,0,{"$f":"BF134*0.25","v":0},null,0,{"$f":"BH134/4","v":0},{"$f":"BI134/4","v":0},{"$f":"BJ134*0.25","v":0},null,{"$f":"BK134/4","v":0},{"$f":"BL134/4","v":0},{"$f":"BM134/4","v":0},0,{"$f":"BO134/4","v":0},{"$f":"BP134/4","v":0},{"$f":"BQ134/4","v":0},{"$f":"BW134/4","v":0},{"$f":"BX134/4","v":0},0,0,0,null,0,0,0,null,0,0,0,null,0,0,0]
[null,null,null,null,null,"5th - 30 Guns",null,null,null,null,null,null,null,null,null,0,null,null,null,null,null,null,null,0,0.30480000000000002,0,0,0,0,0,0,0,0,0,0,0,0,0,0,0,0,0,0,0,0,0,0,0,0,0,0,0,0,0,0,0,0,0,0,0,0,0,0,0,0,0,0,0,0,0,0,0,0,0,0,0,0,0,0,0,0,0,0,0,0,0,0,0,0,0,0,0,0,0,0,0,0,0,0,0,0,0,0,0,0,0,0,0,0,0,0,0,0,0,0,{"$f":"((Z135*$DP$2)*(5*25.4))/1000","v":0},0,0,0,0,0,0,0,0,0,0,0,0,0,0,0,0,{"$f":"CH135*(3/7)","v":0},{"$f":"CI135*(3/7)","v":0},0,0,{"$f":"CL135*(3/7)","v":0},{"$f":"CM135*(3/7)","v":0},0,0,{"$f":"CP135*(3/7)","v":0},{"$f":"CQ135*(3/7)","v":0},0,0,0,0,0,0,0,0,0,0,0,0,0,0,0,0,0,0,0,0,0,0,0,0,0,0,0,0,{"$f":"IF($G129>0,1,0)","v":0},0,0,0,0,null,0,0,0,0,null,0,0,0,0,0,0,0,0,0,0,0,0,null,0,0,0,null,0,0,0,null,0,0,0]
[null,null,null,null,null,"6th of 20 Guns",null,null,null,null,null,null,null,null,null,0,null,null,null,null,null,null,null,0,0.30480000000000002,0,0,0,0,0,0,0,0,0,0,0,0,0,0,0,0,0,0,0,0,0,0,0,0,0,0,0,0,0,0,0,0,0,0,0,0,0,0,0,0,0,0,0,0,0,0,0,0,0,0,0,0,0,0,0,0,0,0,0,0,0,0,0,0,0,0,0,0,0,0,0,0,0,0,0,0,0,0,0,0,0,0,0,0,0,0,0,0,0,0,0,0,0,0,0,0,0,0,0,0,0,0,0,0,0,0,0,0,0,0,0,0,0,0,0,0,0,0,0,0,0,0,0,0,0,0,0,0,0,0,0,0,0,0,0,0,0,0,0,0,0,0,0,0,0,{"$f":"IF($G130>0,1,0)","v":0},0,0,0,0,null,0,0,0,0,null,0,0,0,0,0,0,0,0,0,0,0,0,null,0,0,0,null,0,0,0,null,0,0,0]
[null,null,null,null,null,"Sloops",null,null,null,null,null,null,null,null,null,0,null,null,null,null,null,null,null,0,0.30480000000000002,0,0,0,0,0,0,0,0,0,{"$f":"AA137*0.71","v":0},0,0,0,0,0,0,0,0,0,0,0,0,0,0,0,0,0,0,0,0,0,0,0,0,0,0,0,0,0,0,0,0,0,0,0,0,0,0,0,0,0,0,0,0,0,0,0,0,0,0,0,0,0,0,0,0,0,0,0,0,0,0,0,0,0,0,0,0,0,0,0,0,0,0,0,0,0,0,0,0,0,0,0,0,0,0,0,0,0,0,0,0,0,0,0,0,0,0,0,0,0,0,0,0,0,0,0,0,0,0,0,0,0,0,0,0,0,0,0,0,0,0,0,0,0,0,0,0,0,0,0,0,0,0,0,{"$f":"IF($G131>0,1,0)","v":0},0,0,0,0,null,0,0,0,0,null,0,0,0,0,0,0,0,0,0,0,0,0,null,0,0,0,null,0,0,0,null,0,0,0]
[null,null,null,null,1811,"1st and 2nd",null,null,null,null,null,null,null,null,null,0,null,null,null,null,null,null,null,0,0.30480000000000002,0,0,0,0,0,0,0,0,0,{"$f":"AA138*0.7","v":0},0,0,{"$f":"Z138*0.64","v":0},0,{"$f":"AL138*0.715","v":0},{"$f":"AL138*0.92","v":0},0,0,0,0,0,0,0,0,{"$f":"(AH138*($AR$2*(3/5)))","v":0},0,0,0,{"$f":"AL138*(1+(5/9))*$AR$2","v":0},0,0,0,0,0,{"$f":"BG138*(2/3)","v":0},0,0,{"$f":"BG138*(7/8)","v":0},{"$f":"BK138*(2/3)","v":0},0,{"$f":"BK138","v":0},{"$f":"BG138*(2/3)","v":0},{"$f":"BO138*(2/3)","v":0},0,0,0,0,0,0,0,{"$f":"BL138","v":0},0,0,0,0,0,0,0,0,{"$f":"BF138*(($CK$2)*(7/10))","v":0},0,0,0,{"$f":"BJ138*(($CK$2)*(7/10))","v":0},0,0,0,{"$f":"BN138*(($CK$2)*(5/8))","v":0},0,0,0,0,0,0,0,0,0,0,0,0,0,0,0,0,0,0,0,0,0,{"$f":"BB138*(2/3)","v":0},0,0,0,0,0,0,0,0,0,0,0,0,0,0,0,0,0,0,0,0,0,0,0,0,0,0,0,0,0,0,0,0,0,0,0,0,0,0,0,0,0,0,0,0,0,{"$f":"IF($G138>0,3,0)","v":0},0,0,0,{"$f":"IF($G138>0,3,0)","v":0},0,0,0,0,0,0,0,0,0,0,null,0,0,0,0,null,0,0,0,0,0,0,0,0,0,0,0,0,null,0,0,0,null,0,0,0,null,0,0,0]
[null,null,null,null,null,"3rd of 80 Guns",null,null,null,null,null,null,null,null,null,0,null,null,null,null,null,null,null,0,0.30480000000000002,0,0,0,0,0,0,0,0,0,0,0,0,{"$f":"Z139*0.64","v":0},0,{"$f":"AL139*0.715","v":0},{"$f":"AL139*0.92","v":0},0,0,0,0,0,0,0,0,{"$f":"(AH139*($AR$2*(3/5)))","v":0},0,0,0,{"$f":"AL139*(1+(5/9))*$AR$2","v":0},0,0,0,0,0,{"$f":"BG139*(2/3)","v":0},0,0,{"$f":"BG139*(7/8)","v":0},{"$f":"BK139*(2/3)","v":0},0,{"$f":"BK139","v":0},{"$f":"BG139*(2/3)","v":0},{"$f":"BO139*(2/3)","v":0},0,0,0,0,0,0,0,{"$f":"BL139","v":0},0,0,0,0,0,0,0,0,{"$f":"BF139*(($CK$2)*(7/10))","v":0},0,0,0,{"$f":"BJ139*(($CK$2)*(7/10))","v":0},0,0,0,{"$f":"BN139*(($CK$2)*(5/8))","v":0},0,0,0,0,0,0,0,0,0,0,0,0,0,0,0,0,0,0,0,0,0,{"$f":"BB139*(2/3)","v":0},0,0,0,0,0,0,0,0,0,0,0,0,0,0,0,0,0,0,0,0,0,0,0,0,0,0,0,0,0,0,0,0,0,0,0,0,0,0,0,0,0,0,0,0,0,{"$f":"IF($G139>0,3,0)","v":0},0,0,0,{"$f":"IF($G139>0,3,0)","v":0},0,0,0,0,0,0,0,0,0,0,null,0,0,0,0,null,0,0,0,0,0,0,0,0,0,0,0,0,null,0,0,0,null,0,0,0,null,0,0,0]
[null,null,null,null,null,"3rd of 74 Guns",null,null,null,null,null,null,null,null,null,0,null,null,null,null,null,null,null,0,0.30480000000000002,0,0,0,{"$f":"AB140*0.7","v":0},0,{"$f":"AD140*0.6","v":0},0,{"$f":"AF140*0.7","v":0},0,0,0,{"$f":"AJ140*0.7","v":0},{"$f":"Z140*0.66","v":0},0,{"$f":"AL140*0.715","v":0},{"$f":"AL140*0.92","v":0},0,0,{"$f":"(AB140*$AR$2)","v":0},{"$f":"AR140*(2/3)","v":0},{"$f":"AP140","v":0},{"$f":"AE140*$AR$2","v":0},{"$f":"(AF140*$AR$2)","v":0},{"$f":"AV140*(2/3)","v":0},{"$f":"(AH140*($AR$2*(2/3)))","v":0},{"$f":"AI140*($AR$2*(7/10))","v":0},{"$f":"(AJ140*$AR$2)","v":0},{"$f":"AZ140*(2/3)","v":0},{"$f":"AL140*(1+(2/9))*$AR$2","v":0},0,0,0,0,0,{"$f":"BG140*(3/5)","v":0},{"$f":"BH140/2","v":0},{"$f":"BF140*0.875","v":0},{"$f":"BG140*(7/8)","v":0},{"$f":"BK140*(3/5)","v":0},{"$f":"BL140/2","v":0},{"$f":"BK140","v":0},{"$f":"BG140*(2/3)","v":0},{"$f":"BO140*(3/5)","v":0},{"$f":"BP140/2","v":0},0,{"$f":"BU140*(5/8)","v":0},0,{"$f":"BG140","v":0},{"$f":"BL140","v":0},{"$f":"BK140","v":0},{"$f":"BL140","v":0},{"$f":"BF140*(5/9)","v":0},{"$f":"BG140/2","v":0},{"$f":"BG140*(5/9)","v":0},{"$f":"BK140/2","v":0},{"$f":"BY140*(4/7)","v":0},{"$f":"BZ140*(4/7)","v":0},{"$f":"CA140*(4/7)","v":0},{"$f":"CB140*(4/7)","v":0},{"$f":"BF140*(($CK$2)*(7/10))","v":0},{"$f":"BG140*(($CK$2)*(5/8))","v":0},{"$f":"BH140*(($CK$2)*(3/5))","v":0},{"$f":"CH140/2","v":0},{"$f":"BJ140*(($CK$2)*(7/10))","v":0},{"$f":"BK140*(($CK$2)*(5/8))","v":0},{"$f":"BL140*(($CK$2)*(3/5))","v":0},{"$f":"CL140/2","v":0},{"$f":"BN140*(($CK$2)*(5/8))","v":0},{"$f":"BO140*(($CK$2)*(5/8))","v":0},{"$f":"BP140*(($CK$2)*(3/5))","v":0},{"$f":"CP140/2","v":0},0,{"$f":"CV140","v":0},0,{"$f":"BU140*(($CK$2)*(5/8))","v":0},{"$f":"CM140","v":0},{"$f":"BW140*(($CK$2)*(5/8))","v":0},{"$f":"BX140*(($CK$2)*(3/5))","v":0},{"$f":"BY140*($CZ$2/100)","v":0},0,0,0,0,0,0,0,0,0,0,{"$f":"BB140*(2/3)","v":0},0,0,0,0,0,0,0,0,0,0,0,0,0,0,0,0,0,0,0,0,0,0,0,0,0,0,0,0,0,0,0,0,0,0,0,0,0,0,0,0,0,0,0,0,0,{"$f":"IF($G140>0,3,0)","v":0},0,0,0,{"$f":"IF($G140>0,3,0)","v":0},0,0,0,0,0,0,0,0,0,0,null,0,0,0,0,null,0,0,0,0,0,0,0,0,0,0,0,0,null,0,0,0,null,0,0,0,null,0,0,0]
[null,null,null,null,null,"4th of 60 Guns",null,null,null,null,null,null,null,null,null,0,null,null,null,null,null,null,null,0,0.30480000000000002,0,0,0,0,0,0,0,0,0,0,0,0,0,0,{"$f":"AL141*0.715","v":0},{"$f":"AL141*0.92","v":0},0,0,{"$f":"(AB141*$AR$2)","v":0},0,{"$f":"AP141","v":0},{"$f":"AE141*$AR$2","v":0},{"$f":"(AF141*$AR$2)","v":0},0,0,{"$f":"AI141*($AR$2*(7/10))","v":0},{"$f":"(AJ141*$AR$2)","v":0},0,0,0,0,0,0,0,0,0,{"$f":"BF141*0.875","v":0},{"$f":"BG141*(7/8)","v":0},0,0,{"$f":"BK141","v":0},{"$f":"BG141*(2/3)","v":0},0,0,0,{"$f":"BU141*(5/8)","v":0},0,{"$f":"BG141","v":0},{"$f":"BL141","v":0},{"$f":"BK141","v":0},{"$f":"BL141","v":0},{"$f":"BF141*(5/9)","v":0},{"$f":"BG141/2","v":0},{"$f":"BG141*(5/9)","v":0},{"$f":"BK141/2","v":0},{"$f":"BY141*(4/7)","v":0},{"$f":"BZ141*(4/7)","v":0},{"$f":"CA141*(4/7)","v":0},{"$f":"CB141*(4/7)","v":0},{"$f":"BF141*(($CK$2)*(7/10))","v":0},{"$f":"BG141*(($CK$2)*(5/8))","v":0},{"$f":"BH141*(($CK$2)*(3/5))","v":0},{"$f":"CH141/2","v":0},{"$f":"BJ141*(($CK$2)*(7/10))","v":0},{"$f":"BK141*(($CK$2)*(5/8))","v":0},{"$f":"BL141*(($CK$2)*(3/5))","v":0},{"$f":"CL141/2","v":0},{"$f":"BN141*(($CK$2)*(5/8))","v":0},{"$f":"BO141*(($CK$2)*(5/8))","v":0},{"$f":"BP141*(($CK$2)*(3/5))","v":0},{"$f":"CP141/2","v":0},0,{"$f":"CV141","v":0},0,{"$f":"BU141*(($CK$2)*(5/8))","v":0},{"$f":"CM141","v":0},{"$f":"BW141*(($CK$2)*(5/8))","v":0},{"$f":"BX141*(($CK$2)*(3/5))","v":0},{"$f":"BY141*($CZ$2/100)","v":0},{"$f":"BZ141*($CZ$2/100)","v":0},{"$f":"CA141*($CZ$2/100)","v":0},{"$f":"CB141*($CZ$2/100)","v":0},{"$f":"CC141*($CZ$2/100)","v":0},{"$f":"CD141*($CZ$2/100)","v":0},{"$f":"CE141*($CZ$2/100)","v":0},{"$f":"CF141*($CZ$2/100)","v":0},0,0,0,{"$f":"BB141*(2/3)","v":0},0,0,0,0,0,0,0,0,0,0,0,0,0,0,0,0,0,0,0,0,0,0,0,0,0,0,0,0,0,0,0,0,0,0,0,0,0,0,0,0,0,0,0,0,0,{"$f":"IF($G141>0,1,0)","v":0},0,0,0,{"$f":"IF($G141>0,1,0)","v":0},0,0,0,0,0,0,0,0,0,0,null,0,0,0,0,null,0,0,0,0,0,0,0,0,0,0,0,0,null,0,0,0,null,0,0,0,null,0,0,0]
[null,null,null,null,null,"4th of 50 Guns",null,null,null,null,null,null,null,null,null,0,null,null,null,null,null,null,null,0,0.30480000000000002,0,0,0,0,0,0,0,0,0,0,0,0,0,0,0,0,0,0,0,0,0,0,0,0,0,0,0,0,0,0,0,0,0,0,0,0,0,0,0,0,0,0,0,0,0,0,0,0,0,0,0,0,0,0,0,0,0,0,0,0,0,0,0,0,0,0,0,0,0,0,0,0,0,0,0,0,0,0,0,0,0,0,0,0,0,0,0,0,0,0,0,0,0,0,0,0,0,0,0,0,0,0,0,0,0,0,0,0,0,0,0,0,0,0,0,0,0,0,0,0,0,0,0,0,0,0,0,0,0,0,0,0,0,0,0,0,0,0,0,0,0,0,0,0,0,0,0,0,0,0,null,0,0,0,0,null,0,0,0,0,0,0,0,0,0,0,0,0,null,0,0,0,null,0,0,0,null,0,0,0]
[null,null,null,null,null,"5th of 40 Guns",null,null,null,null,null,null,null,null,null,0,null,null,null,null,null,null,null,0,0.30480000000000002,0,0,0,0,0,0,0,0,0,0,0,0,0,0,0,0,0,0,0,0,0,0,0,0,0,0,0,0,0,0,0,0,0,0,0,0,0,0,0,0,0,0,0,0,0,0,0,0,0,0,0,0,0,0,0,0,0,0,0,0,0,0,0,0,0,0,0,0,0,0,0,0,0,0,0,0,0,0,0,0,0,0,0,0,0,0,0,0,0,0,0,0,0,0,0,0,0,0,0,0,0,0,0,0,0,0,0,0,0,0,0,0,0,0,0,0,0,0,0,0,0,0,0,0,0,0,0,0,0,0,0,0,0,0,0,0,0,0,0,0,0,0,0,0,0,0,0,0,0,0,null,0,0,0,0,null,0,0,0,0,0,0,0,0,0,0,0,0,null,0,0,0,null,0,0,0,null,0,0,0]
[null,null,null,null,null,"5th - 30 Guns",null,null,null,null,null,null,null,null,null,0,null,null,null,null,null,null,null,0,0.30480000000000002,0,0,0,0,0,0,0,0,0,0,0,0,0,0,0,0,0,0,0,0,0,0,0,0,0,0,0,0,0,0,0,0,0,0,0,0,0,0,0,0,0,0,0,0,0,0,0,0,0,0,0,0,0,0,0,0,0,0,0,0,0,0,0,0,0,0,0,0,0,0,0,0,0,0,0,0,0,0,0,0,0,0,0,0,0,0,0,0,0,0,0,0,0,0,0,0,0,0,0,0,0,0,0,0,0,0,0,0,0,0,0,0,0,0,0,0,0,0,0,0,0,0,0,0,0,0,0,0,0,0,0,0,0,0,0,0,0,0,0,0,0,0,0,0,0,0,0,0,0,0,null,0,0,0,0,null,0,0,0,0,0,0,0,0,0,0,0,0,null,0,0,0,null,0,0,0,null,0,0,0]
[null,null,null,null,null,"6th of 20 Guns",null,null,null,null,null,null,null,null,null,0,null,null,null,null,null,null,null,0,0.30480000000000002,0,0,0,0,0,0,0,0,0,0,0,0,0,0,0,0,0,0,0,0,0,0,0,0,0,0,0,0,0,0,0,0,0,0,0,0,0,0,0,0,0,0,0,0,0,0,0,0,0,0,0,0,0,0,0,0,0,0,0,0,0,0,0,0,0,0,0,0,0,0,0,0,0,0,0,0,0,0,0,0,0,0,0,0,0,0,0,0,0,0,0,0,0,0,0,0,0,0,0,0,0,0,0,0,0,0,0,0,0,0,0,0,0,0,0,0,0,0,0,0,0,0,0,0,0,0,0,0,0,0,0,0,0,0,0,0,0,0,0,0,0,0,0,0,0,0,0,0,0,0,null,0,0,0,0,null,0,0,0,0,0,0,0,0,0,0,0,0,null,0,0,0,null,0,0,0,null,0,0,0]
[null,null,null,null,null,"Sloops",null,null,null,null,null,null,null,null,null,0,null,null,null,null,null,null,null,0,0.30480000000000002,0,0,0,0,0,0,0,0,0,{"$f":"AA146*0.71","v":0},0,0,0,0,0,0,0,0,0,0,0,0,0,0,0,0,0,0,0,0,0,0,0,0,0,0,0,0,0,0,0,0,0,0,0,0,0,0,0,0,0,0,0,0,0,0,0,0,0,0,0,0,0,0,0,0,0,0,0,0,0,0,0,0,0,0,0,0,0,0,0,0,0,0,0,0,0,0,0,0,0,0,0,0,0,0,0,0,0,0,0,0,0,0,0,0,0,0,0,0,0,0,0,0,0,0,0,0,0,0,0,0,0,0,0,0,0,0,0,0,0,0,0,0,0,0,0,0,0,0,0,0,0,0,0,0,0,0,0,0,null,0,0,0,0,null,0,0,0,0,0,0,0,0,0,0,0,0,null,0,0,0,null,0,0,0,null,0,0,0]
[null,null,null,null,1815,"1st",null,null,null,null,null,null,null,null,null,0,null,null,null,null,null,null,null,0,0.30480000000000002,0,0,0,0,0,0,0,0,{"$f":"Z147*0.87","v":0},{"$f":"AA147*0.75","v":0},0,0,{"$f":"Z147*0.64","v":0},0,{"$f":"AL147*0.715","v":0},{"$f":"AL147*0.92","v":0},0,0,{"$f":"(AB147*$AR$2)","v":0},0,{"$f":"AP147","v":0},{"$f":"AE147*$AR$2","v":0},{"$f":"(AF147*$AR$2)","v":0},0,{"$f":"(AH147*($AR$2*(3/5)))","v":0},{"$f":"AI147*($AR$2*(7/10))","v":0},{"$f":"(AJ147*$AR$2)","v":0},0,{"$f":"AL147*(1+(5/9))*$AR$2","v":0},0,0,0,0,0,{"$f":"BG147*(2/3)","v":0},0,{"$f":"BF147*0.875","v":0},{"$f":"BG147*(7/8)","v":0},{"$f":"BK147*(2/3)","v":0},0,{"$f":"BK147","v":0},{"$f":"BG147*(2/3)","v":0},{"$f":"BO147*(2/3)","v":0},0,0,{"$f":"BU147*(5/8)","v":0},null,{"$f":"BG147","v":0},{"$f":"BL147","v":0},{"$f":"BK147","v":0},0,{"$f":"BF147*(5/9)","v":0},{"$f":"BG147/2","v":0},{"$f":"BG147*(5/9)","v":0},{"$f":"BK147/2","v":0},{"$f":"BY147*(4/7)","v":0},0,{"$f":"CA147*(4/7)","v":0},0,{"$f":"BF147*(($CK$2)*(7/10))","v":0},{"$f":"BG147*(($CK$2)*(5/8))","v":0},{"$f":"BH147*(($CK$2)*(3/5))","v":0},{"$f":"CH147/2","v":0},{"$f":"BJ147*(($CK$2)*(7/10))","v":0},{"$f":"BK147*(($CK$2)*(5/8))","v":0},{"$f":"BL147*(($CK$2)*(3/5))","v":0},{"$f":"CL147/2","v":0},{"$f":"BN147*(($CK$2)*(5/8))","v":0},0,{"$f":"BP147*(($CK$2)*(3/5))","v":0},{"$f":"CP147/2","v":0},0,{"$f":"CV147","v":0},0,{"$f":"BU147*(($CK$2)*(5/8))","v":0},{"$f":"CM147","v":0},{"$f":"BW147*(($CK$2)*(5/8))","v":0},{"$f":"BX147*(($CK$2)*(3/5))","v":0},{"$f":"BY147*($CZ$2/100)","v":0},0,{"$f":"CA147*($CZ$2/100)","v":0},0,{"$f":"CC147*($CZ$2/100)","v":0},0,{"$f":"CE147*($CZ$2/100)","v":0},0,0,0,0,{"$f":"BB147*(2/3)","v":0},0,0,0,0,0,0,0,0,0,0,0,0,0,0,0,0,0,0,0,0,0,0,0,0,0,0,0,0,0,0,0,0,0,0,0,0,0,0,0,0,0,0,0,0,0,{"$f":"IF($G147>0,3,0)","v":0},0,0,0,{"$f":"IF($G147>0,3,0)","v":0},0,0,0,0,0,0,0,0,0,0,{"$f":"BF147/2","v":0},0,0,0,0,{"$f":"BK147/2","v":0},0,0,0,0,0,0,0,0,0,0,0,0,null,0,0,0,null,0,0,0,null,0,0,0]
[null,null,null,null,null,"2nd",null,null,null,null,null,null,null,null,null,0,null,null,null,null,null,null,null,0,0.30480000000000002,0,0,0,0,0,0,0,0,{"$f":"Z148*0.86","v":0},0,0,0,{"$f":"Z148*0.64","v":0},0,0,0,0,0,0,0,0,0,0,0,{"$f":"(AH148*($AR$2*(3/5)))","v":0},0,0,0,{"$f":"AL148*(1+(5/9))*$AR$2","v":0},0,0,0,0,0,{"$f":"BG148*(2/3)","v":0},0,0,0,{"$f":"BK148*(2/3)","v":0},0,0,0,{"$f":"BO148*(2/3)","v":0},0,0,0,null,0,0,0,0,0,0,0,0,0,0,0,0,0,0,0,0,0,0,0,0,0,0,0,0,0,0,0,0,0,0,0,0,0,0,0,0,0,0,0,0,0,0,0,0,0,0,0,0,0,0,0,0,0,0,0,0,0,0,0,0,0,0,0,0,0,0,0,0,0,0,0,0,0,0,0,0,0,0,0,0,0,0,0,0,0,0,0,0,{"$f":"IF($G148>0,3,0)","v":0},0,0,0,{"$f":"IF($G148>0,3,0)","v":0},0,{"$f":"IF($G142>0,1,0)","v":0},0,0,0,0,0,0,0,0,{"$f":"FS148","v":0},0,0,0,0,{"$f":"FX148","v":0},0,0,0,0,0,0,0,0,0,0,0,0,null,0,0,0,null,0,0,0,null,0,0,0]
[null,null,null,null,null,"3rd",null,null,null,null,null,null,null,null,null,{"$f":"IF(G149>0,Q149,0)","v":0},null,null,null,null,null,null,null,{"$f":"(G149+H149)/2","v":0},0.30480000000000002,{"$f":"IF($X$7=0,(X149*Y149),X149)","v":0},0,0,0,{"$f":"Z149*0.9","v":0},0,0,0,{"$f":"Z149*0.86","v":0},0,0,0,{"$f":"Z149*0.64","v":0},0,0,0,{"$f":"Z149*$AR$2","v":0},{"$f":"AA149*$AR$2","v":0},0,0,0,0,0,0,{"$f":"(AH149*($AR$2*(3/5)))","v":0},0,0,0,{"$f":"AL149*(1+(5/9))*$AR$2","v":0},0,{"$f":"AN149*(Inch_to_Yard*(7/8))","v":0},{"$f":"AO149*(Inch_to_Yard*(1/2))","v":0},{"$f":"Z149*(8/9)","v":0},0,{"$f":"BG149*(2/3)","v":0},0,0,0,{"$f":"BK149*(2/3)","v":0},0,0,0,{"$f":"BO149*(2/3)","v":0},0,0,0,null,0,0,0,0,0,0,0,0,{"$f":"BY149*(4/7)","v":0},{"$f":"BZ149*(4/7)","v":0},0,0,0,0,0,0,0,0,0,0,0,0,0,0,0,0,0,0,0,0,0,{"$f":"BY149*($CZ$2/100)","v":0},{"$f":"BZ149*($CZ$2/100)","v":0},0,0,{"$f":"CC149*($CZ$2/100)","v":0},{"$f":"CD149*($CZ$2/100)","v":0},0,0,{"$f":"AP149*(3/4)","v":0},{"$f":"AT149*(3/4)","v":0},{"$f":"AX149*(3/4)","v":0},0,{"$f":"((Z149*$DP$2)*(5*25.4))/1000","v":0},{"$f":"Z149/10","v":0},{"$f":"AA149/10","v":0},{"$f":"((AD149*$DP$2)*(5*25.4))/1000","v":0},{"$f":"AE149/10","v":0},{"$f":"AF149/10","v":0},{"$f":"((AH149*$DP$2)*(4.5*25.4))/1000","v":0},{"$f":"DP149","v":0},{"$f":"DQ149","v":0},{"$f":"DM149*(4/5)","v":0},0,{"$f":"DP149*(4/5)","v":0},0,{"$f":"DR149*(2/3)","v":0},{"$f":"DS149*(4/5)","v":0},0,{"$f":"CG149*(1/2)","v":0},0,0,{"$f":"CJ149*(5/12)","v":0},{"$f":"CK149*(1/2)","v":0},0,0,{"$f":"CN149*(5/12)","v":0},{"$f":"CO149*(1/2)","v":0},0,0,{"$f":"CR149*(5/12)","v":0},{"$f":"CS149*(2/3)","v":0},{"$f":"CS149*(2/5)","v":0},{"$f":"CT149*(1/2)","v":0},{"$f":"CU149*(1/2)","v":0},{"$f":"CV149*(2/3)","v":0},{"$f":"CV149*(3/4)","v":0},{"$f":"CW149*(1/2)","v":0},{"$f":"CX149*(1/2)","v":0},{"$f":"CY149*(1/2)","v":0},{"$f":"CZ149*(2/3)","v":0},{"$f":"DA149*(2/3)","v":0},{"$f":"DB149*(2/3)","v":0},{"$f":"DC149*(2/3)","v":0},{"$f":"DD149*(1/2)","v":0},{"$f":"DE149*(1/2)","v":0},{"$f":"DF149*(1/2)","v":0},{"$f":"DG149*(1/2)","v":0},{"$f":"IF($G149>0,3,0)","v":0},0,0,0,{"$f":"IF($G149>0,3,0)","v":0},0,{"$f":"IF($G143>0,1,0)","v":0},0,0,0,0,0,0,0,{"$f":"BF149*0.25","v":0},{"$f":"FS149","v":0},{"$f":"BG149/8","v":0},{"$f":"BH149/4","v":0},{"$f":"BI149/4","v":0},{"$f":"BJ149*0.25","v":0},{"$f":"FX149","v":0},{"$f":"BK149/4","v":0},0,0,0,0,0,0,{"$f":"BW149/4","v":0},{"$f":"BX149/4","v":0},{"$f":"AA149*0.33","v":0},{"$f":"AE149*0.33","v":0},{"$f":"AI149*0.33","v":0},null,{"$f":"GI149*0.75","v":0},{"$f":"GJ149*0.75","v":0},{"$f":"GK149*0.75","v":0},null,{"$f":"GI149*0.4","v":0},{"$f":"GJ149*0.4","v":0},{"$f":"GK149*0.4","v":0},null,{"$f":"GQ149*0.93","v":0},{"$f":"GR149*0.93","v":0},{"$f":"GS149*0.93","v":0}]
[null,null,null,null,null,"4th",null,null,null,null,null,null,null,null,null,0,null,null,null,null,null,null,null,0,0.30480000000000002,0,0,0,0,0,0,0,0,{"$f":"Z150*0.83","v":0},0,0,0,{"$f":"Z150*0.66","v":0},0,0,0,0,0,0,0,0,0,0,0,{"$f":"(AH150*($AR$2*(2/3)))","v":0},0,0,0,{"$f":"AL150*(1+(2/9))*$AR$2","v":0},0,0,0,0,0,{"$f":"BG150*(3/5)","v":0},0,0,0,{"$f":"BK150*(3/5)","v":0},0,0,0,{"$f":"BO150*(3/5)","v":0},0,0,0,null,0,0,0,0,0,0,0,0,0,0,0,0,0,0,0,0,0,0,0,0,0,0,0,0,0,0,0,0,0,0,0,0,0,0,0,0,0,0,0,0,0,0,0,0,0,0,0,0,0,0,0,0,0,0,0,0,0,0,0,0,0,0,0,0,0,0,0,0,0,0,0,0,0,0,0,0,0,0,0,0,0,0,0,0,0,0,0,0,{"$f":"IF($G150>0,1,0)","v":0},0,0,0,{"$f":"IF($G150>0,1,0)","v":0},0,{"$f":"IF($G143>0,1,0)","v":0},0,0,0,{"$f":"IF($G143>0,1,0)","v":0},0,{"$f":"IF($G143>0,1,0)","v":0},0,0,{"$f":"BF150/2","v":0},0,0,0,0,{"$f":"BK150/2","v":0},0,0,0,0,0,0,0,0,0,0,0,0,null,0,0,0,null,0,0,0,null,0,0,0]
[null,null,null,null,null,"5th",null,null,null,null,null,null,null,null,null,{"$f":"IF(G151>0,Q151,0)","v":0},null,null,null,null,null,null,null,{"$f":"(G151+H151)/2","v":0},0.30480000000000002,{"$f":"IF($X$7=0,(X151*Y151),X151)","v":0},0,0,0,{"$f":"Z151*0.9","v":0},0,0,0,{"$f":"Z151*0.83","v":0},0,0,0,{"$f":"Z151*0.66","v":0},0,0,0,{"$f":"Z151*$AR$2","v":0},{"$f":"AA151*$AR$2","v":0},0,0,0,0,0,0,{"$f":"(AH151*($AR$2*(2/3)))","v":0},0,0,0,{"$f":"AL151*(1+(2/9))*$AR$2","v":0},0,{"$f":"AN151*(Inch_to_Yard*(7/8))","v":0},{"$f":"AO151*(Inch_to_Yard*(1/2))","v":0},{"$f":"Z151*(8/9)","v":0},0,{"$f":"BG151*(3/5)","v":0},0,0,0,{"$f":"BK151*(3/5)","v":0},0,0,0,{"$f":"BO151*(3/5)","v":0},0,0,0,null,0,0,0,0,0,0,0,0,{"$f":"BY151*(4/7)","v":0},{"$f":"BZ151*(4/7)","v":0},0,0,0,0,0,0,0,0,0,0,0,0,0,0,0,0,0,0,0,0,0,{"$f":"BY151*($CZ$2/100)","v":0},{"$f":"BZ151*($CZ$2/100)","v":0},0,0,{"$f":"CC151*($CZ$2/100)","v":0},{"$f":"CD151*($CZ$2/100)","v":0},0,0,{"$f":"AP151*(3/4)","v":0},{"$f":"AT151*(3/4)","v":0},{"$f":"AX151*(3/4)","v":0},0,{"$f":"((Z151*$DP$2)*(5*25.4))/1000","v":0},{"$f":"Z151/10","v":0},{"$f":"AA151/10","v":0},{"$f":"((AD151*$DP$2)*(5*25.4))/1000","v":0},{"$f":"AE151/10","v":0},{"$f":"AF151/10","v":0},{"$f":"((AH151*$DP$2)*(4.5*25.4))/1000","v":0},{"$f":"DP151","v":0},{"$f":"DQ151","v":0},{"$f":"DM151*(4/5)","v":0},0,{"$f":"DP151*(4/5)","v":0},0,{"$f":"DR151*(2/3)","v":0},{"$f":"DS151*(4/5)","v":0},0,{"$f":"CG151*(1/2)","v":0},0,0,{"$f":"CJ151*(5/12)","v":0},{"$f":"CK151*(1/2)","v":0},0,0,{"$f":"CN151*(5/12)","v":0},{"$f":"CO151*(1/2)","v":0},0,0,{"$f":"CR151*(5/12)","v":0},{"$f":"CS151*(2/3)","v":0},{"$f":"CS151*(2/5)","v":0},{"$f":"CT151*(1/2)","v":0},{"$f":"CU151*(1/2)","v":0},{"$f":"CV151*(2/3)","v":0},{"$f":"CV151*(3/4)","v":0},{"$f":"CW151*(1/2)","v":0},0,0,{"$f":"CZ151*(2/3)","v":0},0,0,0,{"$f":"DD151*(1/2)","v":0},0,0,0,{"$f":"IF($G151>0,1,0)","v":0},0,0,0,{"$f":"IF($G151>0,1,0)","v":0},0,{"$f":"IF($G144>0,1,0)","v":0},0,0,0,{"$f":"IF($G144>0,1,0)","v":0},0,0,0,{"$f":"BF151*0.25","v":0},{"$f":"BF151/2","v":0},{"$f":"BG151/8","v":0},{"$f":"BH151/4","v":0},{"$f":"BI151/4","v":0},{"$f":"BJ151*0.25","v":0},{"$f":"BK151/2","v":0},{"$f":"BK151/4","v":0},0,0,0,0,0,0,{"$f":"BW151/4","v":0},{"$f":"BX151/4","v":0},{"$f":"AA151*0.33","v":0},{"$f":"AE151*0.33","v":0},{"$f":"AI151*0.33","v":0},null,{"$f":"GI151*0.75","v":0},0,0,null,{"$f":"GI151*0.4","v":0},0,0,null,{"$f":"GQ151*0.93","v":0},0,0]
[null,null,null,null,null,"6th",null,null,null,null,null,null,null,null,null,{"$f":"IF(G152>0,Q152,0)","v":0},null,null,null,null,null,null,null,{"$f":"(G152+H152)/2","v":0},0.30480000000000002,{"$f":"IF($X$7=0,(X152*Y152),X152)","v":0},0,0,0,{"$f":"Z152*0.9","v":0},0,0,0,{"$f":"Z152*0.83","v":0},0,0,0,{"$f":"Z152*0.66","v":0},0,0,0,{"$f":"Z152*$AR$2","v":0},{"$f":"AA152*$AR$2","v":0},0,0,0,0,0,0,{"$f":"(AH152*($AR$2*(2/3)))","v":0},0,0,0,{"$f":"AL152*(1+(2/9))*$AR$2","v":0},0,{"$f":"AN152*(Inch_to_Yard*(7/8))","v":0},{"$f":"AO152*(Inch_to_Yard*(1/2))","v":0},{"$f":"Z152*(8/9)","v":0},0,{"$f":"BG152*(3/5)","v":0},0,0,0,{"$f":"BK152*(3/5)","v":0},0,0,0,{"$f":"BO152*(3/5)","v":0},0,0,0,null,0,0,0,0,0,0,0,0,{"$f":"BY152*(4/7)","v":0},{"$f":"BZ152*(4/7)","v":0},0,0,0,0,0,0,0,0,0,0,0,0,0,0,0,0,0,0,0,0,0,{"$f":"BY152*($CZ$2/100)","v":0},{"$f":"BZ152*($CZ$2/100)","v":0},0,0,{"$f":"CC152*($CZ$2/100)","v":0},{"$f":"CD152*($CZ$2/100)","v":0},0,0,{"$f":"AP152*(3/4)","v":0},{"$f":"AT152*(3/4)","v":0},{"$f":"AX152*(3/4)","v":0},0,{"$f":"((Z152*$DP$2)*(5*25.4))/1000","v":0},{"$f":"Z152/10","v":0},{"$f":"AA152/10","v":0},{"$f":"((AD152*$DP$2)*(5*25.4))/1000","v":0},{"$f":"AE152/10","v":0},{"$f":"AF152/10","v":0},{"$f":"((AH152*$DP$2)*(4.5*25.4))/1000","v":0},{"$f":"DP152","v":0},{"$f":"DQ152","v":0},{"$f":"DM152*(4/5)","v":0},0,{"$f":"DP152*(4/5)","v":0},0,{"$f":"DR152*(2/3)","v":0},{"$f":"DS152*(4/5)","v":0},0,{"$f":"CG152*(1/2)","v":0},0,0,{"$f":"CJ152*(5/12)","v":0},{"$f":"CK152*(1/2)","v":0},0,0,{"$f":"CN152*(5/12)","v":0},{"$f":"CO152*(1/2)","v":0},0,0,{"$f":"CR152*(5/12)","v":0},{"$f":"CS152*(2/3)","v":0},{"$f":"CS152*(2/5)","v":0},{"$f":"CT152*(1/2)","v":0},{"$f":"CU152*(1/2)","v":0},{"$f":"CV152*(2/3)","v":0},{"$f":"CV152*(3/4)","v":0},0,0,0,0,0,0,0,0,0,0,0,{"$f":"IF($G152>0,1,0)","v":0},0,0,0,{"$f":"IF($G152>0,1,0)","v":0},0,{"$f":"IF($G145>0,1,0)","v":0},0,0,0,{"$f":"IF($G145>0,1,0)","v":0},0,0,0,{"$f":"BF152*0.25","v":0},{"$f":"BF152/2","v":0},{"$f":"BG152/8","v":0},{"$f":"BH152/4","v":0},{"$f":"BI152/4","v":0},{"$f":"BJ152*0.25","v":0},{"$f":"BK152/2","v":0},0,0,0,0,0,0,0,{"$f":"BW152/4","v":0},{"$f":"BX152/4","v":0},{"$f":"AA152*0.33","v":0},{"$f":"AE152*0.33","v":0},{"$f":"AI152*0.33","v":0},null,0,0,0,null,0,0,0,null,0,0,0]
[null,null,null,null,null,"Sloops",null,null,null,null,null,null,null,null,null,0,null,null,null,null,null,null,null,0,0.30480000000000002,0,0,0,0,0,0,0,0,{"$f":"Z153*0.75","v":0},{"$f":"AA153*0.71","v":0},0,0,{"$f":"Z153*0.66","v":0},0,0,0,0,0,0,0,0,0,0,0,{"$f":"(AH153*($AR$2*(2/3)))","v":0},0,0,0,{"$f":"AL153*(1+(2/9))*$AR$2","v":0},0,0,0,0,0,{"$f":"BG153*(3/5)","v":0},0,0,0,{"$f":"BK153*(3/5)","v":0},0,0,0,{"$f":"BO153*(3/5)","v":0},0,0,0,null,0,0,0,0,0,0,0,0,0,0,0,0,0,0,0,0,0,0,0,0,0,0,0,0,0,0,0,0,0,0,0,0,0,0,0,0,0,0,0,0,0,0,0,0,0,0,0,0,0,0,0,0,0,0,0,0,0,0,0,0,0,0,0,0,0,0,0,0,0,0,0,0,0,0,0,0,0,0,0,0,0,0,0,0,0,0,0,0,{"$f":"IF($G153>0,1,0)","v":0},0,0,0,{"$f":"IF($G153>0,1,0)","v":0},0,{"$f":"IF($G144>0,1,0)","v":0},0,0,0,{"$f":"IF($G144>0,1,0)","v":0},0,{"$f":"IF($G144>0,1,0)","v":0},0,0,{"$f":"BF153/2","v":0},0,0,0,0,{"$f":"BK153/2","v":0},0,0,0,0,0,0,0,0,0,0,0,0,null,0,0,0,null,0,0,0,null,0,0,0]
[null,null,null,null,1830,"1st",null,null,null,null,null,null,null,null,null,{"$f":"IF(G154>0,Q154,0)","v":0},null,null,null,null,null,null,null,{"$f":"(G154+H154)/2","v":0},0.30480000000000002,{"$f":"IF($X$7=0,(X154*Y154),X154)","v":0},0,0,0,{"$f":"Z154*0.9","v":0},0,0,0,{"$f":"Z154*0.87","v":0},{"$f":"AA154*0.75","v":0},0,0,{"$f":"Z154*0.64","v":0},0,0,0,{"$f":"Z154*$AR$2","v":0},0,0,0,0,0,0,0,{"$f":"(AH154*($AR$2*(3/5)))","v":0},0,0,0,{"$f":"AL154*(1+(5/9))*$AR$2","v":0},0,{"$f":"AN154*(Inch_to_Yard*(7/8))","v":0},{"$f":"AO154*(Inch_to_Yard*(1/2))","v":0},{"$f":"Z154*(8/9)","v":0},0,{"$f":"BG154*(2/3)","v":0},0,0,0,{"$f":"BK154*(2/3)","v":0},0,0,0,{"$f":"BO154*(2/3)","v":0},0,0,0,null,0,0,{"$f":"BK154","v":0},0,{"$f":"BF154*(5/9)","v":0},{"$f":"BG154/2","v":0},0,0,{"$f":"BY154*(4/7)","v":0},0,0,0,0,{"$f":"BG154*(($CK$2)*(5/8))","v":0},0,{"$f":"CH154/2","v":0},0,0,0,{"$f":"CL154/2","v":0},{"$f":"BN154*(($CK$2)*(5/8))","v":0},0,{"$f":"BP154*(($CK$2)*(3/5))","v":0},0,0,{"$f":"CV154","v":0},0,0,0,0,0,{"$f":"BY154*($CZ$2/100)","v":0},0,0,0,0,0,0,0,{"$f":"AP154*(3/4)","v":0},{"$f":"AT154*(3/4)","v":0},{"$f":"AX154*(3/4)","v":0},0,{"$f":"((Z154*$DP$2)*(5*25.4))/1000","v":0},{"$f":"Z154/10","v":0},0,{"$f":"((AD154*$DP$2)*(5*25.4))/1000","v":0},{"$f":"AE154/10","v":0},0,{"$f":"((AH154*$DP$2)*(4.5*25.4))/1000","v":0},{"$f":"DP154","v":0},0,0,0,0,0,0,0,0,{"$f":"CG154*(1/2)","v":0},{"$f":"CH154*(3/7)","v":0},0,{"$f":"CJ154*(5/12)","v":0},{"$f":"CK154*(1/2)","v":0},{"$f":"CL154*(3/7)","v":0},0,{"$f":"CN154*(5/12)","v":0},{"$f":"CO154*(1/2)","v":0},{"$f":"CP154*(3/7)","v":0},0,{"$f":"CR154*(5/12)","v":0},{"$f":"CS154*(2/3)","v":0},{"$f":"CS154*(2/5)","v":0},{"$f":"CT154*(1/2)","v":0},0,{"$f":"CV154*(2/3)","v":0},{"$f":"CV154*(3/4)","v":0},{"$f":"CW154*(1/2)","v":0},0,0,{"$f":"CZ154*(2/3)","v":0},0,0,0,{"$f":"DD154*(1/2)","v":0},0,0,0,{"$f":"IF($G154>0,3,0)","v":0},0,0,0,{"$f":"IF($G154>0,3,0)","v":0},0,{"$f":"IF($G145>0,1,0)","v":0},0,{"$f":"IF($G154>0,4,0)","v":0},0,{"$f":"IF($G145>0,1,0)","v":0},0,0,0,0,{"$f":"FS154","v":0},0,0,0,0,{"$f":"FX154","v":0},0,0,0,0,0,0,0,0,0,0,0,0,null,0,0,0,null,0,0,0,null,0,0,0]
[null,null,null,null,null,"2nd",null,null,null,null,null,null,null,null,null,0,null,null,null,null,null,null,null,0,0.30480000000000002,0,0,0,0,0,0,0,0,{"$f":"Z155*0.86","v":0},0,0,0,{"$f":"Z155*0.64","v":0},0,0,0,0,0,0,0,0,0,0,0,{"$f":"(AH155*($AR$2*(3/5)))","v":0},0,0,0,{"$f":"AL155*(1+(5/9))*$AR$2","v":0},0,0,0,0,0,{"$f":"BG155*(2/3)","v":0},0,0,0,{"$f":"BK155*(2/3)","v":0},0,0,0,{"$f":"BO155*(2/3)","v":0},0,0,0,null,0,0,0,0,0,0,0,0,0,0,0,0,0,0,0,0,0,0,0,0,0,0,0,0,0,0,0,0,0,0,0,0,0,0,0,0,0,0,0,0,0,0,0,0,0,0,0,0,0,0,0,0,0,0,0,0,0,0,0,0,0,0,0,0,0,0,0,0,0,0,0,0,0,0,0,0,0,0,0,0,0,0,0,0,0,0,0,0,{"$f":"IF($G155>0,3,0)","v":0},0,0,0,{"$f":"IF($G155>0,3,0)","v":0},0,{"$f":"IF($G146>0,1,0)","v":0},0,{"$f":"IF($G155>0,4,0)","v":0},0,{"$f":"IF($G146>0,1,0)","v":0},0,0,0,0,{"$f":"FS155","v":0},0,0,0,0,{"$f":"FX155","v":0},0,0,0,{"$f":"BN155/4","v":0},0,0,0,0,0,{"$f":"AA155*0.33","v":0},{"$f":"AE155*0.33","v":0},{"$f":"AI155*0.33","v":0},null,0,0,0,null,0,0,0,null,0,0,0]
[null,null,null,null,null,"3rd",null,null,null,null,null,null,null,null,null,0,null,null,null,null,null,null,null,0,0.30480000000000002,0,0,0,0,0,0,0,0,{"$f":"Z156*0.86","v":0},0,0,0,{"$f":"Z156*0.64","v":0},0,0,0,{"$f":"Z156*$AR$2","v":0},{"$f":"AA156*$AR$2","v":0},0,0,0,0,0,0,{"$f":"(AH156*($AR$2*(3/5)))","v":0},0,0,0,{"$f":"AL156*(1+(5/9))*$AR$2","v":0},0,0,0,0,0,{"$f":"BG156*(2/3)","v":0},0,0,0,{"$f":"BK156*(2/3)","v":0},0,0,0,{"$f":"BO156*(2/3)","v":0},0,0,0,null,0,0,{"$f":"BK156","v":0},{"$f":"BL156","v":0},0,0,0,0,{"$f":"BY156*(4/7)","v":0},{"$f":"BZ156*(4/7)","v":0},{"$f":"CA156*(4/7)","v":0},{"$f":"CB156*(4/7)","v":0},0,0,0,0,0,0,0,0,{"$f":"BN156*(($CK$2)*(5/8))","v":0},{"$f":"BO156*(($CK$2)*(5/8))","v":0},0,0,0,{"$f":"CV156","v":0},{"$f":"CW156","v":0},0,0,0,0,{"$f":"BY156*($CZ$2/100)","v":0},0,0,0,0,0,0,0,0,0,0,0,0,{"$f":"Z156/10","v":0},{"$f":"AA156/10","v":0},0,{"$f":"AE156/10","v":0},{"$f":"AF156/10","v":0},0,{"$f":"DP156","v":0},{"$f":"DQ156","v":0},{"$f":"DM156*(4/5)","v":0},0,{"$f":"DP156*(4/5)","v":0},0,{"$f":"DR156*(2/3)","v":0},{"$f":"DS156*(4/5)","v":0},0,0,{"$f":"CH156*(3/7)","v":0},{"$f":"CI156*(3/7)","v":0},0,0,{"$f":"CL156*(3/7)","v":0},{"$f":"CM156*(3/7)","v":0},0,0,{"$f":"CP156*(3/7)","v":0},{"$f":"CQ156*(3/7)","v":0},0,0,0,{"$f":"CT156*(1/2)","v":0},{"$f":"CU156*(1/2)","v":0},0,0,{"$f":"CW156*(1/2)","v":0},{"$f":"CX156*(1/2)","v":0},{"$f":"CY156*(1/2)","v":0},{"$f":"CZ156*(2/3)","v":0},{"$f":"DA156*(2/3)","v":0},{"$f":"DB156*(2/3)","v":0},{"$f":"DC156*(2/3)","v":0},{"$f":"DD156*(1/2)","v":0},{"$f":"DE156*(1/2)","v":0},{"$f":"DF156*(1/2)","v":0},{"$f":"DG156*(1/2)","v":0},{"$f":"IF($G156>0,3,0)","v":0},0,0,0,{"$f":"IF($G156>0,3,0)","v":0},0,{"$f":"IF($G147>0,1,0)","v":0},0,0,0,{"$f":"IF($G147>0,1,0)","v":0},0,0,0,{"$f":"BF156*0.25","v":0},{"$f":"FS156","v":0},{"$f":"BG156/8","v":0},{"$f":"BH156/4","v":0},{"$f":"BI156/4","v":0},{"$f":"BJ156*0.25","v":0},{"$f":"FX156","v":0},{"$f":"BK156/4","v":0},0,0,0,0,0,0,{"$f":"BW156/4","v":0},{"$f":"BX156/4","v":0},0,0,0,null,{"$f":"GI156*0.75","v":0},{"$f":"GJ156*0.75","v":0},{"$f":"GK156*0.75","v":0},null,{"$f":"GI156*0.4","v":0},{"$f":"GJ156*0.4","v":0},{"$f":"GK156*0.4","v":0},null,{"$f":"GQ156*0.93","v":0},{"$f":"GR156*0.93","v":0},{"$f":"GS156*0.93","v":0}]
[null,null,null,null,null,"4th",null,null,null,null,null,null,null,null,null,0,null,null,null,null,null,null,null,0,0.30480000000000002,0,0,0,0,0,0,0,0,{"$f":"Z157*0.83","v":0},0,0,0,{"$f":"Z157*0.66","v":0},0,0,0,0,0,0,0,0,0,0,0,{"$f":"(AH157*($AR$2*(2/3)))","v":0},0,0,0,{"$f":"AL157*(1+(2/9))*$AR$2","v":0},0,0,0,0,0,{"$f":"BG157*(3/5)","v":0},0,0,0,{"$f":"BK157*(3/5)","v":0},0,0,0,{"$f":"BO157*(3/5)","v":0},0,0,0,null,0,0,0,0,0,0,0,0,0,0,0,0,0,0,0,0,0,0,0,0,0,0,0,0,0,0,0,0,0,0,0,0,0,0,0,0,0,0,0,0,0,0,0,0,0,0,0,0,0,0,0,0,0,0,0,0,0,0,0,0,0,0,0,0,0,0,0,0,0,0,0,0,0,0,0,0,0,0,0,0,0,0,0,0,0,0,0,0,{"$f":"IF($G157>0,1,0)","v":0},0,0,0,{"$f":"IF($G157>0,1,0)","v":0},0,{"$f":"IF($G147>0,1,0)","v":0},0,0,0,{"$f":"IF($G147>0,1,0)","v":0},0,{"$f":"IF($G147>0,1,0)","v":0},0,0,{"$f":"BF157/2","v":0},0,0,0,0,{"$f":"BK157/2","v":0},0,0,0,{"$f":"BN157/4","v":0},0,0,0,0,0,0,0,0,null,0,0,0,null,0,0,0,null,0,0,0]
[null,null,null,null,null,"5th",null,null,null,null,null,null,null,null,null,0,null,null,null,null,null,null,null,0,0.30480000000000002,0,0,0,0,0,0,0,0,{"$f":"Z158*0.83","v":0},0,0,0,{"$f":"Z158*0.66","v":0},0,0,0,{"$f":"Z158*$AR$2","v":0},{"$f":"AA158*$AR$2","v":0},0,0,0,0,0,0,{"$f":"(AH158*($AR$2*(2/3)))","v":0},0,0,0,{"$f":"AL158*(1+(2/9))*$AR$2","v":0},0,0,0,0,0,{"$f":"BG158*(3/5)","v":0},0,0,0,{"$f":"BK158*(3/5)","v":0},0,0,0,{"$f":"BO158*(3/5)","v":0},0,0,0,null,0,0,{"$f":"BK158","v":0},{"$f":"BL158","v":0},0,0,0,0,{"$f":"BY158*(4/7)","v":0},0,0,0,0,0,0,0,0,0,0,0,{"$f":"BN158*(($CK$2)*(5/8))","v":0},{"$f":"BO158*(($CK$2)*(5/8))","v":0},0,0,0,{"$f":"CV158","v":0},{"$f":"CW158","v":0},0,0,0,0,{"$f":"BY158*($CZ$2/100)","v":0},0,0,0,0,0,0,0,0,0,0,0,0,{"$f":"Z158/10","v":0},{"$f":"AA158/10","v":0},0,{"$f":"AE158/10","v":0},{"$f":"AF158/10","v":0},0,{"$f":"DP158","v":0},{"$f":"DQ158","v":0},{"$f":"DM158*(4/5)","v":0},0,{"$f":"DP158*(4/5)","v":0},0,{"$f":"DR158*(2/3)","v":0},{"$f":"DS158*(4/5)","v":0},0,0,{"$f":"CH158*(3/7)","v":0},{"$f":"CI158*(3/7)","v":0},0,0,{"$f":"CL158*(3/7)","v":0},{"$f":"CM158*(3/7)","v":0},0,0,{"$f":"CP158*(3/7)","v":0},{"$f":"CQ158*(3/7)","v":0},0,0,0,{"$f":"CT158*(1/2)","v":0},{"$f":"CU158*(1/2)","v":0},0,0,{"$f":"CW158*(1/2)","v":0},0,0,{"$f":"CZ158*(2/3)","v":0},0,0,0,{"$f":"DD158*(1/2)","v":0},0,0,0,{"$f":"IF($G158>0,1,0)","v":0},0,0,0,{"$f":"IF($G158>0,1,0)","v":0},0,{"$f":"IF($G148>0,1,0)","v":0},0,0,0,{"$f":"IF($G148>0,1,0)","v":0},0,0,0,{"$f":"BF158*0.25","v":0},{"$f":"BF158/2","v":0},{"$f":"BG158/8","v":0},{"$f":"BH158/4","v":0},{"$f":"BI158/4","v":0},{"$f":"BJ158*0.25","v":0},{"$f":"BK158/2","v":0},{"$f":"BK158/4","v":0},0,0,0,0,0,0,{"$f":"BW158/4","v":0},{"$f":"BX158/4","v":0},0,0,0,null,{"$f":"GI158*0.75","v":0},0,0,null,{"$f":"GI158*0.4","v":0},0,0,null,{"$f":"GQ158*0.93","v":0},0,0]
[null,null,null,null,null,"6th",null,null,null,null,null,null,null,null,null,0,null,null,null,null,null,null,null,0,0.30480000000000002,0,0,0,0,0,0,0,0,{"$f":"Z159*0.83","v":0},0,0,0,{"$f":"Z159*0.66","v":0},0,0,0,{"$f":"Z159*$AR$2","v":0},{"$f":"AA159*$AR$2","v":0},0,0,0,0,0,0,{"$f":"(AH159*($AR$2*(2/3)))","v":0},0,0,0,{"$f":"AL159*(1+(2/9))*$AR$2","v":0},0,0,0,0,0,{"$f":"BG159*(3/5)","v":0},0,0,0,{"$f":"BK159*(3/5)","v":0},0,0,0,{"$f":"BO159*(3/5)","v":0},0,0,0,null,0,0,{"$f":"BK159","v":0},{"$f":"BL159","v":0},0,0,0,0,0,0,0,0,0,0,0,0,0,0,0,0,{"$f":"BN159*(($CK$2)*(5/8))","v":0},{"$f":"BO159*(($CK$2)*(5/8))","v":0},0,0,0,{"$f":"CV159","v":0},{"$f":"CW159","v":0},0,0,0,0,0,0,0,0,0,0,0,0,0,0,0,0,0,{"$f":"Z159/10","v":0},{"$f":"AA159/10","v":0},0,{"$f":"AE159/10","v":0},{"$f":"AF159/10","v":0},0,{"$f":"DP159","v":0},{"$f":"DQ159","v":0},{"$f":"DM159*(4/5)","v":0},0,{"$f":"DP159*(4/5)","v":0},0,{"$f":"DR159*(2/3)","v":0},{"$f":"DS159*(4/5)","v":0},0,0,{"$f":"CH159*(3/7)","v":0},{"$f":"CI159*(3/7)","v":0},0,0,{"$f":"CL159*(3/7)","v":0},{"$f":"CM159*(3/7)","v":0},0,0,{"$f":"CP159*(3/7)","v":0},{"$f":"CQ159*(3/7)","v":0},0,0,0,{"$f":"CT159*(1/2)","v":0},{"$f":"CU159*(1/2)","v":0},0,0,0,0,0,0,0,0,0,0,0,0,0,{"$f":"IF($G159>0,1,0)","v":0},0,0,0,{"$f":"IF($G159>0,1,0)","v":0},0,{"$f":"IF($G149>0,1,0)","v":0},0,0,0,{"$f":"IF($G149>0,1,0)","v":0},0,0,0,{"$f":"BF159*0.25","v":0},{"$f":"BF159/2","v":0},{"$f":"BG159/8","v":0},{"$f":"BH159/4","v":0},{"$f":"BI159/4","v":0},{"$f":"BJ159*0.25","v":0},{"$f":"BK159/2","v":0},0,0,0,0,0,0,0,{"$f":"BW159/4","v":0},{"$f":"BX159/4","v":0},0,0,0,null,0,0,0,null,0,0,0,null,0,0,0]
[null,null,null,null,null,"Sloops",null,null,null,null,null,null,null,null,null,0,null,null,null,null,null,null,null,0,0.30480000000000002,0,0,0,0,0,0,0,0,{"$f":"Z160*0.75","v":0},{"$f":"AA160*0.71","v":0},0,0,{"$f":"Z160*0.66","v":0},0,0,0,0,0,0,0,0,0,0,0,{"$f":"(AH160*($AR$2*(2/3)))","v":0},0,0,0,{"$f":"AL160*(1+(2/9))*$AR$2","v":0},0,0,0,0,0,{"$f":"BG160*(3/5)","v":0},0,0,0,{"$f":"BK160*(3/5)","v":0},0,0,0,{"$f":"BO160*(3/5)","v":0},0,0,0,null,0,0,0,0,0,0,0,0,0,0,0,0,0,0,0,0,0,0,0,0,0,0,0,0,0,0,0,0,0,0,0,0,0,0,0,0,0,0,0,0,0,0,0,0,0,0,0,0,0,0,0,0,0,0,0,0,0,0,0,0,0,0,0,0,0,0,0,0,0,0,0,0,0,0,0,0,0,0,0,0,0,0,0,0,0,0,0,0,{"$f":"IF($G160>0,1,0)","v":0},0,0,0,{"$f":"IF($G160>0,1,0)","v":0},0,{"$f":"IF($G148>0,1,0)","v":0},0,0,0,{"$f":"IF($G148>0,1,0)","v":0},0,{"$f":"IF($G148>0,1,0)","v":0},{"$f":"IF($G148>0,1,0)","v":0},0,{"$f":"BF160/2","v":0},0,0,0,0,{"$f":"BK160/2","v":0},0,0,0,{"$f":"BN160/4","v":0},0,0,0,0,0,0,0,0,null,0,0,0,null,0,0,0,null,0,0,0]
[null,null,null,null,1836,"1st",null,null,null,null,null,null,null,null,null,{"$f":"IF(G161>0,Q161,0)","v":0},null,null,null,null,null,null,null,{"$f":"(G161+H161)/2","v":0},0.30480000000000002,{"$f":"IF($X$7=0,(X161*Y161),X161)","v":0},0,0,0,{"$f":"Z161*0.9","v":0},0,0,0,{"$f":"Z161*0.87","v":0},{"$f":"AA161*0.75","v":0},0,0,{"$f":"Z161*0.64","v":0},0,{"$f":"AL161*0.715","v":0},{"$f":"AL161*0.92","v":0},{"$f":"Z161*$AR$2","v":0},0,{"$f":"(AB161*$AR$2)","v":0},0,{"$f":"AP161","v":0},{"$f":"AE161*$AR$2","v":0},{"$f":"(AF161*$AR$2)","v":0},0,{"$f":"(AH161*($AR$2*(3/5)))","v":0},{"$f":"AI161*($AR$2*(7/10))","v":0},{"$f":"(AJ161*$AR$2)","v":0},0,{"$f":"AL161*(1+(5/9))*$AR$2","v":0},0,{"$f":"AN161*(Inch_to_Yard*(7/8))","v":0},{"$f":"AO161*(Inch_to_Yard*(1/2))","v":0},{"$f":"Z161*(8/9)","v":0},0,{"$f":"BG161*(2/3)","v":0},0,{"$f":"BF161*0.875","v":0},{"$f":"BG161*(7/8)","v":0},{"$f":"BK161*(2/3)","v":0},0,{"$f":"BK161","v":0},{"$f":"BG161*(2/3)","v":0},{"$f":"BO161*(2/3)","v":0},0,0,{"$f":"BU161*(5/8)","v":0},null,{"$f":"BG161","v":0},{"$f":"BL161","v":0},{"$f":"BK161","v":0},0,0,0,{"$f":"BG161*(5/9)","v":0},{"$f":"BK161/2","v":0},{"$f":"BY161*(4/7)","v":0},0,0,0,{"$f":"BF161*(($CK$2)*(7/10))","v":0},0,{"$f":"BH161*(($CK$2)*(3/5))","v":0},0,{"$f":"BJ161*(($CK$2)*(7/10))","v":0},{"$f":"BK161*(($CK$2)*(5/8))","v":0},{"$f":"BL161*(($CK$2)*(3/5))","v":0},0,{"$f":"BN161*(($CK$2)*(5/8))","v":0},0,0,{"$f":"CP161/2","v":0},0,{"$f":"CV161","v":0},0,{"$f":"BU161*(($CK$2)*(5/8))","v":0},{"$f":"CM161","v":0},{"$f":"BW161*(($CK$2)*(5/8))","v":0},{"$f":"BX161*(($CK$2)*(3/5))","v":0},{"$f":"BY161*($CZ$2/100)","v":0},{"$f":"BZ161*($CZ$2/100)","v":0},{"$f":"CA161*($CZ$2/100)","v":0},{"$f":"CB161*($CZ$2/100)","v":0},{"$f":"CC161*($CZ$2/100)","v":0},{"$f":"CD161*($CZ$2/100)","v":0},{"$f":"CE161*($CZ$2/100)","v":0},{"$f":"CF161*($CZ$2/100)","v":0},{"$f":"AP161*(3/4)","v":0},{"$f":"AT161*(3/4)","v":0},{"$f":"AX161*(3/4)","v":0},{"$f":"BB161*(2/3)","v":0},{"$f":"((Z161*$DP$2)*(5*25.4))/1000","v":0},{"$f":"Z161/10","v":0},0,{"$f":"((AD161*$DP$2)*(5*25.4))/1000","v":0},{"$f":"AE161/10","v":0},0,{"$f":"((AH161*$DP$2)*(4.5*25.4))/1000","v":0},{"$f":"DP161","v":0},0,{"$f":"DM161*(4/5)","v":0},0,{"$f":"DP161*(4/5)","v":0},0,{"$f":"DR161*(2/3)","v":0},{"$f":"DS161*(4/5)","v":0},0,{"$f":"CG161*(1/2)","v":0},{"$f":"CH161*(3/7)","v":0},{"$f":"CI161*(3/7)","v":0},{"$f":"CJ161*(5/12)","v":0},{"$f":"CK161*(1/2)","v":0},{"$f":"CL161*(3/7)","v":0},{"$f":"CM161*(3/7)","v":0},{"$f":"CN161*(5/12)","v":0},{"$f":"CO161*(1/2)","v":0},{"$f":"CP161*(3/7)","v":0},{"$f":"CQ161*(3/7)","v":0},{"$f":"CR161*(5/12)","v":0},{"$f":"CS161*(2/3)","v":0},{"$f":"CS161*(2/5)","v":0},{"$f":"CT161*(1/2)","v":0},0,{"$f":"CV161*(2/3)","v":0},{"$f":"CV161*(3/4)","v":0},{"$f":"CW161*(1/2)","v":0},0,0,{"$f":"CZ161*(2/3)","v":0},0,0,0,{"$f":"DD161*(1/2)","v":0},0,0,0,{"$f":"IF($G161>0,3,0)","v":0},0,0,0,{"$f":"IF($G161>0,3,0)","v":0},0,{"$f":"IF($G152>0,1,0)","v":0},0,{"$f":"IF($G161>0,4,0)","v":0},0,{"$f":"IF($G152>0,1,0)","v":0},0,{"$f":"IF($G152>0,1,0)","v":0},0,{"$f":"BF161*0.25","v":0},{"$f":"FS161","v":0},{"$f":"BG161/8","v":0},{"$f":"BH161/4","v":0},0,{"$f":"BJ161*0.25","v":0},{"$f":"FX161","v":0},{"$f":"BK161/4","v":0},{"$f":"BL161/4","v":0},{"$f":"BM161/4","v":0},{"$f":"BN161/4","v":0},{"$f":"BO161/4","v":0},{"$f":"BP161/4","v":0},{"$f":"BQ161/4","v":0},{"$f":"BW161/4","v":0},0,0,0,0,null,{"$f":"GI161*0.75","v":0},0,0,null,{"$f":"GI161*0.4","v":0},0,0,null,{"$f":"GQ161*0.93","v":0},0,0]
[null,null,null,null,null,"2nd",null,null,null,null,null,null,null,null,null,0,null,null,null,null,null,null,null,0,0.30480000000000002,0,0,0,0,0,0,0,0,{"$f":"Z162*0.86","v":0},0,0,0,{"$f":"Z162*0.64","v":0},0,0,0,0,0,0,0,0,0,0,0,{"$f":"(AH162*($AR$2*(3/5)))","v":0},0,0,0,{"$f":"AL162*(1+(5/9))*$AR$2","v":0},0,0,0,0,0,{"$f":"BG162*(2/3)","v":0},0,0,0,{"$f":"BK162*(2/3)","v":0},0,0,0,{"$f":"BO162*(2/3)","v":0},0,0,0,null,0,0,0,0,0,0,0,0,0,0,0,0,0,0,0,0,0,0,0,0,0,0,0,0,0,0,0,0,0,0,0,0,0,0,0,0,0,0,0,0,0,0,0,0,0,0,0,0,0,0,0,0,0,0,0,0,0,0,0,0,0,0,0,0,0,0,0,0,0,0,0,0,0,0,0,0,0,0,0,0,0,0,0,0,0,0,0,0,{"$f":"IF($G162>0,3,0)","v":0},0,0,0,{"$f":"IF($G162>0,3,0)","v":0},0,{"$f":"IF($G153>0,1,0)","v":0},0,0,0,{"$f":"IF($G153>0,1,0)","v":0},0,0,0,0,{"$f":"FS162","v":0},0,0,0,0,{"$f":"FX162","v":0},0,0,0,{"$f":"BN162/4","v":0},0,0,0,0,0,0,0,0,null,0,0,0,null,0,0,0,null,0,0,0]
[null,null,null,null,null,"3rd",null,null,null,null,null,null,null,null,null,0,null,null,null,null,null,null,null,0,0.30480000000000002,0,0,0,0,0,0,0,0,{"$f":"Z163*0.86","v":0},0,0,0,{"$f":"Z163*0.64","v":0},0,0,0,0,0,0,0,0,0,0,0,{"$f":"(AH163*($AR$2*(3/5)))","v":0},0,0,0,{"$f":"AL163*(1+(5/9))*$AR$2","v":0},0,0,0,0,0,{"$f":"BG163*(2/3)","v":0},0,0,0,{"$f":"BK163*(2/3)","v":0},0,0,0,{"$f":"BO163*(2/3)","v":0},0,0,0,null,0,0,0,0,0,0,0,0,0,0,0,0,0,0,0,0,0,0,0,0,0,0,0,0,0,0,0,0,0,0,0,0,0,0,0,0,0,0,0,0,0,0,0,0,0,0,0,0,0,0,0,0,0,0,0,0,0,0,0,0,0,0,0,0,0,0,0,0,0,0,0,0,0,0,0,0,0,0,0,0,0,0,0,0,0,0,0,0,{"$f":"IF($G163>0,3,0)","v":0},0,0,0,{"$f":"IF($G163>0,3,0)","v":0},0,{"$f":"IF($G154>0,1,0)","v":0},0,0,0,{"$f":"IF($G154>0,1,0)","v":0},0,0,0,0,{"$f":"FS163","v":0},0,0,0,0,{"$f":"FX163","v":0},0,0,0,0,0,0,0,0,0,0,0,0,null,0,0,0,null,0,0,0,null,0,0,0]
[null,null,null,null,null,"4th",null,null,null,null,null,null,null,null,null,0,null,null,null,null,null,null,null,0,0.30480000000000002,0,0,0,0,0,0,0,0,{"$f":"Z164*0.83","v":0},0,0,0,{"$f":"Z164*0.66","v":0},0,0,0,0,0,0,0,0,0,0,0,{"$f":"(AH164*($AR$2*(2/3)))","v":0},0,0,0,{"$f":"AL164*(1+(2/9))*$AR$2","v":0},0,0,0,0,0,{"$f":"BG164*(3/5)","v":0},0,0,0,{"$f":"BK164*(3/5)","v":0},0,0,0,{"$f":"BO164*(3/5)","v":0},0,0,0,null,0,0,0,0,0,0,0,0,0,0,0,0,0,0,0,0,0,0,0,0,0,0,0,0,0,0,0,0,0,0,0,0,0,0,0,0,0,0,0,0,0,0,0,0,0,0,0,0,0,0,0,0,0,0,0,0,0,0,0,0,0,0,0,0,0,0,0,0,0,0,0,0,0,0,0,0,0,0,0,0,0,0,0,0,0,0,0,0,{"$f":"IF($G164>0,1,0)","v":0},0,0,0,{"$f":"IF($G164>0,1,0)","v":0},0,{"$f":"IF($G154>0,1,0)","v":0},0,0,0,{"$f":"IF($G154>0,1,0)","v":0},0,{"$f":"IF($G154>0,1,0)","v":0},0,0,{"$f":"BF164/2","v":0},0,0,0,0,{"$f":"BK164/2","v":0},0,0,0,0,0,0,0,0,0,0,0,0,null,0,0,0,null,0,0,0,null,0,0,0]
[null,null,null,null,null,"5th",null,null,null,null,null,null,null,null,null,0,null,null,null,null,null,null,null,0,0.30480000000000002,0,0,0,0,0,0,0,0,{"$f":"Z165*0.83","v":0},0,0,0,{"$f":"Z165*0.66","v":0},0,0,0,0,0,0,0,0,0,0,0,{"$f":"(AH165*($AR$2*(2/3)))","v":0},0,0,0,{"$f":"AL165*(1+(2/9))*$AR$2","v":0},0,0,0,0,0,{"$f":"BG165*(3/5)","v":0},0,0,0,{"$f":"BK165*(3/5)","v":0},0,0,0,{"$f":"BO165*(3/5)","v":0},0,0,0,null,0,0,0,0,0,0,0,0,0,0,0,0,0,0,0,0,0,0,0,0,0,0,0,0,0,0,0,0,0,0,0,0,0,0,0,0,0,0,0,0,0,0,0,0,0,0,0,0,0,0,0,0,0,0,0,0,0,0,0,0,0,0,0,0,0,0,0,0,0,0,0,0,0,0,0,0,0,0,0,0,0,0,0,0,0,0,0,0,{"$f":"IF($G165>0,1,0)","v":0},0,0,0,{"$f":"IF($G165>0,1,0)","v":0},0,{"$f":"IF($G155>0,1,0)","v":0},0,0,0,{"$f":"IF($G155>0,1,0)","v":0},0,0,0,0,{"$f":"BF165/2","v":0},0,0,0,0,{"$f":"BK165/2","v":0},0,0,0,0,0,0,0,0,0,0,0,0,null,0,0,0,null,0,0,0,null,0,0,0]
[null,null,null,null,null,"6th",null,null,null,null,null,null,null,null,null,0,null,null,null,null,null,null,null,0,0.30480000000000002,0,0,0,0,0,0,0,0,{"$f":"Z166*0.83","v":0},0,0,0,{"$f":"Z166*0.66","v":0},0,0,0,0,0,0,0,0,0,0,0,{"$f":"(AH166*($AR$2*(2/3)))","v":0},0,0,0,{"$f":"AL166*(1+(2/9))*$AR$2","v":0},0,0,0,0,0,{"$f":"BG166*(3/5)","v":0},0,0,0,{"$f":"BK166*(3/5)","v":0},0,0,0,{"$f":"BO166*(3/5)","v":0},0,0,0,null,0,0,0,0,0,0,0,0,0,0,0,0,0,0,0,0,0,0,0,0,0,0,0,0,0,0,0,0,0,0,0,0,0,0,0,0,0,0,0,0,0,0,0,0,0,0,0,0,0,0,0,0,0,0,0,0,0,0,0,0,0,0,0,0,0,0,0,0,0,0,0,0,0,0,0,0,0,0,0,0,0,0,0,0,0,0,0,0,{"$f":"IF($G166>0,1,0)","v":0},0,0,0,{"$f":"IF($G166>0,1,0)","v":0},0,{"$f":"IF($G156>0,1,0)","v":0},0,0,0,{"$f":"IF($G156>0,1,0)","v":0},0,0,0,0,{"$f":"BF166/2","v":0},0,0,0,0,{"$f":"BK166/2","v":0},0,0,0,0,0,0,0,0,0,0,0,0,null,0,0,0,null,0,0,0,null,0,0,0]
[null,null,null,null,null,"Sloops",null,null,null,null,null,null,null,null,null,0,null,null,null,null,null,null,null,0,0.30480000000000002,0,0,0,0,0,0,0,0,{"$f":"Z167*0.75","v":0},{"$f":"AA167*0.71","v":0},0,0,{"$f":"Z167*0.66","v":0},0,0,0,0,0,0,0,0,0,0,0,{"$f":"(AH167*($AR$2*(2/3)))","v":0},0,0,0,{"$f":"AL167*(1+(2/9))*$AR$2","v":0},0,0,0,0,0,{"$f":"BG167*(3/5)","v":0},0,0,0,{"$f":"BK167*(3/5)","v":0},0,0,0,{"$f":"BO167*(3/5)","v":0},0,0,0,null,0,0,0,0,0,0,0,0,0,0,0,0,0,0,0,0,0,0,0,0,0,0,0,0,0,0,0,0,0,0,0,0,0,0,0,0,0,0,0,0,0,0,0,0,0,0,0,0,0,0,0,0,0,0,0,0,0,0,0,0,0,0,0,0,0,0,0,0,0,0,0,0,0,0,0,0,0,0,0,0,0,0,0,0,0,0,0,0,{"$f":"IF($G167>0,1,0)","v":0},0,0,0,{"$f":"IF($G167>0,1,0)","v":0},0,{"$f":"IF($G155>0,1,0)","v":0},0,0,0,{"$f":"IF($G155>0,1,0)","v":0},0,{"$f":"IF($G155>0,1,0)","v":0},{"$f":"IF($G155>0,1,0)","v":0},0,{"$f":"BF167/2","v":0},0,0,0,0,{"$f":"BK167/2","v":0},0,0,0,0,0,0,0,0,0,0,0,0,null,0,0,0,null,0,0,0,null,0,0,0]
[null,null,null,null,1850,"1st",null,null,null,null,null,null,null,null,null,0,null,null,null,null,null,null,null,0,0.30480000000000002,0,0,0,0,0,0,0,0,{"$f":"Z168*0.86","v":0},{"$f":"AA168*0.75","v":0},0,0,{"$f":"Z168*0.64","v":0},0,0,0,0,0,0,0,0,0,0,0,{"$f":"(AH168*($AR$2*(3/5)))","v":0},0,0,0,{"$f":"AL168*(1+(5/9))*$AR$2","v":0},0,0,0,0,0,{"$f":"BG168*(2/3)","v":0},0,0,0,{"$f":"BK168*(2/3)","v":0},0,0,0,{"$f":"BO168*(2/3)","v":0},0,0,0,null,0,0,0,0,0,0,0,0,0,0,0,0,0,0,0,0,0,0,0,0,0,0,0,0,0,0,0,0,0,0,0,0,0,0,0,0,0,0,0,0,0,0,0,{"$f":"((Z168*$DP$2)*(6*25.4))/1000","v":0},0,0,{"$f":"((AD168*$DP$2)*(6*25.4))/1000","v":0},0,0,{"$f":"((AH168*$DP$2)*(5*25.4))/1000","v":0},0,0,0,0,0,0,0,0,0,0,0,0,0,0,0,0,0,0,0,0,0,0,0,0,0,0,0,0,0,0,0,0,0,0,0,0,0,0,{"$f":"IF($G168>0,3,0)","v":0},0,0,0,{"$f":"IF($G168>0,3,0)","v":0},0,{"$f":"IF($G152>0,1,0)","v":0},0,0,0,{"$f":"IF($G152>0,1,0)","v":0},0,{"$f":"IF($G152>0,1,0)","v":0},0,0,{"$f":"FS168","v":0},0,0,0,0,{"$f":"FX168","v":0},0,0,0,0,0,0,0,0,0,0,0,0,null,0,0,0,null,0,0,0,null,0,0,0]
[null,null,null,null,null,"2nd",null,null,null,null,null,null,null,null,null,0,null,null,null,null,null,null,null,0,0.30480000000000002,0,0,0,0,0,0,0,0,{"$f":"Z169*0.86","v":0},0,0,0,{"$f":"Z169*0.64","v":0},0,0,0,0,0,0,0,0,0,0,0,{"$f":"(AH169*($AR$2*(3/5)))","v":0},0,0,0,{"$f":"AL169*(1+(5/9))*$AR$2","v":0},0,0,0,0,0,{"$f":"BG169*(2/3)","v":0},0,0,0,{"$f":"BK169*(2/3)","v":0},0,0,0,{"$f":"BO169*(2/3)","v":0},0,0,0,null,0,0,{"$f":"BK169","v":0},0,0,0,0,0,{"$f":"BY169*(4/7)","v":0},0,{"$f":"CA169*(4/7)","v":0},0,0,0,0,0,0,0,0,0,{"$f":"BN169*(($CK$2)*(5/8))","v":0},0,0,0,0,{"$f":"CV169","v":0},0,0,0,0,0,{"$f":"BY169*($CZ$2/100)","v":0},0,{"$f":"CA169*($CZ$2/100)","v":0},0,{"$f":"CC169*($CZ$2/100)","v":0},0,{"$f":"CE169*($CZ$2/100)","v":0},0,0,0,0,0,{"$f":"((Z169*$DP$2)*(6*25.4))/1000","v":0},0,0,{"$f":"((AD169*$DP$2)*(6*25.4))/1000","v":0},0,0,{"$f":"((AH169*$DP$2)*(5*25.4))/1000","v":0},0,0,0,0,0,0,0,0,0,0,0,0,0,0,0,0,0,0,0,0,0,{"$f":"CS169*(2/3)","v":0},{"$f":"CS169*(2/5)","v":0},0,0,0,0,0,0,0,0,0,0,0,0,0,0,0,{"$f":"IF($G169>0,3,0)","v":0},0,0,0,{"$f":"IF($G169>0,3,0)","v":0},0,{"$f":"IF($G153>0,1,0)","v":0},0,0,0,{"$f":"IF($G153>0,1,0)","v":0},0,0,0,0,{"$f":"FS169","v":0},0,0,0,0,{"$f":"FX169","v":0},0,0,0,{"$f":"BN169/4","v":0},0,0,0,0,0,0,0,0,null,0,0,0,null,0,0,0,null,0,0,0]
[null,null,null,null,null,"3rd",null,null,null,null,null,null,null,null,null,{"$f":"IF(G170>0,Q170,0)","v":0},null,null,null,null,null,null,null,{"$f":"(G170+H170)/2","v":0},0.30480000000000002,{"$f":"IF($X$7=0,(X170*Y170),X170)","v":0},0,0,0,{"$f":"Z170*0.9","v":0},0,0,0,{"$f":"Z170*0.86","v":0},0,0,0,{"$f":"Z170*0.64","v":0},0,0,0,{"$f":"Z170*$AR$2","v":0},{"$f":"AA170*$AR$2","v":0},0,0,0,0,0,0,{"$f":"(AH170*($AR$2*(3/5)))","v":0},0,0,0,{"$f":"AL170*(1+(5/9))*$AR$2","v":0},0,{"$f":"AN170*(Inch_to_Yard*(7/8))","v":0},{"$f":"AO170*(Inch_to_Yard*(1/2))","v":0},{"$f":"Z170*(8/9)","v":0},0,{"$f":"BG170*(2/3)","v":0},0,0,0,{"$f":"BK170*(2/3)","v":0},0,0,0,{"$f":"BO170*(2/3)","v":0},0,0,0,null,0,0,0,0,0,0,0,0,0,0,0,0,0,0,0,0,0,0,0,0,0,0,0,0,0,0,0,0,0,0,0,0,0,0,0,0,0,0,0,{"$f":"AP170*(3/4)","v":0},{"$f":"AT170*(3/4)","v":0},{"$f":"AX170*(3/4)","v":0},0,0,{"$f":"Z170/10","v":0},{"$f":"AA170/10","v":0},0,{"$f":"AE170/10","v":0},{"$f":"AF170/10","v":0},0,{"$f":"DP170","v":0},{"$f":"DQ170","v":0},{"$f":"DM170*(4/5)","v":0},0,{"$f":"DP170*(4/5)","v":0},0,{"$f":"DR170*(2/3)","v":0},{"$f":"DS170*(4/5)","v":0},0,{"$f":"CG170*(1/2)","v":0},0,0,{"$f":"CJ170*(5/12)","v":0},{"$f":"CK170*(1/2)","v":0},0,0,{"$f":"CN170*(5/12)","v":0},{"$f":"CO170*(1/2)","v":0},0,0,{"$f":"CR170*(5/12)","v":0},0,0,{"$f":"CT170*(1/2)","v":0},{"$f":"CU170*(1/2)","v":0},{"$f":"CV170*(2/3)","v":0},{"$f":"CV170*(3/4)","v":0},{"$f":"CW170*(1/2)","v":0},{"$f":"CX170*(1/2)","v":0},{"$f":"CY170*(1/2)","v":0},{"$f":"CZ170*(2/3)","v":0},{"$f":"DA170*(2/3)","v":0},{"$f":"DB170*(2/3)","v":0},{"$f":"DC170*(2/3)","v":0},{"$f":"DD170*(1/2)","v":0},{"$f":"DE170*(1/2)","v":0},{"$f":"DF170*(1/2)","v":0},{"$f":"DG170*(1/2)","v":0},{"$f":"IF($G170>0,3,0)","v":0},0,0,0,{"$f":"IF($G170>0,3,0)","v":0},0,{"$f":"IF($G154>0,1,0)","v":0},0,0,0,{"$f":"IF($G154>0,1,0)","v":0},0,0,0,{"$f":"BF170*0.25","v":0},{"$f":"FS170","v":0},{"$f":"BG170/8","v":0},{"$f":"BH170/4","v":0},{"$f":"BI170/4","v":0},{"$f":"BJ170*0.25","v":0},{"$f":"FX170","v":0},{"$f":"BK170/4","v":0},0,0,0,0,0,0,{"$f":"BW170/4","v":0},{"$f":"BX170/4","v":0},0,0,0,null,{"$f":"GI170*0.75","v":0},{"$f":"GJ170*0.75","v":0},{"$f":"GK170*0.75","v":0},null,{"$f":"GI170*0.4","v":0},{"$f":"GJ170*0.4","v":0},{"$f":"GK170*0.4","v":0},null,{"$f":"GQ170*0.93","v":0},{"$f":"GR170*0.93","v":0},{"$f":"GS170*0.93","v":0}]
[null,null,null,null,null,"4th",null,null,null,null,null,null,null,null,null,0,null,null,null,null,null,null,null,0,0.30480000000000002,0,0,0,0,0,0,0,0,{"$f":"Z171*0.83","v":0},0,0,0,{"$f":"Z171*0.66","v":0},0,0,0,0,0,0,0,0,0,0,0,{"$f":"(AH171*($AR$2*(2/3)))","v":0},0,0,0,{"$f":"AL171*(1+(2/9))*$AR$2","v":0},0,0,0,0,0,{"$f":"BG171*(3/5)","v":0},0,0,0,{"$f":"BK171*(3/5)","v":0},0,0,0,{"$f":"BO171*(3/5)","v":0},0,0,0,null,0,0,0,0,0,0,0,0,0,0,0,0,0,0,0,0,0,0,0,0,0,0,0,0,0,0,0,0,0,0,0,0,0,0,0,0,0,0,0,0,0,0,0,0,0,0,0,0,0,0,0,0,0,0,0,0,0,0,0,0,0,0,0,0,0,0,0,0,0,0,0,0,0,0,0,0,0,0,0,0,0,0,0,0,0,0,0,0,{"$f":"IF($G171>0,1,0)","v":0},0,0,0,{"$f":"IF($G171>0,1,0)","v":0},0,{"$f":"IF($G154>0,1,0)","v":0},0,0,0,{"$f":"IF($G154>0,1,0)","v":0},0,{"$f":"IF($G154>0,1,0)","v":0},0,0,{"$f":"BF171/2","v":0},0,0,0,0,{"$f":"BK171/2","v":0},0,0,0,{"$f":"BN171/4","v":0},0,0,0,0,0,0,0,0,null,0,0,0,null,0,0,0,null,0,0,0]
[null,null,null,null,null,"5th",null,null,null,null,null,null,null,null,null,{"$f":"IF(G172>0,Q172,0)","v":0},null,null,null,null,null,null,null,{"$f":"(G172+H172)/2","v":0},0.30480000000000002,{"$f":"IF($X$7=0,(X172*Y172),X172)","v":0},0,0,0,{"$f":"Z172*0.9","v":0},0,0,0,{"$f":"Z172*0.83","v":0},0,0,0,{"$f":"Z172*0.66","v":0},0,0,0,{"$f":"Z172*$AR$2","v":0},{"$f":"AA172*$AR$2","v":0},0,0,0,0,0,0,{"$f":"(AH172*($AR$2*(2/3)))","v":0},0,0,0,{"$f":"AL172*(1+(2/9))*$AR$2","v":0},0,{"$f":"AN172*(Inch_to_Yard*(7/8))","v":0},{"$f":"AO172*(Inch_to_Yard*(1/2))","v":0},{"$f":"Z172*(8/9)","v":0},0,{"$f":"BG172*(3/5)","v":0},0,0,0,{"$f":"BK172*(3/5)","v":0},0,0,0,{"$f":"BO172*(3/5)","v":0},0,0,0,null,0,0,0,0,0,0,0,0,0,0,0,0,0,0,0,0,0,0,0,0,0,0,0,0,0,0,0,0,0,0,0,0,0,0,0,0,0,0,0,{"$f":"AP172*(3/4)","v":0},{"$f":"AT172*(3/4)","v":0},{"$f":"AX172*(3/4)","v":0},0,0,{"$f":"Z172/10","v":0},{"$f":"AA172/10","v":0},0,{"$f":"AE172/10","v":0},{"$f":"AF172/10","v":0},0,{"$f":"DP172","v":0},{"$f":"DQ172","v":0},{"$f":"DM172*(4/5)","v":0},0,{"$f":"DP172*(4/5)","v":0},0,{"$f":"DR172*(2/3)","v":0},{"$f":"DS172*(4/5)","v":0},0,{"$f":"CG172*(1/2)","v":0},0,0,{"$f":"CJ172*(5/12)","v":0},{"$f":"CK172*(1/2)","v":0},0,0,{"$f":"CN172*(5/12)","v":0},{"$f":"CO172*(1/2)","v":0},0,0,{"$f":"CR172*(5/12)","v":0},0,0,{"$f":"CT172*(1/2)","v":0},{"$f":"CU172*(1/2)","v":0},{"$f":"CV172*(2/3)","v":0},{"$f":"CV172*(3/4)","v":0},{"$f":"CW172*(1/2)","v":0},0,0,{"$f":"CZ172*(2/3)","v":0},0,0,0,{"$f":"DD172*(1/2)","v":0},0,0,0,{"$f":"IF($G172>0,1,0)","v":0},0,0,0,{"$f":"IF($G172>0,1,0)","v":0},0,{"$f":"IF($G155>0,1,0)","v":0},0,0,0,{"$f":"IF($G155>0,1,0)","v":0},0,0,0,{"$f":"BF172*0.25","v":0},{"$f":"BF172/2","v":0},{"$f":"BG172/8","v":0},{"$f":"BH172/4","v":0},{"$f":"BI172/4","v":0},{"$f":"BJ172*0.25","v":0},{"$f":"BK172/2","v":0},{"$f":"BK172/4","v":0},0,0,0,0,0,0,{"$f":"BW172/4","v":0},{"$f":"BX172/4","v":0},0,0,0,null,{"$f":"GI172*0.75","v":0},0,0,null,{"$f":"GI172*0.4","v":0},0,0,null,{"$f":"GQ172*0.93","v":0},0,0]
[null,null,null,null,null,"6th",null,null,null,null,null,null,null,null,null,{"$f":"IF(G173>0,Q173,0)","v":0},null,null,null,null,null,null,null,{"$f":"(G173+H173)/2","v":0},0.30480000000000002,{"$f":"IF($X$7=0,(X173*Y173),X173)","v":0},0,0,0,{"$f":"Z173*0.9","v":0},0,0,0,{"$f":"Z173*0.83","v":0},0,0,0,{"$f":"Z173*0.66","v":0},0,0,0,{"$f":"Z173*$AR$2","v":0},{"$f":"AA173*$AR$2","v":0},0,0,0,0,0,0,{"$f":"(AH173*($AR$2*(2/3)))","v":0},0,0,0,{"$f":"AL173*(1+(2/9))*$AR$2","v":0},0,{"$f":"AN173*(Inch_to_Yard*(7/8))","v":0},{"$f":"AO173*(Inch_to_Yard*(1/2))","v":0},{"$f":"Z173*(8/9)","v":0},0,{"$f":"BG173*(3/5)","v":0},0,0,0,{"$f":"BK173*(3/5)","v":0},0,0,0,{"$f":"BO173*(3/5)","v":0},0,0,0,null,0,0,0,0,0,0,0,0,0,0,0,0,0,0,0,0,0,0,0,0,0,0,0,0,0,0,0,0,0,0,0,0,0,0,0,0,0,0,0,{"$f":"AP173*(3/4)","v":0},{"$f":"AT173*(3/4)","v":0},{"$f":"AX173*(3/4)","v":0},0,0,{"$f":"Z173/10","v":0},{"$f":"AA173/10","v":0},0,{"$f":"AE173/10","v":0},{"$f":"AF173/10","v":0},0,{"$f":"DP173","v":0},{"$f":"DQ173","v":0},{"$f":"DM173*(4/5)","v":0},0,{"$f":"DP173*(4/5)","v":0},0,{"$f":"DR173*(2/3)","v":0},{"$f":"DS173*(4/5)","v":0},0,{"$f":"CG173*(1/2)","v":0},0,0,{"$f":"CJ173*(5/12)","v":0},{"$f":"CK173*(1/2)","v":0},0,0,{"$f":"CN173*(5/12)","v":0},{"$f":"CO173*(1/2)","v":0},0,0,{"$f":"CR173*(5/12)","v":0},0,0,{"$f":"CT173*(1/2)","v":0},{"$f":"CU173*(1/2)","v":0},{"$f":"CV173*(2/3)","v":0},{"$f":"CV173*(3/4)","v":0},0,0,0,0,0,0,0,0,0,0,0,{"$f":"IF($G173>0,1,0)","v":0},0,0,0,{"$f":"IF($G173>0,1,0)","v":0},0,{"$f":"IF($G156>0,1,0)","v":0},0,0,0,{"$f":"IF($G156>0,1,0)","v":0},0,0,0,{"$f":"BF173*0.25","v":0},{"$f":"BF173/2","v":0},{"$f":"BG173/8","v":0},{"$f":"BH173/4","v":0},{"$f":"BI173/4","v":0},{"$f":"BJ173*0.25","v":0},{"$f":"BK173/2","v":0},0,0,0,0,0,0,0,{"$f":"BW173/4","v":0},{"$f":"BX173/4","v":0},0,0,0,null,0,0,0,null,0,0,0,null,0,0,0]
[null,null,null,null,null,"Sloops",null,null,null,null,null,null,null,null,null,0,null,null,null,null,null,null,null,0,0.30480000000000002,0,0,0,0,0,0,0,0,{"$f":"Z174*0.75","v":0},{"$f":"AA174*0.71","v":0},0,0,{"$f":"Z174*0.66","v":0},0,0,0,0,0,0,0,0,0,0,0,{"$f":"(AH174*($AR$2*(2/3)))","v":0},0,0,0,{"$f":"AL174*(1+(2/9))*$AR$2","v":0},0,0,0,0,0,{"$f":"BG174*(3/5)","v":0},0,0,0,{"$f":"BK174*(3/5)","v":0},0,0,0,{"$f":"BO174*(3/5)","v":0},0,0,0,null,0,0,0,0,0,0,0,0,0,0,0,0,0,0,0,0,0,0,0,0,0,0,0,0,0,0,0,0,0,0,0,0,0,0,0,0,0,0,0,0,0,0,0,0,0,0,0,0,0,0,0,0,0,0,0,0,0,0,0,0,0,0,0,0,0,0,0,0,0,0,0,0,0,0,0,0,0,0,0,0,0,0,0,0,0,0,0,0,{"$f":"IF($G174>0,1,0)","v":0},0,0,0,{"$f":"IF($G174>0,1,0)","v":0},0,{"$f":"IF($G155>0,1,0)","v":0},0,0,0,{"$f":"IF($G155>0,1,0)","v":0},0,{"$f":"IF($G155>0,1,0)","v":0},{"$f":"IF($G155>0,1,0)","v":0},0,{"$f":"BF174/2","v":0},0,0,0,0,{"$f":"BK174/2","v":0},0,0,0,{"$f":"BN174/4","v":0},0,0,0,0,0,0,0,0,null,0,0,0,null,0,0,0,null,0,0,0]

{"sheet":"Running Calcs","index":2,"n_rows":174,"n_cols":94,"rows_kept":174,"cut":false,"hidden":false,"merged":[[0,32,1,32],[0,33,1,33],[0,34,1,34],[0,35,1,35],[0,15,1,15],[0,16,1,16],[0,17,1,17],[0,18,1,18],[0,29,1,29],[0,23,1,23],[0,19,1,19],[0,20,1,20],[0,22,1,22],[0,21,1,21],[0,24,1,24],[0,25,1,25],[0,26,1,26],[0,31,1,31],[0,27,1,27],[0,28,1,28],[0,30,1,30],[0,48,1,48],[0,44,1,44],[0,36,1,36],[0,37,1,37],[0,38,1,38],[0,39,1,39],[0,40,1,40],[0,45,1,45],[0,46,1,46],[0,47,1,47],[0,41,1,41],[0,42,1,42],[0,43,1,43],[0,54,1,54],[0,61,1,61],[0,52,1,52],[0,49,1,49],[0,50,1,50],[0,51,1,51],[0,53,1,53],[0,70,1,70],[0,55,1,55],[0,56,1,56],[0,60,1,60],[0,57,1,57],[0,58,1,58],[0,59,1,59],[0,66,1,66],[0,67,1,67],[0,68,1,68],[0,69,1,69],[0,62,1,62],[0,63,1,63],[0,64,1,64],[0,65,1,65],[0,75,1,75],[0,76,1,76],[0,77,1,77],[0,78,1,78],[0,71,1,71],[0,72,1,72],[0,73,1,73],[0,74,1,74],[0,83,1,83],[0,84,1,84],[0,85,1,85],[0,86,1,86],[0,79,1,79],[0,80,1,80],[0,81,1,81],[0,82,1,82],[0,91,1,91],[0,92,1,92],[0,93,1,93],[0,87,1,87],[0,88,1,88],[0,89,1,89],[0,90,1,90]]}
[null,"1 foot = x Metres",0.30480000000000002,null,null,null,null,null,null,null,null,null,null,null,null,"Lower Stay Collars","Lower Stay Collars","Lower Preventer Stays","Lower Preventer Stays","Lower Preventer Stay Collars","Lower Preventer Stay Collars","Fore Topmast Shrouds","Fore Topmast Burton Pendants","Bobstay","Spritsail Yard","Spritsail Yard","Spritsail Yard","Spritsail Yard","Spritsail Yard","Spritsail Yard","Sprit Topsail","Sprit Topsail","Sprit Topsail","Sprit Topsail","Sprit Topsail","Sprit Topsail","Sprit Topsail","Sprit Topsail","Fore Yard","Fore Yard","Fore Yard","Main Yard","Main Yard","Main Yard","Main Yard","Main Yard","Main Yard","Main Yard","Main Yard","Main Yard","Main Yard","Crossjack","Crossjack","Crossjack","Crossjack","Main Topsail Yard","Main Topsail Yard","Main Topsail Yard","Main Topsail Yard","Main Topsail Yard","Main Topsail Yard","Fore Topsail Yard","Fore Topsail Yard","Fore Topsail Yard","Fore Topsail Yard","Fore Topsail Yard","Fore Topsail Yard","Fore Topsail Yard","Fore Topsail Yard","Fore Topsail Yard","Mizzen Topsail Yard","Mizzen Topsail Yard","Mizzen Topsail Yard","Mizzen Topsail Yard","Mizzen Topsail Yard","Mizzen Topsail Yard","Mizzen Topsail Yard","Mizzen Topsail Yard","Mizzen Topsail Yard","Mizzen Topsail Yard","Main Topgallant Yard","Main Topgallant Yard","Main Topgallant Yard","Main Topgallant Yard","Fore Topgallant Yard","Fore Topgallant Yard","Mizzen Yard","Mizzen Yard","Mizzen Yard","Mizzen Yard","Mizzen Yard","Mizzen Yard","Mizzen Yard","Mizzen Yard"]
[null,"1 metre = x inches",39.370078739999997,"Lower Stays",null,"All Formulas in Main Area are Diameter of Stay",null,null,null,null,null,null,null,null,"Lower Stays"]
[null,null,"Scale Inches",{"$f":"(D5)/scale","v":{"$error":"#DIV/0!"}},null,null,null,{"$f":"(H5)/scale","v":{"$error":"#DIV/0!"}},null,null,null,{"$f":"(L5)/scale","v":{"$error":"#DIV/0!"}},null,null,null,{"$f":"(P5)/scale","v":{"$error":"#DIV/0!"}},{"$error":"#DIV/0!"},{"$error":"#DIV/0!"},{"$error":"#DIV/0!"},{"$error":"#DIV/0!"},{"$error":"#DIV/0!"},{"$error":"#DIV/0!"},{"$error":"#DIV/0!"},{"$error":"#DIV/0!"},{"$error":"#DIV/0!"},{"$error":"#DIV/0!"},{"$error":"#DIV/0!"},{"$error":"#DIV/0!"},{"$error":"#DIV/0!"},{"$error":"#DIV/0!"},{"$error":"#DIV/0!"},{"$error":"#DIV/0!"},{"$error":"#DIV/0!"},{"$error":"#DIV/0!"},{"$error":"#DIV/0!"},{"$error":"#DIV/0!"},{"$error":"#DIV/0!"},{"$error":"#DIV/0!"},{"$error":"#DIV/0!"},{"$error":"#DIV/0!"},{"$error":"#DIV/0!"},{"$error":"#DIV/0!"},{"$error":"#DIV/0!"},{"$error":"#DIV/0!"},{"$error":"#DIV/0!"},{"$error":"#DIV/0!"},{"$error":"#DIV/0!"},{"$error":"#DIV/0!"},{"$error":"#DIV/0!"},{"$error":"#DIV/0!"},{"$error":"#DIV/0!"},{"$error":"#DIV/0!"},{"$error":"#DIV/0!"},{"$error":"#DIV/0!"},{"$error":"#DIV/0!"},{"$f":"(BD5)/scale","v":{"$error":"#DIV/0!"}},{"$error":"#DIV/0!"},{"$error":"#DIV/0!"},{"$error":"#DIV/0!"},{"$error":"#DIV/0!"},{"$error":"#DIV/0!"},{"$error":"#DIV/0!"},{"$f":"(BK5)/scale","v":{"$error":"#DIV/0!"}},{"$error":"#DIV/0!"},{"$error":"#DIV/0!"},{"$error":"#DIV/0!"},{"$error":"#DIV/0!"},{"$error":"#DIV/0!"},{"$error":"#DIV/0!"},{"$error":"#DIV/0!"},{"$f":"(BS5)/scale","v":{"$error":"#DIV/0!"}},{"$error":"#DIV/0!"},{"$error":"#DIV/0!"},{"$error":"#DIV/0!"},{"$error":"#DIV/0!"},{"$error":"#DIV/0!"},{"$f":"(BY5)/scale","v":{"$error":"#DIV/0!"}},{"$error":"#DIV/0!"},{"$error":"#DIV/0!"},{"$error":"#DIV/0!"},{"$error":"#DIV/0!"},{"$error":"#DIV/0!"},{"$error":"#DIV/0!"},{"$error":"#DIV/0!"},{"$error":"#DIV/0!"},{"$error":"#DIV/0!"},{"$f":"(CI5)/scale","v":{"$error":"#DIV/0!"}},{"$error":"#DIV/0!"},{"$error":"#DIV/0!"},{"$error":"#DIV/0!"},{"$error":"#DIV/0!"},{"$error":"#DIV/0!"},{"$error":"#DIV/0!"},{"$f":"(CP5)/scale","v":{"$error":"#DIV/0!"}}]
[null,null,"Scale mm",{"$f":"D6/scale","v":{"$error":"#DIV/0!"}},null,null,null,{"$f":"H6/scale","v":{"$error":"#DIV/0!"}},null,null,null,{"$f":"L6/scale","v":{"$error":"#DIV/0!"}},null,null,null,{"$f":"(P7*1000)/scale","v":{"$error":"#DIV/0!"}},{"$error":"#DIV/0!"},{"$error":"#DIV/0!"},{"$error":"#DIV/0!"},{"$error":"#DIV/0!"},{"$error":"#DIV/0!"},{"$error":"#DIV/0!"},{"$error":"#DIV/0!"},{"$error":"#DIV/0!"},{"$error":"#DIV/0!"},{"$error":"#DIV/0!"},{"$error":"#DIV/0!"},{"$error":"#DIV/0!"},{"$error":"#DIV/0!"},{"$error":"#DIV/0!"},{"$error":"#DIV/0!"},{"$error":"#DIV/0!"},{"$error":"#DIV/0!"},{"$error":"#DIV/0!"},{"$error":"#DIV/0!"},{"$error":"#DIV/0!"},{"$error":"#DIV/0!"},{"$error":"#DIV/0!"},{"$error":"#DIV/0!"},{"$error":"#DIV/0!"},{"$error":"#DIV/0!"},{"$error":"#DIV/0!"},{"$error":"#DIV/0!"},{"$error":"#DIV/0!"},{"$error":"#DIV/0!"},{"$error":"#DIV/0!"},{"$error":"#DIV/0!"},{"$error":"#DIV/0!"},{"$error":"#DIV/0!"},{"$error":"#DIV/0!"},{"$error":"#DIV/0!"},{"$error":"#DIV/0!"},{"$error":"#DIV/0!"},{"$error":"#DIV/0!"},{"$error":"#DIV/0!"},{"$f":"(BD7*1000)/scale","v":{"$error":"#DIV/0!"}},{"$error":"#DIV/0!"},{"$error":"#DIV/0!"},{"$error":"#DIV/0!"},{"$error":"#DIV/0!"},{"$error":"#DIV/0!"},{"$error":"#DIV/0!"},{"$f":"(BK7*1000)/scale","v":{"$error":"#DIV/0!"}},{"$error":"#DIV/0!"},{"$error":"#DIV/0!"},{"$error":"#DIV/0!"},{"$error":"#DIV/0!"},{"$error":"#DIV/0!"},{"$error":"#DIV/0!"},{"$error":"#DIV/0!"},{"$f":"(BS7*1000)/scale","v":{"$error":"#DIV/0!"}},{"$error":"#DIV/0!"},{"$error":"#DIV/0!"},{"$error":"#DIV/0!"},{"$error":"#DIV/0!"},{"$error":"#DIV/0!"},{"$f":"(BY7*1000)/scale","v":{"$error":"#DIV/0!"}},{"$error":"#DIV/0!"},{"$error":"#DIV/0!"},{"$error":"#DIV/0!"},{"$error":"#DIV/0!"},{"$error":"#DIV/0!"},{"$error":"#DIV/0!"},{"$error":"#DIV/0!"},{"$error":"#DIV/0!"},{"$error":"#DIV/0!"},{"$f":"(CI7*1000)/scale","v":{"$error":"#DIV/0!"}},{"$error":"#DIV/0!"},{"$error":"#DIV/0!"},{"$error":"#DIV/0!"},{"$error":"#DIV/0!"},{"$error":"#DIV/0!"},{"$error":"#DIV/0!"},{"$f":"(CP7*1000)/scale","v":{"$error":"#DIV/0!"}}]
[null,null,"Original Inches",{"$f":"D7*$C$2","v":0},null,null,null,{"$f":"H7*$C$2","v":0},null,null,null,{"$f":"L7*$C$2","v":0},null,null,null,{"$f":"(P7*'Data Entry'!$AE$2)","v":0},{"$f":"(Q7*'Data Entry'!$AE$2)","v":0},{"$f":"(R7*'Data Entry'!$AE$2)","v":0},{"$f":"(S7*'Data Entry'!$AE$2)","v":0},{"$f":"(T7*'Data Entry'!$AE$2)","v":0},{"$f":"(U7*'Data Entry'!$AE$2)","v":0},{"$f":"(V7*'Data Entry'!$AE$2)","v":0},{"$f":"(W7*'Data Entry'!$AE$2)","v":0},{"$f":"(X7*'Data Entry'!$AE$2)","v":0},{"$f":"(Y7*'Data Entry'!$AE$2)","v":0},{"$f":"(Z7*'Data Entry'!$AE$2)","v":0},{"$f":"(AA7*'Data Entry'!$AE$2)","v":0},{"$f":"(AB7*'Data Entry'!$AE$2)","v":0},{"$f":"(AC7*'Data Entry'!$AE$2)","v":0},{"$f":"(AD7*'Data Entry'!$AE$2)","v":0},{"$f":"(AE7*'Data Entry'!$AE$2)","v":0},{"$f":"(AF7*'Data Entry'!$AE$2)","v":0},{"$f":"(AG7*'Data Entry'!$AE$2)","v":0},{"$f":"(AH7*'Data Entry'!$AE$2)","v":0},{"$f":"(AI7*'Data Entry'!$AE$2)","v":0},{"$f":"(AJ7*'Data Entry'!$AE$2)","v":0},{"$f":"(AK7*'Data Entry'!$AE$2)","v":0},{"$f":"(AL7*'Data Entry'!$AE$2)","v":0},{"$f":"(AM7*'Data Entry'!$AE$2)","v":0},{"$f":"(AN7*'Data Entry'!$AE$2)","v":0},{"$f":"(AO7*'Data Entry'!$AE$2)","v":0},{"$f":"(AP7*'Data Entry'!$AE$2)","v":0},{"$f":"(AQ7*'Data Entry'!$AE$2)","v":0},{"$f":"(AR7*'Data Entry'!$AE$2)","v":0},{"$f":"(AS7*'Data Entry'!$AE$2)","v":0},{"$f":"(AT7*'Data Entry'!$AE$2)","v":0},{"$f":"(AU7*'Data Entry'!$AE$2)","v":0},{"$f":"(AV7*'Data Entry'!$AE$2)","v":0},{"$f":"(AW7*'Data Entry'!$AE$2)","v":0},{"$f":"(AX7*'Data Entry'!$AE$2)","v":0},{"$f":"(AY7*'Data Entry'!$AE$2)","v":0},{"$f":"(AZ7*'Data Entry'!$AE$2)","v":0},{"$f":"(BA7*'Data Entry'!$AE$2)","v":0},{"$f":"(BB7*'Data Entry'!$AE$2)","v":0},{"$f":"(BC7*'Data Entry'!$AE$2)","v":0},{"$f":"(BD7*'Data Entry'!$AE$2)","v":0},{"$f":"(BE7*'Data Entry'!$AE$2)","v":0},{"$f":"(BF7*'Data Entry'!$AE$2)","v":0},{"$f":"(BG7*'Data Entry'!$AE$2)","v":0},{"$f":"(BH7*'Data Entry'!$AE$2)","v":0},{"$f":"(BI7*'Data Entry'!$AE$2)","v":0},{"$f":"(BJ7*'Data Entry'!$AE$2)","v":0},{"$f":"(BK7*'Data Entry'!$AE$2)","v":0},{"$f":"(BL7*'Data Entry'!$AE$2)","v":0},{"$f":"(BM7*'Data Entry'!$AE$2)","v":0},{"$f":"(BN7*'Data Entry'!$AE$2)","v":0},{"$f":"(BO7*'Data Entry'!$AE$2)","v":0},{"$f":"(BP7*'Data Entry'!$AE$2)","v":0},{"$f":"(BQ7*'Data Entry'!$AE$2)","v":0},{"$f":"(BR7*'Data Entry'!$AE$2)","v":0},{"$f":"(BS7*'Data Entry'!$AE$2)","v":0},{"$f":"(BT7*'Data Entry'!$AE$2)","v":0},{"$f":"(BU7*'Data Entry'!$AE$2)","v":0},{"$f":"(BV7*'Data Entry'!$AE$2)","v":0},{"$f":"(BW7*'Data Entry'!$AE$2)","v":0},{"$f":"(BX7*'Data Entry'!$AE$2)","v":0},{"$f":"(BY7*'Data Entry'!$AE$2)","v":0},{"$f":"(BZ7*'Data Entry'!$AE$2)","v":0},{"$f":"(CA7*'Data Entry'!$AE$2)","v":0},{"$f":"(CB7*'Data Entry'!$AE$2)","v":0},{"$f":"(CC7*'Data Entry'!$AE$2)","v":0},{"$f":"(CD7*'Data Entry'!$AE$2)","v":0},{"$f":"(CE7*'Data Entry'!$AE$2)","v":0},{"$f":"(CF7*'Data Entry'!$AE$2)","v":0},{"$f":"(CG7*'Data Entry'!$AE$2)","v":0},{"$f":"(CH7*'Data Entry'!$AE$2)","v":0},{"$f":"(CI7*'Data Entry'!$AE$2)","v":0},{"$f":"(CJ7*'Data Entry'!$AE$2)","v":0},{"$f":"(CK7*'Data Entry'!$AE$2)","v":0},{"$f":"(CL7*'Data Entry'!$AE$2)","v":0},{"$f":"(CM7*'Data Entry'!$AE$2)","v":0},{"$f":"(CN7*'Data Entry'!$AE$2)","v":0},{"$f":"(CO7*'Data Entry'!$AE$2)","v":0},{"$f":"(CP7*'Data Entry'!$AE$2)","v":0}]
[null,null,"Original mm",{"$f":"D7*1000","v":0},null,null,null,{"$f":"H7*1000","v":0},null,null,null,{"$f":"L7*1000","v":0},null,null,null,{"$f":"P7*1000","v":0},0,0,0,0,0,0,0,0,0,0,0,0,0,0,0,0,0,0,0,0,0,0,0,0,0,0,{"$f":"AQ7*1000","v":0},0,0,0,0,0,0,0,0,{"$f":"AZ7*1000","v":0},0,0,0,0,0,0,0,0,0,0,0,0,0,0,0,0,0,0,0,0,0,0,0,0,0,0,0,0,0,0,0,0,0,0,0,0,0,0,0,0,0,0]
[null,null,null,{"$f":"IF('Data Entry'!$X$4=1,MAX(D9:D174),(MAX(D9:D174)*$C$1))","v":0},null,null,null,{"$f":"IF('Data Entry'!$X$4=1,MAX(H9:H174),(MAX(H9:H174)*$C$1))","v":0},null,null,null,{"$f":"IF('Data Entry'!$X$4=1,MAX(L9:L174),(MAX(L9:L174)*$C$1))","v":0},null,null,null,{"$f":"IF('Data Entry'!$X$4=1,MAX(P9:P174),(MAX(P9:P174)*'Data Entry'!$AC$2))","v":0},{"$f":"IF('Data Entry'!$X$4=1,MAX(Q9:Q174),(MAX(Q9:Q174)*'Data Entry'!$AC$2))","v":0},{"$f":"IF('Data Entry'!$X$4=1,MAX(R9:R174),(MAX(R9:R174)*'Data Entry'!$AC$2))","v":0},{"$f":"IF('Data Entry'!$X$4=1,MAX(S9:S174),(MAX(S9:S174)*'Data Entry'!$AC$2))","v":0},{"$f":"IF('Data Entry'!$X$4=1,MAX(T9:T174),(MAX(T9:T174)*'Data Entry'!$AC$2))","v":0},{"$f":"IF('Data Entry'!$X$4=1,MAX(U9:U174),(MAX(U9:U174)*'Data Entry'!$AC$2))","v":0},{"$f":"IF('Data Entry'!$X$4=1,MAX(V9:V174),(MAX(V9:V174)*'Data Entry'!$AC$2))","v":0},{"$f":"IF('Data Entry'!$X$4=1,MAX(W9:W174),(MAX(W9:W174)*'Data Entry'!$AC$2))","v":0},{"$f":"IF('Data Entry'!$X$4=1,MAX(X9:X174),(MAX(X9:X174)*'Data Entry'!$AC$2))","v":0},{"$f":"IF('Data Entry'!$X$4=1,MAX(Y9:Y174),(MAX(Y9:Y174)*'Data Entry'!$AC$2))","v":0},{"$f":"IF('Data Entry'!$X$4=1,MAX(Z9:Z174),(MAX(Z9:Z174)*'Data Entry'!$AC$2))","v":0},{"$f":"IF('Data Entry'!$X$4=1,MAX(AA9:AA174),(MAX(AA9:AA174)*'Data Entry'!$AC$2))","v":0},{"$f":"IF('Data Entry'!$X$4=1,MAX(AB9:AB174),(MAX(AB9:AB174)*'Data Entry'!$AC$2))","v":0},{"$f":"IF('Data Entry'!$X$4=1,MAX(AC9:AC174),(MAX(AC9:AC174)*'Data Entry'!$AC$2))","v":0},{"$f":"IF('Data Entry'!$X$4=1,MAX(AD9:AD174),(MAX(AD9:AD174)*'Data Entry'!$AC$2))","v":0},{"$f":"IF('Data Entry'!$X$4=1,MAX(AE9:AE174),(MAX(AE9:AE174)*'Data Entry'!$AC$2))","v":0},{"$f":"IF('Data Entry'!$X$4=1,MAX(AF9:AF174),(MAX(AF9:AF174)*'Data Entry'!$AC$2))","v":0},{"$f":"IF('Data Entry'!$X$4=1,MAX(AG9:AG174),(MAX(AG9:AG174)*'Data Entry'!$AC$2))","v":0},{"$f":"IF('Data Entry'!$X$4=1,MAX(AH9:AH174),(MAX(AH9:AH174)*'Data Entry'!$AC$2))","v":0},{"$f":"IF('Data Entry'!$X$4=1,MAX(AI9:AI174),(MAX(AI9:AI174)*'Data Entry'!$AC$2))","v":0},{"$f":"IF('Data Entry'!$X$4=1,MAX(AJ9:AJ174),(MAX(AJ9:AJ174)*'Data Entry'!$AC$2))","v":0},{"$f":"IF('Data Entry'!$X$4=1,MAX(AK9:AK174),(MAX(AK9:AK174)*'Data Entry'!$AC$2))","v":0},{"$f":"IF('Data Entry'!$X$4=1,MAX(AL9:AL174),(MAX(AL9:AL174)*'Data Entry'!$AC$2))","v":0},{"$f":"IF('Data Entry'!$X$4=1,MAX(AM9:AM174),(MAX(AM9:AM174)*'Data Entry'!$AC$2))","v":0},{"$f":"IF('Data Entry'!$X$4=1,MAX(AN9:AN174),(MAX(AN9:AN174)*'Data Entry'!$AC$2))","v":0},{"$f":"IF('Data Entry'!$X$4=1,MAX(AO9:AO174),(MAX(AO9:AO174)*'Data Entry'!$AC$2))","v":0},{"$f":"IF('Data Entry'!$X$4=1,MAX(AP9:AP174),(MAX(AP9:AP174)*'Data Entry'!$AC$2))","v":0},{"$f":"IF('Data Entry'!$X$4=1,MAX(AQ9:AQ174),(MAX(AQ9:AQ174)*'Data Entry'!$AC$2))","v":0},{"$f":"IF('Data Entry'!$X$4=1,MAX(AR9:AR174),(MAX(AR9:AR174)*'Data Entry'!$AC$2))","v":0},{"$f":"IF('Data Entry'!$X$4=1,MAX(AS9:AS174),(MAX(AS9:AS174)*'Data Entry'!$AC$2))","v":0},{"$f":"IF('Data Entry'!$X$4=1,MAX(AT9:AT174),(MAX(AT9:AT174)*'Data Entry'!$AC$2))","v":0},{"$f":"IF('Data Entry'!$X$4=1,MAX(AU9:AU174),(MAX(AU9:AU174)*'Data Entry'!$AC$2))","v":0},{"$f":"IF('Data Entry'!$X$4=1,MAX(AV9:AV174),(MAX(AV9:AV174)*'Data Entry'!$AC$2))","v":0},{"$f":"IF('Data Entry'!$X$4=1,MAX(AW9:AW174),(MAX(AW9:AW174)*'Data Entry'!$AC$2))","v":0},{"$f":"IF('Data Entry'!$X$4=1,MAX(AX9:AX174),(MAX(AX9:AX174)*'Data Entry'!$AC$2))","v":0},{"$f":"IF('Data Entry'!$X$4=1,MAX(AY9:AY174),(MAX(AY9:AY174)*'Data Entry'!$AC$2))","v":0},{"$f":"IF('Data Entry'!$X$4=1,MAX(AZ9:AZ174),(MAX(AZ9:AZ174)*'Data Entry'!$AC$2))","v":0},{"$f":"IF('Data Entry'!$X$4=1,MAX(BA9:BA174),(MAX(BA9:BA174)*'Data Entry'!$AC$2))","v":0},{"$f":"IF('Data Entry'!$X$4=1,MAX(BB9:BB174),(MAX(BB9:BB174)*'Data Entry'!$AC$2))","v":0},{"$f":"IF('Data Entry'!$X$4=1,MAX(BC9:BC174),(MAX(BC9:BC174)*'Data Entry'!$AC$2))","v":0},{"$f":"IF('Data Entry'!$X$4=1,MAX(BD9:BD174),(MAX(BD9:BD174)*'Data Entry'!$AC$2))","v":0},{"$f":"IF('Data Entry'!$X$4=1,MAX(BE9:BE174),(MAX(BE9:BE174)*'Data Entry'!$AC$2))","v":0},{"$f":"IF('Data Entry'!$X$4=1,MAX(BF9:BF174),(MAX(BF9:BF174)*'Data Entry'!$AC$2))","v":0},{"$f":"IF('Data Entry'!$X$4=1,MAX(BG9:BG174),(MAX(BG9:BG174)*'Data Entry'!$AC$2))","v":0},{"$f":"IF('Data Entry'!$X$4=1,MAX(BH9:BH174),(MAX(BH9:BH174)*'Data Entry'!$AC$2))","v":0},{"$f":"IF('Data Entry'!$X$4=1,MAX(BI9:BI174),(MAX(BI9:BI174)*'Data Entry'!$AC$2))","v":0},{"$f":"IF('Data Entry'!$X$4=1,MAX(BJ9:BJ174),(MAX(BJ9:BJ174)*'Data Entry'!$AC$2))","v":0},{"$f":"IF('Data Entry'!$X$4=1,MAX(BK9:BK174),(MAX(BK9:BK174)*'Data Entry'!$AC$2))","v":0},{"$f":"IF('Data Entry'!$X$4=1,MAX(BL9:BL174),(MAX(BL9:BL174)*'Data Entry'!$AC$2))","v":0},{"$f":"IF('Data Entry'!$X$4=1,MAX(BM9:BM174),(MAX(BM9:BM174)*'Data Entry'!$AC$2))","v":0},{"$f":"IF('Data Entry'!$X$4=1,MAX(BN9:BN174),(MAX(BN9:BN174)*'Data Entry'!$AC$2))","v":0},{"$f":"IF('Data Entry'!$X$4=1,MAX(BO9:BO174),(MAX(BO9:BO174)*'Data Entry'!$AC$2))","v":0},{"$f":"IF('Data Entry'!$X$4=1,MAX(BP9:BP174),(MAX(BP9:BP174)*'Data Entry'!$AC$2))","v":0},{"$f":"IF('Data Entry'!$X$4=1,MAX(BQ9:BQ174),(MAX(BQ9:BQ174)*'Data Entry'!$AC$2))","v":0},{"$f":"IF('Data Entry'!$X$4=1,MAX(BR9:BR174),(MAX(BR9:BR174)*'Data Entry'!$AC$2))","v":0},{"$f":"IF('Data Entry'!$X$4=1,MAX(BS9:BS174),(MAX(BS9:BS174)*'Data Entry'!$AC$2))","v":0},{"$f":"IF('Data Entry'!$X$4=1,MAX(BT9:BT174),(MAX(BT9:BT174)*'Data Entry'!$AC$2))","v":0},{"$f":"IF('Data Entry'!$X$4=1,MAX(BU9:BU174),(MAX(BU9:BU174)*'Data Entry'!$AC$2))","v":0},{"$f":"IF('Data Entry'!$X$4=1,MAX(BV9:BV174),(MAX(BV9:BV174)*'Data Entry'!$AC$2))","v":0},{"$f":"IF('Data Entry'!$X$4=1,MAX(BW9:BW174),(MAX(BW9:BW174)*'Data Entry'!$AC$2))","v":0},{"$f":"IF('Data Entry'!$X$4=1,MAX(BX9:BX174),(MAX(BX9:BX174)*'Data Entry'!$AC$2))","v":0},{"$f":"IF('Data Entry'!$X$4=1,MAX(BY9:BY174),(MAX(BY9:BY174)*'Data Entry'!$AC$2))","v":0},{"$f":"IF('Data Entry'!$X$4=1,MAX(BZ9:BZ174),(MAX(BZ9:BZ174)*'Data Entry'!$AC$2))","v":0},{"$f":"IF('Data Entry'!$X$4=1,MAX(CA9:CA174),(MAX(CA9:CA174)*'Data Entry'!$AC$2))","v":0},{"$f":"IF('Data Entry'!$X$4=1,MAX(CB9:CB174),(MAX(CB9:CB174)*'Data Entry'!$AC$2))","v":0},{"$f":"IF('Data Entry'!$X$4=1,MAX(CC9:CC174),(MAX(CC9:CC174)*'Data Entry'!$AC$2))","v":0},{"$f":"IF('Data Entry'!$X$4=1,MAX(CD9:CD174),(MAX(CD9:CD174)*'Data Entry'!$AC$2))","v":0},{"$f":"IF('Data Entry'!$X$4=1,MAX(CE9:CE174),(MAX(CE9:CE174)*'Data Entry'!$AC$2))","v":0},{"$f":"IF('Data Entry'!$X$4=1,MAX(CF9:CF174),(MAX(CF9:CF174)*'Data Entry'!$AC$2))","v":0},{"$f":"IF('Data Entry'!$X$4=1,MAX(CG9:CG174),(MAX(CG9:CG174)*'Data Entry'!$AC$2))","v":0},{"$f":"IF('Data Entry'!$X$4=1,MAX(CH9:CH174),(MAX(CH9:CH174)*'Data Entry'!$AC$2))","v":0},{"$f":"IF('Data Entry'!$X$4=1,MAX(CI9:CI174),(MAX(CI9:CI174)*'Data Entry'!$AC$2))","v":0},{"$f":"IF('Data Entry'!$X$4=1,MAX(CJ9:CJ174),(MAX(CJ9:CJ174)*'Data Entry'!$AC$2))","v":0},{"$f":"IF('Data Entry'!$X$4=1,MAX(CK9:CK174),(MAX(CK9:CK174)*'Data Entry'!$AC$2))","v":0},{"$f":"IF('Data Entry'!$X$4=1,MAX(CL9:CL174),(MAX(CL9:CL174)*'Data Entry'!$AC$2))","v":0},{"$f":"IF('Data Entry'!$X$4=1,MAX(CM9:CM174),(MAX(CM9:CM174)*'Data Entry'!$AC$2))","v":0},{"$f":"IF('Data Entry'!$X$4=1,MAX(CN9:CN174),(MAX(CN9:CN174)*'Data Entry'!$AC$2))","v":0},{"$f":"IF('Data Entry'!$X$4=1,MAX(CO9:CO174),(MAX(CO9:CO174)*'Data Entry'!$AC$2))","v":0},{"$f":"IF('Data Entry'!$X$4=1,MAX(CP9:CP174),(MAX(CP9:CP174)*'Data Entry'!$AC$2))","v":0}]
[null,"Start of Period","Rate","Main Stay","Main Topmast Stay","Main Topgallant Stay","Main Royal Stay","Fore Stay","Fore Topmast Stay","Fore Topgallant Stay","Fore Royal Stay","Mizzen Stay","Mizzen Topmast Stay","Mizzen Topgallant Stay","Mizzen Royal Stay","Main","Fore","Main","Fore","Main","Fore","Fore Topmast Shrouds","Fore Topmast Burton Pendants","Bobstay","Slings","Halliard","Standing Lifts","Sheet Pendants","Clue Lines","Bunt Lines","Parrel","Ties","Halliards","Lifts","Brace Pendants","Braces","Clew Lines","Footropes","Ties","Jeers","Tacks","Ties","Jeers","Brace Pendants","Leech Line Legs and Falls","Tack at widest part","Quarter Pendants","Staysail Collar","Staysail Halliard","Outer Stunsail Halliards","Inner Stunsail Halliards","Slings","Lifts","Brace Pendants","Braces","Ties","Tie Halliard","Parrel Rope","Brace Pendants","Braces","Sheets","Ties","Runner of the Ties","Tie Halliard","Parrel Rope","Lifts","Brace Pendants","Leech Lines","Staysail Stay Halliard","Whips","Ties","Tie Halliards","Parrel Rope","Lifts","Stirrups","Brace Pendants","Braces","Bowlines","Bowline Bridles","Clew Lines","Ties","Tie Halliard","Parrel Rope","Lifts","Ties","Tie Halliards","Parrel Rope","Sling","Jeers","Bowlines","Sheets","Brails","Lacing to the Yard","Tack"]
[null,1627,"1st",{"$f":"('Data Entry'!AP9/2)/(22/7)","v":0},{"$f":"D9/2","v":0},0,0,{"$f":"('Data Entry'!AT9/2)/(22/7)","v":0},{"$f":"H9/2","v":0},0,0,{"$f":"('Data Entry'!AX9/2)/(22/7)","v":0},{"$f":"L9/2","v":0},0,0,{"$f":"D9*0.9","v":0},{"$f":"H9*0.9","v":0},{"$f":"D9*0.7","v":0},{"$f":"H9*0.7","v":0},{"$f":"R9*0.9","v":0},{"$f":"S9*0.9","v":0},{"$f":"H9*(0.6*0.66)","v":0},null,{"$f":"H9*0.33","v":0},{"$f":"$H9*0.4","v":0},{"$f":"$H9*0.4","v":0},{"$f":"$H9*0.2","v":0},{"$f":"$H9*0.4","v":0},{"$f":"$H9*0.2","v":0},{"$f":"$H9*0.2","v":0},{"$f":"$I9*0.4","v":0},{"$f":"$I9*0.6","v":0},{"$f":"$I9*0.4","v":0},{"$f":"$I9*0.4","v":0},{"$f":"$I9*0.5","v":0},{"$f":"$I9*0.4","v":0},{"$f":"$I9*0.5","v":0},null,{"$f":"$H9*0.75","v":0},{"$f":"$H9*0.5","v":0},{"$f":"$H9*0.6","v":0},{"$f":"$D9*0.5","v":0},null,{"$f":"$D9*0.33","v":0},{"$f":"$D9*0.2","v":0},{"$f":"$D9*0.6","v":0},{"$f":"$D9*0.45","v":0},{"$f":"$D9*0.25","v":0},{"$f":"$D9*0.12","v":0},{"$f":"$D9*0.25","v":0},{"$f":"$D9*0.2","v":0},{"$f":"$L9*0.75","v":0},{"$f":"$L9*0.66","v":0},{"$f":"$L9*0.66","v":0},{"$f":"$L9*0.5","v":0},{"$f":"E9","v":0},{"$f":"BD9*0.5","v":0},{"$f":"E9*0.5","v":0},{"$f":"E9*0.45","v":0},{"$f":"E9*0.3","v":0},{"$f":"E9","v":0},{"$f":"$I9","v":0},{"$f":"BJ9*0.9","v":0},{"$f":"$I9*0.5","v":0},{"$f":"$I9*0.5","v":0},{"$f":"$I9*0.5","v":0},{"$f":"$I9*0.5","v":0},{"$f":"$I9*0.4","v":0},{"$f":"$I9*0.33","v":0},{"$f":"$I9*0.3","v":0},{"$f":"$M9","v":0},{"$f":"$M9*0.75","v":0},{"$f":"$M9","v":0},{"$f":"$M9*0.75","v":0},{"$f":"$M9*0.4","v":0},{"$f":"$M9*0.75","v":0},{"$f":"$M9*0.66","v":0},{"$f":"$M9*0.75","v":0},{"$f":"$M9*0.66","v":0},{"$f":"$M9*0.66","v":0},{"$f":"$F9","v":0},{"$f":"$F9*0.8","v":0},{"$f":"$F9*0.66","v":0},{"$f":"$F9*0.5","v":0},{"$f":"$J9","v":0},{"$f":"$J9*0.66","v":0},{"$f":"$L9","v":0},{"$f":"$L9","v":0},{"$f":"$L9","v":0},{"$f":"$L9*0.66","v":0},{"$f":"$L9*0.66","v":0},{"$f":"$L9*0.5","v":0},{"$f":"$L9*0.22","v":0},{"$f":"$L9*0.6","v":0}]
[null,null,"2nd",{"$f":"('Data Entry'!AP10/2)/(22/7)","v":0},0,0,0,{"$f":"('Data Entry'!AT10/2)/(22/7)","v":0},0,0,0,{"$f":"('Data Entry'!AX10/2)/(22/7)","v":0},0,0,0,0,0,0,0,0,0,0,null,0,{"$f":"$H10*0.4","v":0},0,0,0,{"$f":"$H10*0.2","v":0},0,0,0,{"$f":"$I10*0.4","v":0},0,0,0,0,null,0,0,0,0,null,0,0,0,0,0,0,0,0,{"$f":"L10*0.75","v":0},{"$f":"$L10*0.66","v":0},0,{"$f":"$L10*0.5","v":0},{"$f":"E10","v":0},{"$f":"BD10*0.5","v":0},{"$f":"E10*0.5","v":0},{"$f":"E10*0.45","v":0},{"$f":"E10*0.3","v":0},{"$f":"E9","v":0},{"$f":"I10","v":0},{"$f":"BJ10*0.9","v":0},{"$f":"I10*0.5","v":0},{"$f":"$I10*0.5","v":0},{"$f":"$I10*0.5","v":0},{"$f":"$I10*0.5","v":0},{"$f":"$I10*0.4","v":0},{"$f":"$I10*0.33","v":0},{"$f":"$I10*0.3","v":0},{"$f":"$M10","v":0},{"$f":"$M10*0.75","v":0},{"$f":"$M10","v":0},0,{"$f":"$M10*0.4","v":0},0,{"$f":"$M10*0.66","v":0},0,{"$f":"$M10*0.66","v":0},0,{"$f":"$F10","v":0},{"$f":"$F10*0.8","v":0},{"$f":"$F10*0.66","v":0},{"$f":"$F10*0.5","v":0},{"$f":"$J10","v":0},{"$f":"$J10*0.66","v":0},{"$f":"$L10","v":0},0,0,{"$f":"$L10*0.66","v":0},0,{"$f":"$L10*0.5","v":0},{"$f":"$L10*0.22","v":0},{"$f":"$L10*0.6","v":0}]
[null,null,"3rd",{"$f":"('Data Entry'!AP11/2)/(22/7)","v":0},0,0,0,{"$f":"('Data Entry'!AT11/2)/(22/7)","v":0},0,0,0,{"$f":"('Data Entry'!AX11/2)/(22/7)","v":0},0,0,0,0,0,0,0,0,0,0,null,0,0,0,0,0,0,0,0,0,0,0,0,0,0,null,0,0,0,0,null,0,0,0,0,0,0,0,0,0,0,0,0,0,0,{"$f":"E11*0.66","v":0},0,0,{"$f":"E9*0.9","v":0},0,{"$f":"BJ11*0.85","v":0},0,{"$f":"$I11*0.5","v":0},{"$f":"$I11*0.5","v":0},0,0,0,0,0,0,0,0,{"$f":"$M11*0.4","v":0},0,0,0,0,0,0,0,0,0,0,0,0,0,0,0,0,0,0,0]
[null,null,"4th",{"$f":"('Data Entry'!AP12/2)/(22/7)","v":0},0,0,0,{"$f":"('Data Entry'!AT12/2)/(22/7)","v":0},0,0,0,{"$f":"('Data Entry'!AX12/2)/(22/7)","v":0},0,0,0,0,0,0,0,0,0,0,null,0,0,0,0,0,0,0,0,0,0,0,0,0,0,null,0,0,0,0,null,0,0,0,0,0,0,0,0,0,{"$f":"$L12*0.33","v":0},0,0,0,0,{"$f":"E12*0.66","v":0},0,0,{"$f":"E10*0.9","v":0},0,{"$f":"BJ12*0.85","v":0},0,{"$f":"$I12*0.66","v":0},{"$f":"$I12*0.45","v":0},0,0,0,0,0,0,0,0,{"$f":"$M12*0.5","v":0},0,0,0,0,0,0,0,0,0,0,0,0,0,0,0,0,0,0,0]
[null,null,"5th",{"$f":"('Data Entry'!AP13/2)/(22/7)","v":0},{"$f":"D13/2","v":0},{"$f":"E13/2","v":0},{"$f":"F13/2","v":0},{"$f":"('Data Entry'!AT13/2)/(22/7)","v":0},{"$f":"H13/2","v":0},{"$f":"I13/2","v":0},{"$f":"J13/2","v":0},{"$f":"('Data Entry'!AX13/2)/(22/7)","v":0},{"$f":"L13/2","v":0},{"$f":"M13/2","v":0},{"$f":"N13/2","v":0},0,0,0,0,0,0,0,null,0,0,0,0,0,0,0,0,0,0,0,0,0,0,null,0,0,0,0,null,0,0,0,0,0,0,0,0,0,{"$f":"$L13*0.33","v":0},0,0,0,0,{"$f":"E13*0.66","v":0},0,0,{"$f":"E11*0.9","v":0},0,{"$f":"BJ13*0.85","v":0},0,{"$f":"$I13*0.66","v":0},{"$f":"$I13*0.45","v":0},0,0,0,0,0,0,0,0,{"$f":"$M13*0.5","v":0},0,0,0,0,0,0,0,0,0,0,0,0,0,0,0,0,0,0,0]
[null,null,"6th",{"$f":"('Data Entry'!AP14/2)/(22/7)","v":0},{"$f":"D14/2","v":0},0,0,{"$f":"('Data Entry'!AT14/2)/(22/7)","v":0},{"$f":"H14/2","v":0},0,0,{"$f":"('Data Entry'!AX14/2)/(22/7)","v":0},{"$f":"L14/2","v":0},0,0,0,0,0,0,0,0,0,null,0,0,0,0,0,0,0,0,0,0,0,0,0,0,null,0,0,0,0,null,0,0,0,0,0,0,0,0,0,{"$f":"$L14*0.33","v":0},0,0,0,0,{"$f":"E14*0.66","v":0},0,0,{"$f":"E12*0.9","v":0},0,{"$f":"BJ14*0.85","v":0},0,{"$f":"$I14*0.66","v":0},{"$f":"$I14*0.45","v":0},0,0,{"$f":"$I14*0.375","v":0},0,0,0,0,0,{"$f":"$M14*0.5","v":0},0,0,0,0,0,0,0,0,0,0,0,0,0,0,0,0,0,0,0]
[null,1640,"1st",{"$f":"('Data Entry'!AP15/2)/(22/7)","v":0},0,0,0,{"$f":"('Data Entry'!AT15/2)/(22/7)","v":0},0,0,0,{"$f":"('Data Entry'!AX15/2)/(22/7)","v":0},0,0,0,0,0,0,0,0,0,0,null,0,{"$f":"$H15*0.4","v":0},{"$f":"$H15*0.4","v":0},0,0,{"$f":"$H15*0.2","v":0},{"$f":"$H15*0.2","v":0},0,0,{"$f":"$I15*0.4","v":0},{"$f":"$I15*0.4","v":0},0,0,0,null,0,{"$f":"$H15*0.5","v":0},{"$f":"$H15*0.6","v":0},{"$f":"$D15*0.5","v":0},{"$f":"$D15*0.65","v":0},{"$f":"$D15*0.33","v":0},{"$f":"$D15*0.2","v":0},{"$f":"$D15*0.6","v":0},{"$f":"$D15*0.45","v":0},{"$f":"$D15*0.25","v":0},{"$f":"$D15*0.12","v":0},{"$f":"$D15*0.25","v":0},{"$f":"$D15*0.2","v":0},0,{"$f":"$L15*0.66","v":0},0,0,0,0,{"$f":"E15*0.5","v":0},0,0,{"$f":"E15","v":0},0,{"$f":"BJ15*0.9","v":0},0,{"$f":"$I15*0.5","v":0},0,0,0,{"$f":"$I15*0.33","v":0},0,0,0,0,0,{"$f":"$M15*0.4","v":0},0,0,0,0,0,0,0,0,0,0,0,0,0,0,0,0,0,0,0]
[null,null,"2nd",{"$f":"('Data Entry'!AP16/2)/(22/7)","v":0},0,0,0,{"$f":"('Data Entry'!AT16/2)/(22/7)","v":0},0,0,0,{"$f":"('Data Entry'!AX16/2)/(22/7)","v":0},0,0,0,0,0,0,0,0,0,0,null,0,{"$f":"$H16*0.4","v":0},0,0,0,{"$f":"$H16*0.2","v":0},0,0,0,{"$f":"$I16*0.4","v":0},0,0,0,0,null,0,0,0,0,0,0,0,0,0,0,0,0,0,0,{"$f":"$L16*0.66","v":0},0,0,0,0,{"$f":"E16*0.5","v":0},0,0,{"$f":"E15","v":0},0,{"$f":"BJ16*0.9","v":0},0,0,0,0,0,0,0,0,0,0,0,{"$f":"$M16*0.4","v":0},0,0,0,0,0,0,0,0,0,0,0,0,0,0,0,0,0,0,0]
[null,null,"3rd",{"$f":"('Data Entry'!AP17/2)/(22/7)","v":0},0,0,0,{"$f":"('Data Entry'!AT17/2)/(22/7)","v":0},0,0,0,{"$f":"('Data Entry'!AX17/2)/(22/7)","v":0},0,0,0,0,0,0,0,0,0,0,null,0,0,0,0,0,0,0,0,0,0,0,0,0,0,null,0,0,0,0,0,0,0,0,0,0,0,0,0,0,{"$f":"$L17*0.66","v":0},0,0,0,0,{"$f":"E17*0.66","v":0},0,0,{"$f":"E15*0.9","v":0},0,{"$f":"BJ17*0.85","v":0},0,0,0,0,0,0,0,0,0,0,0,{"$f":"$M17*0.4","v":0},0,0,0,0,0,0,0,0,0,0,0,0,0,0,0,0,0,0,0]
[null,null,"4th",{"$f":"('Data Entry'!AP18/2)/(22/7)","v":0},0,0,0,{"$f":"('Data Entry'!AT18/2)/(22/7)","v":0},0,0,0,{"$f":"('Data Entry'!AX18/2)/(22/7)","v":0},0,0,0,0,0,0,0,0,0,0,null,0,0,0,0,0,0,0,0,0,0,0,0,0,0,null,0,0,0,0,0,0,0,0,0,0,0,0,0,0,{"$f":"$L18*0.33","v":0},0,0,0,0,{"$f":"E18*0.66","v":0},0,0,{"$f":"E16*0.9","v":0},0,{"$f":"BJ18*0.85","v":0},0,{"$f":"$I18*0.66","v":0},{"$f":"$I18*0.45","v":0},0,0,0,0,0,0,0,0,{"$f":"$M18*0.5","v":0},0,0,0,0,0,0,0,0,0,0,0,0,0,0,0,0,0,0,0]
[null,null,"5th",{"$f":"('Data Entry'!AP19/2)/(22/7)","v":0},{"$f":"D19/2","v":0},{"$f":"E19/2","v":0},{"$f":"F19/2","v":0},{"$f":"('Data Entry'!AT19/2)/(22/7)","v":0},{"$f":"H19/2","v":0},{"$f":"I19/2","v":0},{"$f":"J19/2","v":0},{"$f":"('Data Entry'!AX19/2)/(22/7)","v":0},{"$f":"L19/2","v":0},{"$f":"M19/2","v":0},{"$f":"N19/2","v":0},0,0,0,0,0,0,0,null,0,0,0,0,0,0,0,0,0,0,0,0,0,0,null,0,0,0,0,0,0,0,0,0,0,0,0,0,0,{"$f":"$L19*0.33","v":0},0,0,0,0,{"$f":"E19*0.66","v":0},0,0,{"$f":"E17*0.9","v":0},0,{"$f":"BJ19*0.85","v":0},0,{"$f":"$I19*0.66","v":0},{"$f":"$I19*0.45","v":0},0,0,0,0,0,0,0,0,{"$f":"$M19*0.5","v":0},0,0,0,0,0,0,0,0,0,0,0,0,0,0,0,0,0,0,0]
[null,null,"6th",{"$f":"('Data Entry'!AP20/2)/(22/7)","v":0},{"$f":"D20/2","v":0},0,0,{"$f":"('Data Entry'!AT20/2)/(22/7)","v":0},{"$f":"H20/2","v":0},0,0,{"$f":"('Data Entry'!AX20/2)/(22/7)","v":0},{"$f":"L20/2","v":0},0,0,0,0,0,0,0,0,0,null,0,0,0,0,0,0,0,0,0,0,0,0,0,0,null,0,0,0,0,0,0,0,0,0,0,0,0,0,0,{"$f":"$L20*0.33","v":0},0,0,0,0,{"$f":"E20*0.66","v":0},0,0,{"$f":"E18*0.9","v":0},0,{"$f":"BJ20*0.85","v":0},0,{"$f":"$I20*0.66","v":0},{"$f":"$I20*0.45","v":0},0,0,{"$f":"$I20*0.375","v":0},0,0,0,0,0,{"$f":"$M20*0.5","v":0},0,0,0,0,0,0,0,0,0,0,0,0,0,0,0,0,0,0,0]
[null,1660,"1st",{"$f":"('Data Entry'!AP21/2)/(22/7)","v":0},0,0,0,{"$f":"('Data Entry'!AT21/2)/(22/7)","v":0},0,0,0,{"$f":"('Data Entry'!AX21/2)/(22/7)","v":0},0,0,0,{"$f":"D21*0.8","v":0},0,0,0,{"$f":"R21*0.8","v":0},{"$f":"S21*0.9","v":0},0,null,0,{"$f":"$H21*0.4","v":0},{"$f":"$H21*0.4","v":0},0,0,{"$f":"$H21*0.2","v":0},{"$f":"$H21*0.2","v":0},0,0,{"$f":"$I21*0.4","v":0},{"$f":"$I21*0.4","v":0},0,0,0,null,0,0,0,0,{"$f":"$D21*0.65","v":0},0,0,0,0,0,0,0,0,0,{"$f":"$L21*0.66","v":0},0,0,0,0,{"$f":"E21*0.5","v":0},0,0,{"$f":"E21","v":0},0,{"$f":"BJ21*0.9","v":0},0,{"$f":"$I21*0.5","v":0},0,0,0,{"$f":"$I21*0.33","v":0},0,0,0,0,0,{"$f":"$M21*0.4","v":0},0,0,0,0,0,0,0,0,0,0,0,0,0,0,0,0,0,0,0]
[null,null,"2nd",{"$f":"('Data Entry'!AP22/2)/(22/7)","v":0},0,0,0,{"$f":"('Data Entry'!AT22/2)/(22/7)","v":0},0,0,0,{"$f":"('Data Entry'!AX22/2)/(22/7)","v":0},0,0,0,0,0,0,0,0,0,0,null,0,{"$f":"$H22*0.4","v":0},0,0,0,{"$f":"$H22*0.2","v":0},0,0,0,{"$f":"$I22*0.4","v":0},0,0,0,0,null,0,0,0,0,0,0,0,0,0,0,0,0,0,0,{"$f":"$L22*0.66","v":0},0,0,0,0,{"$f":"E22*0.5","v":0},0,0,{"$f":"E21","v":0},0,{"$f":"BJ22*0.9","v":0},0,0,0,0,0,{"$f":"$I22*0.33","v":0},0,0,0,0,0,{"$f":"$M22*0.4","v":0},0,0,0,0,0,0,0,0,0,0,0,0,0,0,0,0,0,0,0]
[null,null,"3rd",{"$f":"('Data Entry'!AP23/2)/(22/7)","v":0},0,0,0,{"$f":"('Data Entry'!AT23/2)/(22/7)","v":0},0,0,0,{"$f":"('Data Entry'!AX23/2)/(22/7)","v":0},0,0,0,0,0,0,0,0,0,0,null,0,0,0,0,0,0,0,0,0,0,0,0,0,0,null,0,0,0,0,0,0,0,0,0,0,0,0,0,0,{"$f":"$L23*0.66","v":0},0,0,0,0,{"$f":"E23*0.66","v":0},0,0,{"$f":"E21*0.9","v":0},0,{"$f":"BJ23*0.85","v":0},0,0,0,0,0,{"$f":"$I23*0.33","v":0},0,0,0,0,0,{"$f":"$M23*0.4","v":0},0,0,0,0,0,0,0,0,0,0,0,0,0,0,0,0,0,0,0]
[null,null,"4th",{"$f":"('Data Entry'!AP24/2)/(22/7)","v":0},0,0,0,{"$f":"('Data Entry'!AT24/2)/(22/7)","v":0},0,0,0,{"$f":"('Data Entry'!AX24/2)/(22/7)","v":0},0,0,0,0,0,0,0,0,0,0,null,0,0,0,0,0,0,0,0,0,0,0,0,0,0,null,0,0,0,0,0,0,0,0,0,0,0,0,0,0,{"$f":"$L24*0.33","v":0},0,0,0,0,{"$f":"E24*0.66","v":0},0,0,{"$f":"E22*0.9","v":0},0,{"$f":"BJ24*0.85","v":0},0,{"$f":"$I24*0.66","v":0},{"$f":"$I24*0.45","v":0},0,0,{"$f":"$I24*0.33","v":0},0,0,0,0,0,{"$f":"$M24*0.5","v":0},0,0,0,0,0,0,0,0,0,0,0,0,0,0,0,0,0,0,0]
[null,null,"5th",{"$f":"('Data Entry'!AP25/2)/(22/7)","v":0},{"$f":"D25/2","v":0},{"$f":"E25/2","v":0},{"$f":"F25/2","v":0},{"$f":"('Data Entry'!AT25/2)/(22/7)","v":0},{"$f":"H25/2","v":0},{"$f":"I25/2","v":0},{"$f":"J25/2","v":0},{"$f":"('Data Entry'!AX25/2)/(22/7)","v":0},{"$f":"L25/2","v":0},{"$f":"M25/2","v":0},{"$f":"N25/2","v":0},0,0,0,0,0,0,0,null,0,0,0,0,0,0,0,0,0,0,0,0,0,0,null,0,0,0,0,0,0,0,0,0,0,0,0,0,0,{"$f":"$L25*0.33","v":0},0,0,0,0,{"$f":"E25*0.66","v":0},0,0,{"$f":"E23*0.9","v":0},0,{"$f":"BJ25*0.85","v":0},0,{"$f":"$I25*0.66","v":0},{"$f":"$I25*0.45","v":0},0,0,{"$f":"$I25*0.33","v":0},0,0,0,0,0,{"$f":"$M25*0.5","v":0},{"$f":"$M25*0.75","v":0},0,{"$f":"$M25*0.75","v":0},0,0,0,0,0,0,0,0,0,0,0,0,0,0,0,0]
[null,null,"6th",{"$f":"('Data Entry'!AP26/2)/(22/7)","v":0},{"$f":"D26/2","v":0},0,0,{"$f":"('Data Entry'!AT26/2)/(22/7)","v":0},{"$f":"H26/2","v":0},0,0,{"$f":"('Data Entry'!AX26/2)/(22/7)","v":0},{"$f":"L26/2","v":0},0,0,0,0,0,0,0,0,0,null,0,0,0,0,0,0,0,0,0,0,0,0,0,0,null,0,0,0,0,0,0,0,0,0,0,0,0,0,0,{"$f":"$L26*0.33","v":0},{"$f":"$L26*0.66","v":0},0,0,0,{"$f":"E26*0.66","v":0},0,0,{"$f":"E24*0.9","v":0},0,{"$f":"BJ26*0.85","v":0},0,{"$f":"$I26*0.66","v":0},{"$f":"$I26*0.45","v":0},0,0,{"$f":"$I26*0.375","v":0},0,0,0,0,0,{"$f":"$M26*0.5","v":0},0,0,0,0,0,0,0,0,0,0,0,0,0,0,0,0,0,0,0]
[null,1670,"1st",{"$f":"('Data Entry'!AP27/2)/(22/7)","v":0},0,0,0,{"$f":"('Data Entry'!AT27/2)/(22/7)","v":0},0,0,0,{"$f":"('Data Entry'!AX27/2)/(22/7)","v":0},0,0,0,0,0,0,0,0,0,0,null,0,{"$f":"$H27*0.4","v":0},{"$f":"$H27*0.4","v":0},0,{"$f":"$H27*0.33","v":0},{"$f":"$H27*0.2","v":0},{"$f":"$H27*0.2","v":0},0,{"$f":"$I27*0.5","v":0},{"$f":"$I27*0.33","v":0},{"$f":"$I27*0.33","v":0},{"$f":"$I27*0.33","v":0},{"$f":"$I27*0.33","v":0},{"$f":"$I27*0.33","v":0},null,0,0,{"$f":"$H27*0.5","v":0},0,0,0,0,{"$f":"$D27*0.5","v":0},0,0,0,0,0,0,{"$f":"$L27*0.66","v":0},0,{"$f":"$L27*0.375","v":0},0,0,{"$f":"E27*0.5","v":0},0,0,{"$f":"E27","v":0},0,{"$f":"BJ27*0.9","v":0},0,{"$f":"$I27*0.5","v":0},0,0,0,{"$f":"$I27*0.33","v":0},0,0,0,0,{"$f":"$M27*0.66","v":0},{"$f":"$M27*0.4","v":0},0,0,0,0,0,0,0,0,0,0,0,{"$f":"$L27*0.75","v":0},0,0,0,0,{"$f":"$L27*0.4","v":0},0,0]
[null,null,"2nd",{"$f":"('Data Entry'!AP28/2)/(22/7)","v":0},0,0,0,{"$f":"('Data Entry'!AT28/2)/(22/7)","v":0},0,0,0,{"$f":"('Data Entry'!AX28/2)/(22/7)","v":0},0,0,0,0,0,0,0,0,0,0,null,0,{"$f":"$H28*0.4","v":0},0,0,0,{"$f":"$H28*0.2","v":0},0,0,0,{"$f":"$I28*0.33","v":0},0,0,0,0,null,0,0,0,0,0,0,0,0,0,0,0,0,0,0,{"$f":"$L28*0.66","v":0},0,{"$f":"$L28*0.375","v":0},0,0,{"$f":"E28*0.5","v":0},0,0,{"$f":"E27","v":0},0,{"$f":"BJ28*0.9","v":0},0,0,0,0,0,{"$f":"$I28*0.33","v":0},0,0,0,0,{"$f":"$M28*0.66","v":0},{"$f":"$M28*0.4","v":0},0,0,0,0,0,0,0,0,0,0,0,{"$f":"$L28*0.75","v":0},{"$f":"$L28","v":0},0,0,0,{"$f":"$L28*0.4","v":0},0,0]
[null,null,"3rd",{"$f":"('Data Entry'!AP29/2)/(22/7)","v":0},0,0,0,{"$f":"('Data Entry'!AT29/2)/(22/7)","v":0},0,0,0,{"$f":"('Data Entry'!AX29/2)/(22/7)","v":0},0,0,0,0,0,0,0,0,0,0,null,0,0,0,0,0,0,0,0,0,0,0,0,0,0,null,0,0,0,0,0,0,0,0,0,0,0,0,0,0,{"$f":"$L29*0.66","v":0},0,0,0,0,{"$f":"E29*0.66","v":0},0,0,{"$f":"E27*0.9","v":0},0,{"$f":"BJ29*0.85","v":0},0,0,0,0,0,{"$f":"$I29*0.33","v":0},0,0,0,0,0,{"$f":"$M29*0.4","v":0},0,0,0,0,0,0,0,0,0,0,0,0,0,0,0,0,0,0,0]
[null,null,"4th",{"$f":"('Data Entry'!AP30/2)/(22/7)","v":0},0,0,0,{"$f":"('Data Entry'!AT30/2)/(22/7)","v":0},0,0,0,{"$f":"('Data Entry'!AX30/2)/(22/7)","v":0},0,0,0,0,0,0,0,0,0,0,null,0,0,0,0,0,0,0,0,0,0,0,0,0,0,null,0,0,0,0,0,0,0,0,0,0,0,0,0,0,{"$f":"$L30*0.33","v":0},0,0,0,0,{"$f":"E30*0.66","v":0},0,0,{"$f":"E28*0.9","v":0},0,{"$f":"BJ30*0.85","v":0},0,{"$f":"$I30*0.66","v":0},{"$f":"$I30*0.45","v":0},0,0,{"$f":"$I30*0.33","v":0},0,0,0,0,0,{"$f":"$M30*0.5","v":0},0,0,0,0,0,0,0,0,0,0,0,0,0,0,0,0,0,0,0]
[null,null,"5th",{"$f":"('Data Entry'!AP31/2)/(22/7)","v":0},{"$f":"D31/2","v":0},{"$f":"E31/2","v":0},{"$f":"F31/2","v":0},{"$f":"('Data Entry'!AT31/2)/(22/7)","v":0},{"$f":"H31/2","v":0},{"$f":"I31/2","v":0},{"$f":"J31/2","v":0},{"$f":"('Data Entry'!AX31/2)/(22/7)","v":0},{"$f":"L31/2","v":0},{"$f":"M31/2","v":0},{"$f":"N31/2","v":0},0,0,0,0,0,0,0,null,0,0,0,0,0,0,0,0,0,0,0,0,0,0,null,0,0,0,0,0,0,0,0,0,0,0,0,0,0,{"$f":"$L31*0.33","v":0},0,0,0,0,{"$f":"E31*0.66","v":0},0,0,{"$f":"E29*0.9","v":0},0,{"$f":"BJ31*0.85","v":0},0,{"$f":"$I31*0.66","v":0},{"$f":"$I31*0.45","v":0},0,0,{"$f":"$I31*0.33","v":0},0,0,0,0,0,{"$f":"$M31*0.5","v":0},0,0,0,0,0,0,0,0,0,0,0,0,0,0,0,0,0,0,0]
[null,null,"6th",{"$f":"('Data Entry'!AP32/2)/(22/7)","v":0},{"$f":"D32/2","v":0},0,0,{"$f":"('Data Entry'!AT32/2)/(22/7)","v":0},{"$f":"H32/2","v":0},0,0,{"$f":"('Data Entry'!AX32/2)/(22/7)","v":0},{"$f":"L32/2","v":0},0,0,0,0,0,0,0,0,0,null,0,0,0,0,0,0,0,0,0,0,0,0,0,0,null,0,0,0,0,0,0,0,0,0,0,0,0,0,0,{"$f":"$L32*0.33","v":0},0,0,0,0,{"$f":"E32*0.66","v":0},0,0,{"$f":"E30*0.9","v":0},0,{"$f":"BJ32*0.85","v":0},0,{"$f":"$I32*0.66","v":0},{"$f":"$I32*0.45","v":0},0,0,{"$f":"$I32*0.375","v":0},0,0,0,0,0,{"$f":"$M32*0.5","v":0},0,0,0,0,0,0,0,0,0,0,0,0,0,0,0,0,0,0,0]
[null,1680,"1st",{"$f":"('Data Entry'!AP33/2)/(22/7)","v":0},0,0,0,{"$f":"('Data Entry'!AT33/2)/(22/7)","v":0},0,0,0,{"$f":"('Data Entry'!AX33/2)/(22/7)","v":0},0,0,0,{"$f":"D33*0.72","v":0},0,0,0,{"$f":"R33*0.72","v":0},0,0,null,0,{"$f":"$H33*0.4","v":0},{"$f":"$H33*0.4","v":0},0,0,{"$f":"$H33*0.2","v":0},{"$f":"$H33*0.2","v":0},0,{"$f":"$I33*0.5","v":0},{"$f":"$I33*0.33","v":0},{"$f":"$I33*0.33","v":0},{"$f":"$I33*0.33","v":0},{"$f":"$I33*0.33","v":0},{"$f":"$I33*0.33","v":0},null,null,0,0,null,0,0,0,{"$f":"$D33*0.5","v":0},0,0,0,0,0,0,{"$f":"$L33*0.66","v":0},0,0,0,0,{"$f":"E33*0.5","v":0},0,0,{"$f":"E33","v":0},0,{"$f":"BJ33*0.9","v":0},0,{"$f":"$I33*0.5","v":0},0,0,0,{"$f":"$I33*0.33","v":0},0,0,0,0,0,{"$f":"$M33*0.4","v":0},0,0,0,0,0,0,0,0,0,0,0,0,0,0,0,0,0,0,0]
[null,null,"2nd",{"$f":"('Data Entry'!AP34/2)/(22/7)","v":0},0,0,0,{"$f":"('Data Entry'!AT34/2)/(22/7)","v":0},0,0,0,{"$f":"('Data Entry'!AX34/2)/(22/7)","v":0},0,0,0,0,0,0,0,0,0,0,null,0,{"$f":"$H34*0.4","v":0},0,0,0,{"$f":"$H34*0.2","v":0},0,0,0,{"$f":"$I34*0.33","v":0},0,0,0,0,null,null,0,0,null,0,0,0,0,0,0,0,0,0,0,{"$f":"$L34*0.66","v":0},0,0,0,0,{"$f":"E34*0.5","v":0},0,0,{"$f":"E33","v":0},0,{"$f":"BJ34*0.9","v":0},0,0,0,0,0,{"$f":"$I34*0.33","v":0},0,0,0,0,0,{"$f":"$M34*0.4","v":0},0,0,0,0,0,0,0,0,0,0,0,0,0,0,0,0,0,0,0]
[null,null,"3rd",{"$f":"('Data Entry'!AP35/2)/(22/7)","v":0},0,0,0,{"$f":"('Data Entry'!AT35/2)/(22/7)","v":0},0,0,0,{"$f":"('Data Entry'!AX35/2)/(22/7)","v":0},0,0,0,0,0,0,0,0,0,0,null,0,0,0,0,0,0,0,0,0,0,0,0,0,0,null,null,0,0,null,0,0,0,0,0,0,0,0,0,0,{"$f":"$L35*0.66","v":0},0,0,0,0,{"$f":"E35*0.66","v":0},0,0,{"$f":"E33*0.9","v":0},0,{"$f":"BJ35*0.85","v":0},0,0,0,0,0,{"$f":"$I35*0.33","v":0},0,0,0,0,0,{"$f":"$M35*0.4","v":0},0,0,0,0,0,0,0,0,0,0,0,0,0,0,0,0,0,0,0]
[null,null,"4th",{"$f":"('Data Entry'!AP36/2)/(22/7)","v":0},0,0,0,{"$f":"('Data Entry'!AT36/2)/(22/7)","v":0},0,0,0,{"$f":"('Data Entry'!AX36/2)/(22/7)","v":0},0,0,0,0,0,0,0,0,0,0,null,0,0,0,0,0,0,0,0,0,0,0,0,0,0,null,null,0,0,null,0,0,0,0,0,0,0,0,0,0,{"$f":"$L36*0.33","v":0},0,0,0,0,{"$f":"E36*0.66","v":0},0,0,{"$f":"E34*0.9","v":0},0,{"$f":"BJ36*0.85","v":0},0,{"$f":"$I36*0.66","v":0},{"$f":"$I36*0.45","v":0},0,0,{"$f":"$I36*0.33","v":0},0,0,0,0,0,{"$f":"$M36*0.5","v":0},0,0,0,0,0,0,0,0,0,0,0,0,0,0,0,0,0,0,0]
[null,null,"5th",{"$f":"('Data Entry'!AP37/2)/(22/7)","v":0},{"$f":"D37/2","v":0},{"$f":"E37/2","v":0},{"$f":"F37/2","v":0},{"$f":"('Data Entry'!AT37/2)/(22/7)","v":0},{"$f":"H37/2","v":0},{"$f":"I37/2","v":0},{"$f":"J37/2","v":0},{"$f":"('Data Entry'!AX37/2)/(22/7)","v":0},{"$f":"L37/2","v":0},{"$f":"M37/2","v":0},{"$f":"N37/2","v":0},0,0,0,0,0,0,0,null,0,0,0,0,0,0,0,0,0,0,0,0,0,0,null,null,0,0,null,0,0,0,0,0,0,0,0,0,0,{"$f":"$L37*0.33","v":0},0,0,0,0,{"$f":"E37*0.66","v":0},0,0,{"$f":"E35*0.9","v":0},0,{"$f":"BJ37*0.85","v":0},0,{"$f":"$I37*0.66","v":0},{"$f":"$I37*0.45","v":0},0,0,{"$f":"$I37*0.33","v":0},0,0,0,0,0,{"$f":"$M37*0.5","v":0},0,0,0,0,0,0,0,0,0,0,0,0,0,0,0,0,0,0,0]
[null,null,"6th",{"$f":"('Data Entry'!AP38/2)/(22/7)","v":0},{"$f":"D38/2","v":0},0,0,{"$f":"('Data Entry'!AT38/2)/(22/7)","v":0},{"$f":"H38/2","v":0},0,0,{"$f":"('Data Entry'!AX38/2)/(22/7)","v":0},{"$f":"L38/2","v":0},0,0,0,0,0,0,0,0,0,null,0,0,0,0,0,0,0,0,0,0,0,0,0,0,null,null,0,0,null,0,0,0,0,0,0,0,0,0,0,{"$f":"$L38*0.33","v":0},0,0,0,0,{"$f":"E38*0.66","v":0},0,0,{"$f":"E36*0.9","v":0},0,{"$f":"BJ38*0.85","v":0},0,{"$f":"$I38*0.66","v":0},{"$f":"$I38*0.45","v":0},0,0,{"$f":"$I38*0.375","v":0},0,0,0,0,0,{"$f":"$M38*0.5","v":0},0,0,0,0,0,0,0,0,0,0,0,0,0,0,0,0,0,0,0]
[null,1685,"1st",{"$f":"('Data Entry'!AP39/2)/(22/7)","v":0},0,0,0,{"$f":"('Data Entry'!AT39/2)/(22/7)","v":0},0,0,0,{"$f":"('Data Entry'!AX39/2)/(22/7)","v":0},0,0,0,0,0,0,0,0,0,0,null,0,{"$f":"$H39*0.4","v":0},{"$f":"$H39*0.4","v":0},0,0,{"$f":"$H39*0.2","v":0},{"$f":"$H39*0.2","v":0},0,0,{"$f":"$I39*0.33","v":0},{"$f":"$I39*0.33","v":0},{"$f":"$I39*0.33","v":0},{"$f":"$I39*0.33","v":0},{"$f":"$I39*0.33","v":0},null,null,0,0,null,0,0,0,0,0,0,0,0,0,0,{"$f":"$L39*0.66","v":0},0,0,{"$f":"E39*0.66","v":0},{"$f":"BD39*0.66","v":0},{"$f":"E39*0.5","v":0},0,0,{"$f":"E39","v":0},{"$f":"I39*0.66","v":0},{"$f":"BJ39*0.9","v":0},{"$f":"I39*0.66","v":0},{"$f":"$I39*0.5","v":0},0,0,0,{"$f":"$I39*0.33","v":0},0,0,0,0,0,{"$f":"$M39*0.4","v":0},0,0,0,0,0,{"$f":"$F39*0.9","v":0},{"$f":"$F39*0.5","v":0},0,{"$f":"$F39*0.66","v":0},{"$f":"$J39*0.9","v":0},{"$f":"$J39*0.45","v":0},0,0,0,0,0,0,0,0]
[null,null,"2nd",{"$f":"('Data Entry'!AP40/2)/(22/7)","v":0},0,0,0,{"$f":"('Data Entry'!AT40/2)/(22/7)","v":0},0,0,0,{"$f":"('Data Entry'!AX40/2)/(22/7)","v":0},0,0,0,0,0,0,0,0,0,0,null,0,{"$f":"$H40*0.4","v":0},0,0,0,{"$f":"$H40*0.2","v":0},0,0,0,{"$f":"$I40*0.33","v":0},0,0,0,0,null,null,0,0,null,0,0,0,0,0,0,0,0,0,0,0,0,0,{"$f":"E40*0.66","v":0},{"$f":"BD40*0.66","v":0},{"$f":"E40*0.5","v":0},0,0,{"$f":"E39","v":0},{"$f":"I40*0.66","v":0},{"$f":"BJ40*0.9","v":0},{"$f":"I40*0.66","v":0},0,0,0,0,{"$f":"$I40*0.33","v":0},0,0,0,0,0,{"$f":"$M40*0.4","v":0},0,0,0,0,0,{"$f":"$F40*0.9","v":0},{"$f":"$F40*0.5","v":0},0,0,{"$f":"$J40*0.9","v":0},{"$f":"$J40*0.45","v":0},0,0,0,0,0,0,0,0]
[null,null,"3rd",{"$f":"('Data Entry'!AP41/2)/(22/7)","v":0},0,0,0,{"$f":"('Data Entry'!AT41/2)/(22/7)","v":0},0,0,0,{"$f":"('Data Entry'!AX41/2)/(22/7)","v":0},0,0,0,0,{"$f":"H41*0.9","v":0},{"$f":"D41*0.7","v":0},{"$f":"H41*0.7","v":0},0,0,{"$f":"H41*(0.6*0.66)","v":0},null,0,0,0,{"$f":"$H41*0.2","v":0},0,0,0,0,0,0,0,0,0,0,null,null,0,0,null,0,0,0,0,0,0,0,0,0,0,0,0,0,{"$f":"E41*0.8","v":0},0,{"$f":"E41*0.66","v":0},0,0,{"$f":"E39*0.9","v":0},0,{"$f":"BJ41*0.85","v":0},0,0,0,0,0,{"$f":"$I41*0.33","v":0},0,0,0,0,0,{"$f":"$M41*0.4","v":0},0,0,0,0,0,0,0,0,0,0,0,0,0,0,0,0,0,0,0]
[null,null,"4th",{"$f":"('Data Entry'!AP42/2)/(22/7)","v":0},0,0,0,{"$f":"('Data Entry'!AT42/2)/(22/7)","v":0},0,0,0,{"$f":"('Data Entry'!AX42/2)/(22/7)","v":0},0,0,0,0,0,0,0,0,0,0,null,0,0,0,0,0,0,0,0,0,0,0,0,0,0,null,null,0,0,null,0,0,0,0,0,0,0,0,0,0,0,0,0,{"$f":"E42*0.8","v":0},0,{"$f":"E42*0.66","v":0},0,0,{"$f":"E40*0.9","v":0},0,{"$f":"BJ42*0.85","v":0},0,{"$f":"$I42*0.66","v":0},{"$f":"$I42*0.45","v":0},0,0,{"$f":"$I42*0.33","v":0},0,0,0,0,0,{"$f":"$M42*0.5","v":0},0,0,0,0,0,0,0,0,0,0,0,0,0,0,0,0,0,0,0]
[null,null,"5th",{"$f":"('Data Entry'!AP43/2)/(22/7)","v":0},{"$f":"D43/2","v":0},{"$f":"E43/2","v":0},{"$f":"F43/2","v":0},{"$f":"('Data Entry'!AT43/2)/(22/7)","v":0},{"$f":"H43/2","v":0},{"$f":"I43/2","v":0},{"$f":"J43/2","v":0},{"$f":"('Data Entry'!AX43/2)/(22/7)","v":0},{"$f":"L43/2","v":0},{"$f":"M43/2","v":0},{"$f":"N43/2","v":0},0,0,0,0,0,0,0,null,0,0,0,0,0,0,0,0,0,0,0,0,0,0,null,null,0,0,null,0,0,0,0,0,0,0,0,0,0,0,0,0,{"$f":"E43*0.8","v":0},0,{"$f":"E43*0.66","v":0},0,0,{"$f":"E41*0.9","v":0},0,{"$f":"BJ43*0.85","v":0},0,{"$f":"$I43*0.66","v":0},{"$f":"$I43*0.45","v":0},0,0,{"$f":"$I43*0.33","v":0},0,0,0,0,0,{"$f":"$M43*0.5","v":0},0,0,0,0,0,0,0,0,0,0,0,0,0,0,0,0,0,0,0]
[null,null,"6th",{"$f":"('Data Entry'!AP44/2)/(22/7)","v":0},{"$f":"D44/2","v":0},0,0,{"$f":"('Data Entry'!AT44/2)/(22/7)","v":0},{"$f":"H44/2","v":0},0,0,{"$f":"('Data Entry'!AX44/2)/(22/7)","v":0},{"$f":"L44/2","v":0},0,0,0,0,0,0,0,0,0,null,0,0,0,0,0,0,0,0,0,0,0,0,0,0,null,null,0,0,null,0,0,0,0,0,0,0,0,0,0,0,0,0,{"$f":"E44*0.8","v":0},0,{"$f":"E44*0.66","v":0},0,0,{"$f":"E42*0.9","v":0},0,{"$f":"BJ44*0.85","v":0},0,{"$f":"$I44*0.66","v":0},{"$f":"$I44*0.45","v":0},0,0,{"$f":"$I44*0.375","v":0},0,0,0,0,0,{"$f":"$M44*0.5","v":0},0,0,0,0,0,0,0,0,0,0,0,0,0,0,0,0,0,0,0]
[null,1700,"1st",{"$f":"('Data Entry'!AP45/2)/(22/7)","v":0},0,0,0,{"$f":"('Data Entry'!AT45/2)/(22/7)","v":0},0,0,0,{"$f":"('Data Entry'!AX45/2)/(22/7)","v":0},0,0,0,0,0,0,0,0,0,0,null,0,{"$f":"$H45*0.4","v":0},{"$f":"$H45*0.4","v":0},0,0,{"$f":"$H45*0.2","v":0},{"$f":"$H45*0.2","v":0},0,0,{"$f":"$I45*0.33","v":0},{"$f":"$I45*0.33","v":0},{"$f":"$I45*0.33","v":0},{"$f":"$I45*0.33","v":0},{"$f":"$I45*0.33","v":0},null,null,0,0,null,0,0,0,0,0,0,0,0,0,0,0,0,0,{"$f":"E45*0.66","v":0},0,{"$f":"E45*0.5","v":0},0,0,{"$f":"E45","v":0},0,{"$f":"BJ45*0.9","v":0},0,{"$f":"$I45*0.5","v":0},0,0,0,{"$f":"$I45*0.33","v":0},0,0,0,0,0,{"$f":"$M45*0.4","v":0},0,0,0,0,0,0,0,0,0,0,0,0,0,0,0,0,0,0,0]
[null,null,"2nd",{"$f":"('Data Entry'!AP46/2)/(22/7)","v":0},0,0,0,{"$f":"('Data Entry'!AT46/2)/(22/7)","v":0},0,0,0,{"$f":"('Data Entry'!AX46/2)/(22/7)","v":0},0,0,0,0,0,0,0,0,0,0,null,0,{"$f":"$H46*0.4","v":0},0,0,0,{"$f":"$H46*0.2","v":0},0,0,0,{"$f":"$I46*0.33","v":0},0,0,0,0,null,null,0,0,null,0,0,0,0,0,0,0,0,0,0,0,0,0,{"$f":"E46*0.66","v":0},0,{"$f":"E46*0.5","v":0},0,0,{"$f":"E45","v":0},0,{"$f":"BJ46*0.9","v":0},0,0,0,0,0,{"$f":"$I46*0.33","v":0},0,0,0,0,0,{"$f":"$M46*0.4","v":0},0,0,0,0,0,0,0,0,0,0,0,0,0,0,0,0,0,0,0]
[null,null,"3rd",{"$f":"('Data Entry'!AP47/2)/(22/7)","v":0},0,0,0,{"$f":"('Data Entry'!AT47/2)/(22/7)","v":0},0,0,0,{"$f":"('Data Entry'!AX47/2)/(22/7)","v":0},0,0,0,0,0,0,0,0,0,0,null,0,0,0,0,0,0,0,0,0,0,0,0,0,0,null,null,0,0,null,0,0,0,0,0,0,0,0,0,0,0,0,0,{"$f":"E47*0.8","v":0},0,{"$f":"E47*0.66","v":0},0,0,{"$f":"E45*0.9","v":0},0,{"$f":"BJ47*0.85","v":0},0,0,0,0,0,{"$f":"$I47*0.33","v":0},0,0,0,0,0,{"$f":"$M47*0.4","v":0},0,0,0,0,0,0,0,0,0,0,0,0,0,0,0,0,0,0,0]
[null,null,"4th",{"$f":"('Data Entry'!AP48/2)/(22/7)","v":0},0,0,0,{"$f":"('Data Entry'!AT48/2)/(22/7)","v":0},0,0,0,{"$f":"('Data Entry'!AX48/2)/(22/7)","v":0},0,0,0,0,0,0,0,0,0,0,null,0,0,0,0,0,0,0,0,0,0,0,0,0,0,null,null,0,0,null,0,0,0,0,0,0,0,0,0,0,0,0,0,{"$f":"E48*0.8","v":0},0,{"$f":"E48*0.66","v":0},0,0,{"$f":"E46*0.9","v":0},0,{"$f":"BJ48*0.85","v":0},0,{"$f":"$I48*0.66","v":0},{"$f":"$I48*0.45","v":0},0,0,{"$f":"$I48*0.33","v":0},0,0,0,0,0,{"$f":"$M48*0.5","v":0},0,0,0,0,0,0,0,0,0,0,0,0,0,0,0,0,0,0,0]
[null,null,"5th",{"$f":"('Data Entry'!AP49/2)/(22/7)","v":0},{"$f":"D49/2","v":0},0,0,{"$f":"('Data Entry'!AT49/2)/(22/7)","v":0},{"$f":"H49/2","v":0},0,0,{"$f":"('Data Entry'!AX49/2)/(22/7)","v":0},{"$f":"L49/2","v":0},0,0,0,0,0,0,0,0,0,null,0,0,0,0,0,0,0,0,0,0,0,0,0,0,null,null,0,0,null,0,0,0,0,0,0,0,0,0,0,0,0,0,{"$f":"E49*0.8","v":0},0,{"$f":"E49*0.66","v":0},0,0,{"$f":"E47*0.9","v":0},0,{"$f":"BJ49*0.85","v":0},0,{"$f":"$I49*0.66","v":0},{"$f":"$I49*0.45","v":0},0,0,{"$f":"$I49*0.33","v":0},0,0,0,0,0,{"$f":"$M49*0.5","v":0},0,0,0,0,0,0,0,0,0,0,0,0,0,0,0,0,0,0,0]
[null,null,"6th",{"$f":"('Data Entry'!AP50/2)/(22/7)","v":0},0,0,0,{"$f":"('Data Entry'!AT50/2)/(22/7)","v":0},0,0,0,{"$f":"('Data Entry'!AX50/2)/(22/7)","v":0},0,0,0,0,0,0,0,0,0,0,null,0,0,0,0,0,0,0,0,0,0,0,0,0,0,null,null,0,0,null,0,0,0,0,0,0,0,0,0,0,0,0,0,{"$f":"E50*0.8","v":0},0,{"$f":"E50*0.66","v":0},0,0,{"$f":"E48*0.9","v":0},0,{"$f":"BJ50*0.85","v":0},0,{"$f":"$I50*0.66","v":0},{"$f":"$I50*0.45","v":0},0,0,{"$f":"$I50*0.375","v":0},0,0,0,0,0,{"$f":"$M50*0.5","v":0},0,0,0,0,0,0,0,0,0,0,0,0,0,0,0,0,0,0,0]
[null,1706,"1st",{"$f":"('Data Entry'!AP51/2)/(22/7)","v":0},0,0,0,{"$f":"('Data Entry'!AT51/2)/(22/7)","v":0},0,0,0,{"$f":"('Data Entry'!AX51/2)/(22/7)","v":0},0,0,0,{"$f":"D51*0.72","v":0},{"$f":"H51*0.9","v":0},{"$f":"D51*0.7","v":0},{"$f":"H51*0.7","v":0},{"$f":"R51*0.72","v":0},{"$f":"S51*0.9","v":0},{"$f":"H51*(0.6*0.66)","v":0},null,{"$f":"H51*0.33","v":0},{"$f":"$H51*0.4","v":0},{"$f":"$H51*0.4","v":0},0,0,{"$f":"$H51*0.2","v":0},{"$f":"$H51*0.2","v":0},0,0,{"$f":"$I51*0.33","v":0},{"$f":"$I51*0.33","v":0},{"$f":"$I51*0.33","v":0},{"$f":"$I51*0.33","v":0},{"$f":"$I51*0.33","v":0},null,null,0,0,null,0,0,0,0,0,0,0,0,0,{"$f":"L51*0.75","v":0},0,0,0,{"$f":"E51*0.66","v":0},0,{"$f":"E51*0.5","v":0},{"$f":"E51*0.55","v":0},{"$f":"E51*0.36","v":0},{"$f":"E51","v":0},{"$f":"I51*0.66","v":0},{"$f":"BJ51*0.9","v":0},{"$f":"I51*0.66","v":0},{"$f":"$I51*0.5","v":0},0,{"$f":"$I51*0.66","v":0},0,{"$f":"$I51*0.33","v":0},0,0,0,0,0,{"$f":"$M51*0.4","v":0},0,0,0,0,0,0,0,0,0,0,0,0,0,0,0,0,0,0,0]
[null,null,"2nd",{"$f":"('Data Entry'!AP52/2)/(22/7)","v":0},0,0,0,{"$f":"('Data Entry'!AT52/2)/(22/7)","v":0},0,0,0,{"$f":"('Data Entry'!AX52/2)/(22/7)","v":0},0,0,0,0,0,0,0,0,0,0,null,0,0,0,0,0,0,0,0,0,0,0,0,0,0,null,null,0,0,null,0,0,0,0,0,0,0,0,0,0,0,0,0,{"$f":"E52*0.66","v":0},0,{"$f":"E52*0.5","v":0},0,0,{"$f":"E51","v":0},0,{"$f":"BJ52*0.9","v":0},0,0,0,0,0,{"$f":"$I52*0.33","v":0},0,0,0,0,0,{"$f":"$M52*0.4","v":0},0,0,0,0,0,0,0,0,0,0,0,0,0,0,0,0,0,0,0]
[null,null,"3rd",{"$f":"('Data Entry'!AP53/2)/(22/7)","v":0},0,0,0,{"$f":"('Data Entry'!AT53/2)/(22/7)","v":0},0,0,0,{"$f":"('Data Entry'!AX53/2)/(22/7)","v":0},0,0,0,0,0,0,0,0,0,0,null,0,0,0,0,0,0,0,0,0,0,0,0,0,0,null,null,0,0,null,0,0,0,0,0,0,0,0,0,0,0,0,0,{"$f":"E53*0.8","v":0},0,{"$f":"E53*0.66","v":0},0,0,{"$f":"E51*0.9","v":0},0,{"$f":"BJ53*0.85","v":0},0,0,0,0,0,{"$f":"$I53*0.33","v":0},0,0,0,0,0,{"$f":"$M53*0.4","v":0},0,0,0,0,0,0,0,0,0,0,0,0,0,0,0,0,0,0,0]
[null,null,"4th",{"$f":"('Data Entry'!AP54/2)/(22/7)","v":0},0,0,0,{"$f":"('Data Entry'!AT54/2)/(22/7)","v":0},0,0,0,{"$f":"('Data Entry'!AX54/2)/(22/7)","v":0},0,0,0,0,0,0,0,0,0,0,null,0,0,0,0,0,0,0,0,0,0,0,0,0,0,null,null,0,0,null,0,0,0,0,0,0,0,0,0,0,0,0,0,{"$f":"E54*0.8","v":0},0,{"$f":"E54*0.66","v":0},0,0,{"$f":"E52*0.9","v":0},0,{"$f":"BJ54*0.85","v":0},0,{"$f":"$I54*0.66","v":0},{"$f":"$I54*0.45","v":0},0,0,{"$f":"$I54*0.33","v":0},0,0,0,0,0,{"$f":"$M54*0.5","v":0},0,0,0,0,0,0,0,0,0,0,0,0,0,0,0,0,0,0,0]
[null,null,"5th",{"$f":"('Data Entry'!AP55/2)/(22/7)","v":0},0,0,0,{"$f":"('Data Entry'!AT55/2)/(22/7)","v":0},0,0,0,{"$f":"('Data Entry'!AX55/2)/(22/7)","v":0},0,0,0,0,0,0,0,0,0,0,null,0,0,0,0,0,0,0,0,0,0,0,0,0,0,null,null,0,0,null,0,0,0,0,0,0,0,0,0,0,0,0,0,{"$f":"E55*0.8","v":0},0,{"$f":"E55*0.66","v":0},0,0,{"$f":"E53*0.9","v":0},0,{"$f":"BJ55*0.85","v":0},0,{"$f":"$I55*0.66","v":0},{"$f":"$I55*0.45","v":0},0,0,{"$f":"$I55*0.33","v":0},0,0,0,0,0,{"$f":"$M55*0.5","v":0},0,0,0,0,0,0,0,0,0,0,0,0,0,0,0,0,0,0,0]
[null,null,"6th",{"$f":"('Data Entry'!AP56/2)/(22/7)","v":0},0,0,0,{"$f":"('Data Entry'!AT56/2)/(22/7)","v":0},0,0,0,{"$f":"('Data Entry'!AX56/2)/(22/7)","v":0},0,0,0,0,0,0,0,0,0,0,null,0,0,0,0,0,0,0,0,0,0,0,0,0,0,null,null,0,0,null,0,0,0,0,0,0,0,0,0,0,0,0,0,{"$f":"E56*0.8","v":0},0,{"$f":"E56*0.66","v":0},0,0,{"$f":"E54*0.9","v":0},0,{"$f":"BJ56*0.85","v":0},0,{"$f":"$I56*0.66","v":0},{"$f":"$I56*0.45","v":0},0,0,{"$f":"$I56*0.375","v":0},0,0,0,0,0,{"$f":"$M56*0.5","v":0},0,0,0,0,0,0,0,0,0,0,0,0,0,0,0,0,0,0,0]
[null,1711,"1st",{"$f":"('Data Entry'!AP57/2)/(22/7)","v":0},0,0,0,{"$f":"('Data Entry'!AT57/2)/(22/7)","v":0},0,0,0,{"$f":"('Data Entry'!AX57/2)/(22/7)","v":0},0,0,0,0,0,0,0,0,0,0,null,0,{"$f":"$H57*0.4","v":0},{"$f":"$H57*0.4","v":0},0,0,{"$f":"$H57*0.2","v":0},{"$f":"$H57*0.2","v":0},0,0,{"$f":"$I57*0.33","v":0},{"$f":"$I57*0.33","v":0},{"$f":"$I57*0.33","v":0},{"$f":"$I57*0.33","v":0},{"$f":"$I57*0.33","v":0},null,null,0,0,null,0,0,0,0,0,0,0,0,0,0,0,0,0,{"$f":"E57*0.66","v":0},0,{"$f":"E57*0.5","v":0},0,0,{"$f":"E57","v":0},0,{"$f":"BJ57*0.9","v":0},0,{"$f":"$I57*0.5","v":0},0,0,{"$f":"$I57*0.33","v":0},{"$f":"$I57*0.33","v":0},0,0,0,0,0,{"$f":"$M57*0.4","v":0},0,0,0,0,0,0,0,0,0,0,0,0,0,0,0,0,0,0,0]
[null,null,"2nd",{"$f":"('Data Entry'!AP58/2)/(22/7)","v":0},0,0,0,{"$f":"('Data Entry'!AT58/2)/(22/7)","v":0},0,0,0,{"$f":"('Data Entry'!AX58/2)/(22/7)","v":0},0,0,0,0,0,0,0,0,0,0,null,0,{"$f":"$H58*0.4","v":0},0,0,0,{"$f":"$H58*0.2","v":0},0,0,0,{"$f":"$I58*0.33","v":0},0,0,0,0,null,null,0,0,null,0,0,0,0,0,0,0,0,0,0,0,0,0,{"$f":"E58*0.66","v":0},0,{"$f":"E58*0.5","v":0},{"$f":"E58*0.55","v":0},{"$f":"E58*0.36","v":0},{"$f":"E57","v":0},0,{"$f":"BJ58*0.9","v":0},0,0,0,{"$f":"$I58*0.66","v":0},{"$f":"$I58*0.33","v":0},0,0,0,0,0,0,{"$f":"$M58*0.4","v":0},0,0,0,0,0,0,0,0,0,0,0,0,0,0,0,0,0,0,0]
[null,null,"3rd",{"$f":"('Data Entry'!AP59/2)/(22/7)","v":0},0,0,0,{"$f":"('Data Entry'!AT59/2)/(22/7)","v":0},0,0,0,{"$f":"('Data Entry'!AX59/2)/(22/7)","v":0},0,0,0,0,0,0,0,0,{"$f":"S59*0.9","v":0},0,null,0,0,0,0,0,0,0,0,0,0,0,0,0,0,null,null,0,0,null,0,0,0,0,0,0,0,0,0,0,0,0,0,{"$f":"E59*0.8","v":0},0,{"$f":"E59*0.66","v":0},0,0,{"$f":"E57*0.9","v":0},0,{"$f":"BJ59*0.85","v":0},0,0,0,0,0,0,0,0,0,0,0,{"$f":"$M59*0.4","v":0},0,0,0,0,0,0,0,0,0,0,0,0,0,0,0,0,0,0,0]
[null,null,"4th",{"$f":"('Data Entry'!AP60/2)/(22/7)","v":0},0,0,0,{"$f":"('Data Entry'!AT60/2)/(22/7)","v":0},0,0,0,{"$f":"('Data Entry'!AX60/2)/(22/7)","v":0},0,0,0,0,0,0,0,0,0,0,null,0,0,0,0,0,0,0,0,0,0,0,0,0,0,null,null,0,0,null,0,0,0,0,0,0,0,0,0,0,0,0,0,{"$f":"E60*0.8","v":0},0,{"$f":"E60*0.66","v":0},0,0,{"$f":"E58*0.9","v":0},0,{"$f":"BJ60*0.85","v":0},0,{"$f":"$I60*0.66","v":0},{"$f":"$I60*0.45","v":0},0,0,0,0,0,0,0,0,{"$f":"$M60*0.5","v":0},0,0,0,0,0,0,0,0,0,0,0,0,0,0,0,0,0,0,0]
[null,null,"5th",{"$f":"('Data Entry'!AP61/2)/(22/7)","v":0},0,0,0,{"$f":"('Data Entry'!AT61/2)/(22/7)","v":0},0,0,0,{"$f":"('Data Entry'!AX61/2)/(22/7)","v":0},0,0,0,0,0,0,0,0,0,0,null,0,0,0,0,0,0,0,0,0,0,0,0,0,0,null,null,0,0,null,0,0,0,0,0,0,0,0,0,0,0,0,0,{"$f":"E61*0.8","v":0},0,{"$f":"E61*0.66","v":0},0,0,{"$f":"E59*0.9","v":0},0,{"$f":"BJ61*0.85","v":0},0,{"$f":"$I61*0.66","v":0},{"$f":"$I61*0.45","v":0},0,0,0,0,0,0,0,0,{"$f":"$M61*0.5","v":0},0,0,0,0,0,0,0,0,0,0,0,0,0,0,0,0,0,0,0]
[null,null,"6th",{"$f":"('Data Entry'!AP62/2)/(22/7)","v":0},{"$f":"D62/2","v":0},0,0,{"$f":"('Data Entry'!AT62/2)/(22/7)","v":0},{"$f":"H62/2","v":0},0,0,{"$f":"('Data Entry'!AX62/2)/(22/7)","v":0},{"$f":"L62/2","v":0},0,0,0,0,0,0,0,0,0,null,0,0,0,0,0,0,0,0,0,0,0,0,0,0,null,null,0,0,null,0,0,0,0,0,0,0,0,0,0,0,0,0,{"$f":"E62*0.8","v":0},0,{"$f":"E62*0.66","v":0},0,0,{"$f":"E60*0.9","v":0},0,{"$f":"BJ62*0.85","v":0},0,{"$f":"$I62*0.66","v":0},{"$f":"$I62*0.45","v":0},0,0,{"$f":"$I62*0.375","v":0},0,0,0,0,0,{"$f":"$M62*0.5","v":0},0,0,0,0,0,0,0,0,0,0,0,0,0,0,0,0,0,0,0]
[null,1719,"1st and 2nd",{"$f":"('Data Entry'!AP63/2)/(22/7)","v":0},0,0,0,{"$f":"('Data Entry'!AT63/2)/(22/7)","v":0},0,0,0,{"$f":"('Data Entry'!AX63/2)/(22/7)","v":0},0,0,0,0,0,0,0,0,0,0,{"$f":"V9*0.8","v":0},{"$f":"H63*0.5","v":0},{"$f":"$H63*0.4","v":0},0,0,0,{"$f":"$H63*0.2","v":0},0,{"$f":"$I63*0.33","v":0},0,{"$f":"$I63*0.33","v":0},0,0,0,0,0,null,0,0,null,{"$f":"$D63*0.45","v":0},{"$f":"$D63*0.25","v":0},{"$f":"$D63*0.165","v":0},0,{"$f":"$D63*0.33","v":0},{"$f":"$D63*0.2","v":0},0,{"$f":"$D63*0.2","v":0},{"$f":"$D63*0.16","v":0},{"$f":"L63*0.66","v":0},0,{"$f":"$L63*0.5","v":0},0,{"$f":"E63*0.66","v":0},0,{"$f":"E63*0.45","v":0},0,0,{"$f":"E63","v":0},0,{"$f":"BJ63*0.9","v":0},0,{"$f":"$I63*0.45","v":0},{"$f":"$I63*0.5","v":0},0,0,0,0,0,0,{"$f":"$M63*0.66","v":0},0,{"$f":"$M63*0.4","v":0},{"$f":"$M63*0.66","v":0},0,{"$f":"$M63*0.4","v":0},{"$f":"$M63*0.4","v":0},0,0,0,0,0,0,0,{"$f":"$L63*0.55","v":0},0,{"$f":"$L63*0.9","v":0},{"$f":"$L63*0.55","v":0},{"$f":"$L63*0.75","v":0},0,0,{"$f":"$L63*0.55","v":0}]
[null,null,"3rd of 80 Guns",{"$f":"('Data Entry'!AP64/2)/(22/7)","v":0},0,0,0,{"$f":"('Data Entry'!AT64/2)/(22/7)","v":0},0,0,0,{"$f":"('Data Entry'!AX64/2)/(22/7)","v":0},0,0,0,0,0,0,0,0,0,0,{"$f":"V15*0.8","v":0},0,0,0,0,0,0,0,0,0,{"$f":"$I64*0.33","v":0},0,0,0,0,{"$f":"$I64*0.4","v":0},null,0,0,null,{"$f":"$D64*0.45","v":0},{"$f":"$D64*0.25","v":0},0,0,{"$f":"$D64*0.33","v":0},{"$f":"$D64*0.2","v":0},0,0,0,{"$f":"L64*0.66","v":0},0,{"$f":"$L64*0.5","v":0},0,{"$f":"E64*0.8","v":0},0,{"$f":"E64*0.45","v":0},0,0,{"$f":"E62*0.9","v":0},0,{"$f":"BJ64*0.85","v":0},0,{"$f":"$I64*0.45","v":0},{"$f":"$I64*0.5","v":0},0,0,0,0,0,0,{"$f":"$M64*0.66","v":0},0,{"$f":"$M64*0.4","v":0},{"$f":"$M64*0.66","v":0},0,{"$f":"$M64*0.4","v":0},0,{"$f":"$M64*0.66","v":0},0,0,0,0,0,0,{"$f":"$L64*0.55","v":0},0,{"$f":"$L64*0.9","v":0},{"$f":"$L64*0.55","v":0},{"$f":"$L64*0.75","v":0},0,0,{"$f":"$L64*0.55","v":0}]
[null,null,"3rd of 70 Guns",{"$f":"('Data Entry'!AP65/2)/(22/7)","v":0},0,0,0,{"$f":"('Data Entry'!AT65/2)/(22/7)","v":0},0,0,0,{"$f":"('Data Entry'!AX65/2)/(22/7)","v":0},0,0,0,0,0,0,0,0,0,0,{"$f":"V21*0.8","v":0},0,0,0,0,{"$f":"$H65*0.33","v":0},0,0,0,0,0,0,0,0,0,0,null,0,0,null,{"$f":"$D65*0.45","v":0},{"$f":"$D65*0.25","v":0},0,0,{"$f":"$D65*0.33","v":0},{"$f":"$D65*0.2","v":0},0,0,0,0,0,0,0,0,0,0,0,0,0,0,0,0,0,{"$f":"$I65*0.5","v":0},0,0,0,0,0,0,0,0,{"$f":"$M65*0.4","v":0},0,0,0,0,0,0,0,0,0,0,0,0,0,0,0,0,0,0,0]
[null,null,"4th of 60 Guns",{"$f":"('Data Entry'!AP66/2)/(22/7)","v":0},0,0,0,{"$f":"('Data Entry'!AT66/2)/(22/7)","v":0},0,0,0,{"$f":"('Data Entry'!AX66/2)/(22/7)","v":0},0,0,0,0,0,0,0,0,0,0,{"$f":"V27*0.75","v":0},0,0,0,0,0,0,0,0,0,0,0,0,0,0,0,null,0,0,null,{"$f":"$D66*0.45","v":0},{"$f":"$D66*0.33","v":0},0,0,{"$f":"$D66*0.45","v":0},{"$f":"$D66*0.25","v":0},0,0,0,0,0,0,0,0,0,0,0,0,0,0,0,0,0,{"$f":"$I66*0.45","v":0},0,0,0,0,0,0,0,0,{"$f":"$M66*0.5","v":0},0,0,0,0,0,0,0,0,0,0,0,0,0,0,0,0,0,0,0]
[null,null,"4th of 50 Guns",{"$f":"('Data Entry'!AP67/2)/(22/7)","v":0},0,0,0,{"$f":"('Data Entry'!AT67/2)/(22/7)","v":0},0,0,0,{"$f":"('Data Entry'!AX67/2)/(22/7)","v":0},0,0,0,0,0,0,0,0,0,0,{"$f":"V33*0.75","v":0},0,0,0,0,0,0,0,0,0,0,0,0,0,0,0,null,0,0,null,{"$f":"$D67*0.45","v":0},{"$f":"$D67*0.33","v":0},0,0,{"$f":"$D67*0.45","v":0},{"$f":"$D67*0.25","v":0},0,0,0,0,0,0,0,0,0,0,0,0,0,0,0,0,0,{"$f":"$I67*0.45","v":0},0,0,0,0,0,0,0,0,{"$f":"$M67*0.5","v":0},0,0,0,0,0,0,0,0,0,0,0,0,0,0,0,0,0,0,0]
[null,null,"5th of 40 Guns",{"$f":"('Data Entry'!AP68/2)/(22/7)","v":0},0,0,0,{"$f":"('Data Entry'!AT68/2)/(22/7)","v":0},0,0,0,{"$f":"('Data Entry'!AX68/2)/(22/7)","v":0},0,0,0,0,0,0,0,0,0,0,{"$f":"V39*0.75","v":0},0,0,0,0,0,0,0,0,0,0,0,0,0,0,0,null,0,0,null,0,{"$f":"$D68*0.33","v":0},0,0,{"$f":"$D68*0.45","v":0},{"$f":"$D68*0.25","v":0},0,0,0,0,0,0,0,0,0,0,0,0,0,0,0,0,0,{"$f":"$I68*0.45","v":0},0,0,0,0,0,0,0,0,{"$f":"$M68*0.5","v":0},0,0,0,0,0,0,0,0,0,0,0,0,0,0,0,0,0,0,0]
[null,null,"5th - 30 Guns",{"$f":"('Data Entry'!AP69/2)/(22/7)","v":0},0,0,0,{"$f":"('Data Entry'!AT69/2)/(22/7)","v":0},0,0,0,{"$f":"('Data Entry'!AX69/2)/(22/7)","v":0},0,0,0,0,0,0,0,0,0,0,{"$f":"V45*0.75","v":0},0,0,0,0,0,0,0,0,0,0,0,0,0,0,0,null,0,0,null,0,{"$f":"$D69*0.33","v":0},0,0,{"$f":"$D69*0.45","v":0},{"$f":"$D69*0.25","v":0},0,0,0,0,0,0,0,0,0,0,0,0,0,0,0,0,0,{"$f":"$I69*0.45","v":0},0,0,0,0,0,0,0,0,{"$f":"$M69*0.5","v":0},0,0,0,0,0,0,0,0,0,0,0,0,0,0,0,0,0,0,0]
[null,null,"6th of 20 Guns",{"$f":"('Data Entry'!AP70/2)/(22/7)","v":0},0,0,0,{"$f":"('Data Entry'!AT70/2)/(22/7)","v":0},0,0,0,{"$f":"('Data Entry'!AX70/2)/(22/7)","v":0},0,0,0,0,0,0,0,0,0,0,{"$f":"V57*0.66","v":0},0,0,0,0,0,0,0,0,0,0,0,0,0,0,0,null,0,0,null,0,{"$f":"$D70*0.33","v":0},0,0,{"$f":"$D70*0.45","v":0},{"$f":"$D70*0.25","v":0},0,0,0,0,0,0,0,0,0,0,0,0,0,0,0,0,0,{"$f":"$I70*0.45","v":0},0,0,{"$f":"$I70*0.375","v":0},0,0,0,0,0,{"$f":"$M70*0.5","v":0},0,0,0,0,0,0,0,0,0,0,0,0,0,0,0,0,0,0,0]
[null,1729,"1st and 2nd",{"$f":"('Data Entry'!AP71/2)/(22/7)","v":0},0,0,0,{"$f":"('Data Entry'!AT71/2)/(22/7)","v":0},0,0,0,{"$f":"('Data Entry'!AX71/2)/(22/7)","v":0},0,0,0,{"$f":"D71*0.72","v":0},0,0,0,{"$f":"R71*0.72","v":0},0,0,{"$f":"V63*0.8","v":0},0,0,0,0,0,0,0,0,0,0,0,0,0,0,{"$f":"$I71*0.33","v":0},null,0,0,null,{"$f":"$D71*0.45","v":0},{"$f":"$D71*0.25","v":0},{"$f":"$D71*0.165","v":0},0,{"$f":"$D71*0.33","v":0},{"$f":"$D71*0.2","v":0},0,{"$f":"$D71*0.2","v":0},{"$f":"$D71*0.16","v":0},0,0,0,0,{"$f":"E71*0.66","v":0},0,0,0,0,{"$f":"E71","v":0},0,{"$f":"BJ71*0.9","v":0},0,0,{"$f":"$I71*0.5","v":0},0,0,0,0,0,0,0,0,{"$f":"$M71*0.4","v":0},0,0,0,0,0,0,0,0,0,0,0,0,0,0,0,0,0,0,0]
[null,null,"3rd of 80 Guns",{"$f":"('Data Entry'!AP72/2)/(22/7)","v":0},0,0,0,{"$f":"('Data Entry'!AT72/2)/(22/7)","v":0},0,0,0,{"$f":"('Data Entry'!AX72/2)/(22/7)","v":0},0,0,0,0,0,0,0,0,0,0,{"$f":"V64*0.8","v":0},0,0,0,0,0,0,0,0,0,0,0,0,0,0,{"$f":"$I72*0.4","v":0},null,0,0,null,{"$f":"$D72*0.45","v":0},{"$f":"$D72*0.25","v":0},0,0,{"$f":"$D72*0.33","v":0},{"$f":"$D72*0.2","v":0},0,0,0,0,0,0,0,0,0,0,0,0,0,0,0,0,0,{"$f":"$I72*0.5","v":0},0,0,0,0,0,0,0,0,{"$f":"$M72*0.4","v":0},0,0,0,0,0,0,0,0,0,0,0,0,0,0,0,0,0,0,0]
[null,null,"3rd of 70 Guns",{"$f":"('Data Entry'!AP73/2)/(22/7)","v":0},0,0,0,{"$f":"('Data Entry'!AT73/2)/(22/7)","v":0},0,0,0,{"$f":"('Data Entry'!AX73/2)/(22/7)","v":0},0,0,0,0,0,0,0,0,0,0,{"$f":"V65*0.8","v":0},0,0,0,0,0,0,0,0,0,0,0,0,0,0,0,null,0,0,null,{"$f":"$D73*0.45","v":0},{"$f":"$D73*0.25","v":0},0,0,{"$f":"$D73*0.33","v":0},{"$f":"$D73*0.2","v":0},0,0,0,0,0,0,0,0,0,0,0,0,0,0,0,0,0,{"$f":"$I73*0.5","v":0},0,0,0,0,0,0,0,0,{"$f":"$M73*0.4","v":0},0,0,0,0,0,0,0,0,0,0,0,0,0,0,0,0,0,0,0]
[null,null,"4th of 60 Guns",{"$f":"('Data Entry'!AP74/2)/(22/7)","v":0},0,0,0,{"$f":"('Data Entry'!AT74/2)/(22/7)","v":0},0,0,0,{"$f":"('Data Entry'!AX74/2)/(22/7)","v":0},0,0,0,0,0,0,0,0,0,0,{"$f":"V66*0.75","v":0},0,0,0,0,0,0,0,0,0,0,0,0,0,0,0,null,0,0,null,{"$f":"$D74*0.45","v":0},{"$f":"$D74*0.33","v":0},0,0,{"$f":"$D74*0.45","v":0},{"$f":"$D74*0.25","v":0},0,0,0,0,0,0,0,0,0,0,0,0,0,0,0,0,0,{"$f":"$I74*0.45","v":0},0,0,0,0,0,0,0,0,{"$f":"$M74*0.5","v":0},0,0,0,0,0,0,0,0,0,0,0,0,0,0,0,0,0,0,0]
[null,null,"4th of 50 Guns",{"$f":"('Data Entry'!AP75/2)/(22/7)","v":0},0,0,0,{"$f":"('Data Entry'!AT75/2)/(22/7)","v":0},0,0,0,{"$f":"('Data Entry'!AX75/2)/(22/7)","v":0},0,0,0,0,0,0,0,0,0,0,{"$f":"V67*0.75","v":0},0,0,0,0,0,0,0,0,0,0,0,0,0,0,0,null,0,0,null,{"$f":"$D75*0.45","v":0},{"$f":"$D75*0.33","v":0},0,0,{"$f":"$D75*0.45","v":0},{"$f":"$D75*0.25","v":0},0,0,0,0,0,0,0,0,0,0,0,0,0,0,0,0,0,{"$f":"$I75*0.45","v":0},0,0,0,0,0,0,0,0,{"$f":"$M75*0.5","v":0},0,0,0,0,0,0,0,0,0,0,0,0,0,0,0,0,0,0,0]
[null,null,"5th of 40 Guns",{"$f":"('Data Entry'!AP76/2)/(22/7)","v":0},0,0,0,{"$f":"('Data Entry'!AT76/2)/(22/7)","v":0},0,0,0,{"$f":"('Data Entry'!AX76/2)/(22/7)","v":0},0,0,0,0,0,0,0,0,0,0,{"$f":"V68*0.75","v":0},0,0,0,0,0,0,0,0,0,0,0,0,0,0,0,null,0,0,null,{"$f":"$D76*0.65","v":0},{"$f":"$D76*0.33","v":0},0,0,{"$f":"$D76*0.45","v":0},{"$f":"$D76*0.25","v":0},0,0,0,0,0,0,0,0,0,0,0,0,0,0,0,0,0,{"$f":"$I76*0.45","v":0},0,0,0,0,0,0,0,0,{"$f":"$M76*0.5","v":0},0,0,0,0,0,0,0,0,0,0,0,0,0,0,0,0,0,0,0]
[null,null,"5th - 30 Guns",{"$f":"('Data Entry'!AP77/2)/(22/7)","v":0},0,0,0,{"$f":"('Data Entry'!AT77/2)/(22/7)","v":0},0,0,0,{"$f":"('Data Entry'!AX77/2)/(22/7)","v":0},0,0,0,0,0,0,0,0,0,0,{"$f":"V69*0.75","v":0},0,0,0,0,0,0,0,0,0,0,0,0,0,0,0,null,0,0,null,{"$f":"$D77*0.65","v":0},{"$f":"$D77*0.33","v":0},0,0,{"$f":"$D77*0.45","v":0},{"$f":"$D77*0.25","v":0},0,0,0,0,0,0,0,0,0,0,0,0,0,0,0,0,0,{"$f":"$I77*0.45","v":0},0,0,0,0,0,0,0,0,{"$f":"$M77*0.5","v":0},0,0,0,0,0,0,0,0,0,0,0,0,0,0,0,0,0,0,0]
[null,null,"6th of 20 Guns",{"$f":"('Data Entry'!AP78/2)/(22/7)","v":0},0,0,0,{"$f":"('Data Entry'!AT78/2)/(22/7)","v":0},0,0,0,{"$f":"('Data Entry'!AX78/2)/(22/7)","v":0},0,0,0,0,0,0,0,0,0,0,{"$f":"V70*0.66","v":0},0,0,0,0,0,0,0,0,0,0,0,0,0,0,0,null,0,0,null,{"$f":"$D78*0.65","v":0},{"$f":"$D78*0.33","v":0},0,0,{"$f":"$D78*0.45","v":0},{"$f":"$D78*0.25","v":0},0,0,0,0,0,0,0,0,0,0,0,0,0,0,0,0,0,{"$f":"$I78*0.45","v":0},0,0,{"$f":"$I78*0.375","v":0},0,0,0,0,0,{"$f":"$M78*0.5","v":0},0,0,0,0,0,0,0,0,0,0,0,0,0,0,0,0,0,0,0]
[null,1745,"1st and 2nd",{"$f":"('Data Entry'!AP79/2)/(22/7)","v":0},0,0,0,{"$f":"('Data Entry'!AT79/2)/(22/7)","v":0},0,0,0,{"$f":"('Data Entry'!AX79/2)/(22/7)","v":0},0,0,0,0,{"$f":"H79*0.9","v":0},{"$f":"D79*0.7","v":0},{"$f":"H79*0.7","v":0},0,0,{"$f":"H79*(0.6*0.66)","v":0},{"$f":"V71*0.8","v":0},0,{"$f":"$H79*0.33","v":0},{"$f":"$H79*0.2","v":0},{"$f":"$H79*0.25","v":0},0,{"$f":"$H79*0.15","v":0},{"$f":"$H79*0.125","v":0},0,0,{"$f":"$I79*0.33","v":0},0,0,0,{"$f":"$I79*0.25","v":0},{"$f":"$I79*0.33","v":0},null,{"$f":"AQ79","v":0},{"$f":"$H79*0.5","v":0},null,{"$f":"$D79*0.45","v":0},{"$f":"$D79*0.25","v":0},{"$f":"$D79*0.165","v":0},0,{"$f":"$D79*0.33","v":0},{"$f":"$D79*0.2","v":0},{"$f":"$D79*0.2","v":0},{"$f":"$D79*0.2","v":0},{"$f":"$D79*0.16","v":0},0,0,{"$f":"$L79*0.4","v":0},{"$f":"$L79*0.33","v":0},{"$f":"E79*0.66","v":0},0,0,0,0,{"$f":"E79","v":0},0,{"$f":"BJ79*0.9","v":0},0,0,{"$f":"$I79*0.5","v":0},0,0,0,{"$f":"$I79*0.45","v":0},{"$f":"$M79*0.8","v":0},{"$f":"$M79*0.66","v":0},{"$f":"$M79*0.5","v":0},{"$f":"$M79*0.5","v":0},{"$f":"$M79*0.4","v":0},0,{"$f":"$M79*0.5","v":0},{"$f":"$M79*0.5","v":0},{"$f":"$M79*0.5","v":0},{"$f":"$M79*0.5","v":0},0,0,{"$f":"$F79*0.55","v":0},0,0,0,0,0,0,{"$f":"$L79*0.33","v":0},0,0,0,0]
[null,null,"3rd of 80 Guns",{"$f":"('Data Entry'!AP80/2)/(22/7)","v":0},0,0,0,{"$f":"('Data Entry'!AT80/2)/(22/7)","v":0},0,0,0,{"$f":"('Data Entry'!AX80/2)/(22/7)","v":0},0,0,0,0,0,0,0,0,0,0,{"$f":"V72*0.8","v":0},0,0,0,0,0,0,0,0,0,0,0,0,0,{"$f":"$I80*0.25","v":0},{"$f":"$I80*0.4","v":0},null,{"$f":"AQ80","v":0},0,null,{"$f":"$D80*0.45","v":0},{"$f":"$D80*0.25","v":0},0,0,{"$f":"$D80*0.33","v":0},{"$f":"$D80*0.2","v":0},0,0,0,0,0,{"$f":"$L80*0.4","v":0},{"$f":"$L80*0.33","v":0},0,0,0,0,0,0,0,0,0,0,{"$f":"$I80*0.5","v":0},0,0,0,{"$f":"$I80*0.45","v":0},{"$f":"$M80*0.8","v":0},{"$f":"$M80*0.66","v":0},{"$f":"$M80*0.5","v":0},0,{"$f":"$M80*0.4","v":0},0,{"$f":"$M80*0.5","v":0},0,0,0,0,0,{"$f":"$F80*0.55","v":0},{"$f":"$F80*0.66","v":0},0,0,0,0,0,{"$f":"$L80*0.33","v":0},0,0,{"$f":"$L80*0.22","v":0},0]
[null,null,"3rd of 70 Guns",{"$f":"('Data Entry'!AP81/2)/(22/7)","v":0},0,0,0,{"$f":"('Data Entry'!AT81/2)/(22/7)","v":0},0,0,0,{"$f":"('Data Entry'!AX81/2)/(22/7)","v":0},0,0,0,0,0,0,0,0,0,0,{"$f":"V73*0.8","v":0},0,0,0,0,0,0,0,0,0,0,0,0,0,{"$f":"$I81*0.25","v":0},0,null,0,0,null,{"$f":"$D81*0.45","v":0},{"$f":"$D81*0.25","v":0},0,0,{"$f":"$D81*0.33","v":0},0,0,0,0,0,0,0,0,0,0,0,0,0,0,0,0,0,0,{"$f":"$I81*0.5","v":0},0,0,0,0,{"$f":"$M81*0.8","v":0},0,0,0,{"$f":"$M81*0.4","v":0},0,0,0,0,0,0,0,0,0,0,0,0,0,0,0,0,0,0,0]
[null,null,"4th of 60 Guns",{"$f":"('Data Entry'!AP82/2)/(22/7)","v":0},{"$f":"D82/2","v":0},0,0,{"$f":"('Data Entry'!AT82/2)/(22/7)","v":0},{"$f":"H82/2","v":0},0,0,{"$f":"('Data Entry'!AX82/2)/(22/7)","v":0},{"$f":"L82/2","v":0},0,0,0,0,0,0,0,0,0,{"$f":"V74*0.75","v":0},0,0,0,0,0,0,0,0,0,0,0,0,0,{"$f":"$I82*0.3","v":0},0,null,0,0,null,{"$f":"$D82*0.45","v":0},{"$f":"$D82*0.33","v":0},0,0,{"$f":"$D82*0.45","v":0},{"$f":"$D82*0.25","v":0},0,0,0,0,0,0,0,0,0,0,0,0,0,0,0,0,0,{"$f":"$I82*0.45","v":0},0,0,0,0,{"$f":"$M82","v":0},0,0,0,0,0,0,0,0,0,0,0,0,0,0,0,0,0,0,0,0,0,0,0]
[null,null,"4th of 50 Guns",{"$f":"('Data Entry'!AP83/2)/(22/7)","v":0},0,0,0,{"$f":"('Data Entry'!AT83/2)/(22/7)","v":0},0,0,0,{"$f":"('Data Entry'!AX83/2)/(22/7)","v":0},0,0,0,0,0,0,0,0,0,0,{"$f":"V75*0.75","v":0},0,0,0,0,0,0,0,0,0,0,0,0,0,{"$f":"$I83*0.3","v":0},0,null,0,0,null,{"$f":"$D83*0.45","v":0},{"$f":"$D83*0.33","v":0},0,0,{"$f":"$D83*0.45","v":0},{"$f":"$D83*0.25","v":0},0,0,0,0,0,0,0,0,0,0,0,0,0,0,0,0,0,{"$f":"$I83*0.45","v":0},0,0,0,0,{"$f":"$M83","v":0},0,0,0,0,0,0,0,0,0,0,0,0,0,0,0,0,0,0,0,0,0,0,0]
[null,null,"5th of 40 Guns",{"$f":"('Data Entry'!AP84/2)/(22/7)","v":0},0,0,0,{"$f":"('Data Entry'!AT84/2)/(22/7)","v":0},0,0,0,{"$f":"('Data Entry'!AX84/2)/(22/7)","v":0},0,0,0,0,0,0,0,0,0,0,{"$f":"V76*0.75","v":0},0,0,0,0,0,0,0,0,0,0,0,0,0,{"$f":"$I84*0.3","v":0},0,null,0,0,null,{"$f":"$D84*0.65","v":0},{"$f":"$D84*0.33","v":0},0,0,{"$f":"$D84*0.45","v":0},{"$f":"$D84*0.25","v":0},0,0,0,0,0,0,0,0,0,0,0,0,0,0,0,0,0,{"$f":"$I84*0.45","v":0},0,0,0,0,{"$f":"$M84","v":0},0,0,0,0,0,0,0,0,0,0,0,0,0,0,0,0,0,0,0,0,0,0,0]
[null,null,"5th - 30 Guns",{"$f":"('Data Entry'!AP85/2)/(22/7)","v":0},0,0,0,{"$f":"('Data Entry'!AT85/2)/(22/7)","v":0},0,0,0,{"$f":"('Data Entry'!AX85/2)/(22/7)","v":0},0,0,0,0,0,0,0,0,0,0,{"$f":"V77*0.75","v":0},0,0,0,0,0,0,0,0,0,0,0,0,0,{"$f":"$I85*0.3","v":0},0,null,0,0,null,{"$f":"$D85*0.65","v":0},{"$f":"$D85*0.33","v":0},0,0,{"$f":"$D85*0.45","v":0},{"$f":"$D85*0.25","v":0},0,0,0,0,0,0,0,0,0,0,0,0,0,0,0,0,0,{"$f":"$I85*0.45","v":0},0,0,0,0,{"$f":"$M85","v":0},0,0,0,0,0,0,0,0,0,0,0,0,0,0,0,0,0,0,0,0,0,0,0]
[null,null,"6th of 20 Guns",{"$f":"('Data Entry'!AP86/2)/(22/7)","v":0},0,0,0,{"$f":"('Data Entry'!AT86/2)/(22/7)","v":0},0,0,0,{"$f":"('Data Entry'!AX86/2)/(22/7)","v":0},0,0,0,0,0,0,0,0,0,0,{"$f":"V78*0.66","v":0},0,0,0,0,0,0,0,0,0,0,0,0,0,{"$f":"$I86*0.3","v":0},0,null,0,0,null,{"$f":"$D86*0.65","v":0},{"$f":"$D86*0.33","v":0},0,0,{"$f":"$D86*0.45","v":0},{"$f":"$D86*0.25","v":0},0,0,0,0,0,0,0,0,0,0,0,0,0,0,0,0,0,{"$f":"$I86*0.45","v":0},0,0,{"$f":"$I86*0.375","v":0},0,{"$f":"$M86","v":0},0,0,0,0,0,0,0,0,0,0,0,0,0,0,0,0,0,0,0,0,0,0,0]
[null,1769,"1st and 2nd",{"$f":"('Data Entry'!AP87/2)/(22/7)","v":0},0,0,0,{"$f":"('Data Entry'!AT87/2)/(22/7)","v":0},0,0,0,{"$f":"('Data Entry'!AX87/2)/(22/7)","v":0},0,0,0,0,0,0,0,0,0,0,{"$f":"V79*0.8","v":0},0,0,0,0,0,0,0,0,0,0,0,0,0,{"$f":"$I87*0.25","v":0},{"$f":"$I87*0.33","v":0},null,0,0,null,{"$f":"$D87*0.45","v":0},{"$f":"$D87*0.25","v":0},{"$f":"$D87*0.165","v":0},0,{"$f":"$D87*0.33","v":0},{"$f":"$D87*0.2","v":0},0,{"$f":"$D87*0.2","v":0},{"$f":"$D87*0.16","v":0},0,0,0,0,{"$f":"E87*0.66","v":0},0,0,0,0,{"$f":"E87","v":0},0,{"$f":"BJ87*0.9","v":0},0,0,{"$f":"$I87*0.5","v":0},0,0,0,0,{"$f":"$M87*0.8","v":0},0,0,0,{"$f":"$M87*0.4","v":0},0,0,0,0,0,0,0,0,0,0,0,0,0,0,0,0,0,0,0]
[null,null,"3rd of 80 Guns",{"$f":"('Data Entry'!AP88/2)/(22/7)","v":0},0,0,0,{"$f":"('Data Entry'!AT88/2)/(22/7)","v":0},0,0,0,{"$f":"('Data Entry'!AX88/2)/(22/7)","v":0},0,0,0,0,0,0,0,0,0,0,{"$f":"V80*0.8","v":0},0,0,0,0,0,0,0,0,0,0,0,0,0,{"$f":"$I88*0.25","v":0},{"$f":"$I88*0.4","v":0},null,0,0,null,{"$f":"$D88*0.45","v":0},{"$f":"$D88*0.25","v":0},0,0,{"$f":"$D88*0.33","v":0},{"$f":"$D88*0.2","v":0},0,0,0,0,0,0,0,0,0,0,0,0,0,0,0,0,0,{"$f":"$I88*0.5","v":0},0,0,0,0,{"$f":"$M88*0.8","v":0},0,0,0,{"$f":"$M88*0.4","v":0},0,0,0,0,0,0,0,0,0,0,0,0,0,0,0,0,0,0,0]
[null,null,"3rd of 70 Guns",{"$f":"('Data Entry'!AP89/2)/(22/7)","v":0},0,0,0,{"$f":"('Data Entry'!AT89/2)/(22/7)","v":0},0,0,0,{"$f":"('Data Entry'!AX89/2)/(22/7)","v":0},0,0,0,0,0,0,0,0,0,0,{"$f":"V81*0.8","v":0},0,0,0,0,0,0,0,0,0,0,0,0,0,{"$f":"$I89*0.25","v":0},0,null,0,0,null,{"$f":"$D89*0.45","v":0},{"$f":"$D89*0.25","v":0},0,0,{"$f":"$D89*0.33","v":0},{"$f":"$D89*0.2","v":0},0,0,0,0,0,0,0,0,0,0,0,0,0,0,0,0,0,{"$f":"$I89*0.5","v":0},0,0,0,0,{"$f":"$M89*0.8","v":0},0,0,0,{"$f":"$M89*0.4","v":0},0,0,0,0,0,0,0,0,0,0,0,0,0,0,0,0,0,0,0]
[null,null,"4th of 60 Guns",{"$f":"('Data Entry'!AP90/2)/(22/7)","v":0},0,0,0,{"$f":"('Data Entry'!AT90/2)/(22/7)","v":0},0,0,0,{"$f":"('Data Entry'!AX90/2)/(22/7)","v":0},0,0,0,0,0,0,0,0,0,0,{"$f":"V82*0.75","v":0},0,0,0,0,0,0,0,0,0,0,0,0,0,{"$f":"$I90*0.3","v":0},0,null,0,0,null,{"$f":"$D90*0.45","v":0},{"$f":"$D90*0.33","v":0},0,0,{"$f":"$D90*0.45","v":0},{"$f":"$D90*0.25","v":0},0,0,0,0,0,0,0,0,0,0,0,0,0,0,0,0,0,{"$f":"$I90*0.45","v":0},0,0,0,0,{"$f":"$M90","v":0},0,0,0,0,0,0,0,0,0,0,0,0,0,0,0,0,0,0,0,0,0,0,0]
[null,null,"4th of 50 Guns",{"$f":"('Data Entry'!AP91/2)/(22/7)","v":0},0,0,0,{"$f":"('Data Entry'!AT91/2)/(22/7)","v":0},0,0,0,{"$f":"('Data Entry'!AX91/2)/(22/7)","v":0},0,0,0,0,0,0,0,0,0,0,{"$f":"V83*0.75","v":0},0,0,0,0,0,0,0,0,0,0,0,0,0,{"$f":"$I91*0.3","v":0},0,null,0,0,null,{"$f":"$D91*0.45","v":0},{"$f":"$D91*0.33","v":0},0,0,{"$f":"$D91*0.45","v":0},{"$f":"$D91*0.25","v":0},0,0,0,0,0,0,0,0,0,0,0,0,0,0,0,0,0,{"$f":"$I91*0.45","v":0},0,0,0,0,{"$f":"$M91","v":0},0,0,0,0,0,0,0,0,0,0,0,0,0,0,0,0,0,0,0,0,0,0,0]
[null,null,"5th of 40 Guns",{"$f":"('Data Entry'!AP92/2)/(22/7)","v":0},0,0,0,{"$f":"('Data Entry'!AT92/2)/(22/7)","v":0},0,0,0,{"$f":"('Data Entry'!AX92/2)/(22/7)","v":0},0,0,0,0,0,0,0,0,0,0,{"$f":"V84*0.75","v":0},0,0,0,0,0,0,0,0,0,0,0,0,0,{"$f":"$I92*0.3","v":0},0,null,0,0,null,{"$f":"$D92*0.65","v":0},{"$f":"$D92*0.33","v":0},0,0,{"$f":"$D92*0.45","v":0},{"$f":"$D92*0.25","v":0},0,0,0,0,0,0,0,0,0,0,0,0,0,0,0,0,0,{"$f":"$I92*0.45","v":0},0,0,0,0,{"$f":"$M92","v":0},0,0,0,0,0,0,0,0,0,0,0,0,0,0,0,0,0,0,0,0,0,0,0]
[null,null,"5th - 30 Guns",{"$f":"('Data Entry'!AP93/2)/(22/7)","v":0},0,0,0,{"$f":"('Data Entry'!AT93/2)/(22/7)","v":0},0,0,0,{"$f":"('Data Entry'!AX93/2)/(22/7)","v":0},0,0,0,0,0,0,0,0,0,0,{"$f":"V85*0.75","v":0},0,0,0,0,0,0,0,0,0,0,0,0,0,{"$f":"$I93*0.3","v":0},0,null,0,0,null,{"$f":"$D93*0.65","v":0},{"$f":"$D93*0.33","v":0},0,0,{"$f":"$D93*0.45","v":0},{"$f":"$D93*0.25","v":0},0,0,0,0,0,0,0,0,0,0,0,0,0,0,0,0,0,{"$f":"$I93*0.45","v":0},0,0,0,0,{"$f":"$M93","v":0},0,0,0,0,0,0,0,0,0,0,0,0,0,0,0,0,0,0,0,0,0,0,0]
[null,null,"6th of 20 Guns",{"$f":"('Data Entry'!AP94/2)/(22/7)","v":0},0,0,0,{"$f":"('Data Entry'!AT94/2)/(22/7)","v":0},0,0,0,{"$f":"('Data Entry'!AX94/2)/(22/7)","v":0},0,0,0,0,0,0,0,0,0,0,{"$f":"V86*0.66","v":0},0,0,0,0,0,0,0,0,0,0,0,0,0,{"$f":"$I94*0.3","v":0},0,null,0,0,null,{"$f":"$D94*0.65","v":0},{"$f":"$D94*0.33","v":0},0,0,{"$f":"$D94*0.45","v":0},{"$f":"$D94*0.25","v":0},0,0,0,0,0,0,0,0,0,0,0,0,0,0,0,0,0,{"$f":"$I94*0.45","v":0},0,0,{"$f":"$I94*0.375","v":0},0,{"$f":"$M94","v":0},0,0,0,0,0,0,0,0,0,0,0,0,0,0,0,0,0,0,0,0,0,0,0]
[null,1773,"1st and 2nd",{"$f":"('Data Entry'!AP95/2)/(22/7)","v":0},0,0,0,{"$f":"('Data Entry'!AT95/2)/(22/7)","v":0},0,0,0,{"$f":"('Data Entry'!AX95/2)/(22/7)","v":0},0,0,0,0,{"$f":"H95*0.5","v":0},0,0,0,{"$f":"S95*0.5","v":0},0,{"$f":"V87*0.8","v":0},{"$f":"H95*0.5","v":0},0,0,0,0,0,0,{"$f":"$I95*0.33","v":0},0,0,0,0,0,{"$f":"$I95*0.25","v":0},{"$f":"$I95*0.33","v":0},null,0,0,null,{"$f":"$D95*0.45","v":0},{"$f":"$D95*0.25","v":0},{"$f":"$D95*0.165","v":0},0,{"$f":"$D95*0.33","v":0},{"$f":"$D95*0.2","v":0},0,{"$f":"$D95*0.2","v":0},{"$f":"$D95*0.16","v":0},0,0,0,0,{"$f":"E95*0.66","v":0},0,0,0,0,{"$f":"E95","v":0},0,{"$f":"BJ95*0.9","v":0},0,0,{"$f":"$I95*0.5","v":0},0,0,0,0,{"$f":"$M95*0.8","v":0},0,0,0,{"$f":"$M95*0.4","v":0},0,0,0,0,0,0,0,0,0,0,0,0,{"$f":"$L95*0.75","v":0},{"$f":"$L95*0.7","v":0},0,{"$f":"$L95*0.5","v":0},0,{"$f":"$L95*0.15","v":0},{"$f":"$L95*0.33","v":0}]
[null,null,"3rd of 80 Guns",{"$f":"('Data Entry'!AP96/2)/(22/7)","v":0},0,0,0,{"$f":"('Data Entry'!AT96/2)/(22/7)","v":0},0,0,0,{"$f":"('Data Entry'!AX96/2)/(22/7)","v":0},0,0,0,0,0,0,0,0,0,0,{"$f":"V88*0.8","v":0},0,0,0,0,0,0,0,0,0,0,0,0,0,{"$f":"$I96*0.25","v":0},{"$f":"$I96*0.4","v":0},null,0,0,null,{"$f":"$D96*0.45","v":0},{"$f":"$D96*0.25","v":0},0,0,{"$f":"$D96*0.33","v":0},{"$f":"$D96*0.2","v":0},0,0,0,0,0,0,0,0,0,0,0,0,0,0,0,0,0,{"$f":"$I96*0.5","v":0},0,0,0,0,{"$f":"$M96*0.8","v":0},0,0,0,{"$f":"$M96*0.4","v":0},0,0,0,0,0,0,0,0,0,0,0,0,{"$f":"$L96*0.75","v":0},{"$f":"$L96*0.7","v":0},0,{"$f":"$L96*0.5","v":0},0,{"$f":"$L96*0.15","v":0},{"$f":"$L96*0.33","v":0}]
[null,null,"3rd of 70 Guns",{"$f":"('Data Entry'!AP97/2)/(22/7)","v":0},0,0,0,{"$f":"('Data Entry'!AT97/2)/(22/7)","v":0},0,0,0,{"$f":"('Data Entry'!AX97/2)/(22/7)","v":0},0,0,0,0,0,0,0,0,0,0,{"$f":"V89*0.8","v":0},0,0,0,0,{"$f":"$H97*0.33","v":0},0,0,0,0,0,0,0,0,{"$f":"$I97*0.25","v":0},0,null,0,0,null,{"$f":"$D97*0.45","v":0},{"$f":"$D97*0.25","v":0},0,0,{"$f":"$D97*0.33","v":0},0,0,0,0,0,0,0,0,0,0,0,0,0,0,0,0,0,0,{"$f":"$I97*0.5","v":0},0,0,0,0,{"$f":"$M97*0.8","v":0},0,0,0,{"$f":"$M97*0.4","v":0},0,0,0,0,0,0,0,0,0,0,0,0,0,0,0,0,0,0,0]
[null,null,"4th of 60 Guns",{"$f":"('Data Entry'!AP98/2)/(22/7)","v":0},0,0,0,{"$f":"('Data Entry'!AT98/2)/(22/7)","v":0},0,0,0,{"$f":"('Data Entry'!AX98/2)/(22/7)","v":0},0,0,0,0,0,0,0,0,0,0,{"$f":"V90*0.75","v":0},0,0,0,0,0,0,0,0,0,0,0,0,0,{"$f":"$I98*0.3","v":0},0,null,0,0,null,{"$f":"$D98*0.45","v":0},{"$f":"$D98*0.33","v":0},0,0,{"$f":"$D98*0.45","v":0},{"$f":"$D98*0.25","v":0},0,0,0,0,0,0,0,0,0,0,0,0,0,0,0,0,0,{"$f":"$I98*0.45","v":0},0,0,0,0,{"$f":"$M98","v":0},0,0,0,0,0,0,0,0,0,0,0,0,0,0,0,0,0,0,0,0,{"$f":"$L98*0.4","v":0},0,0]
[null,null,"4th of 50 Guns",{"$f":"('Data Entry'!AP99/2)/(22/7)","v":0},0,0,0,{"$f":"('Data Entry'!AT99/2)/(22/7)","v":0},0,0,0,{"$f":"('Data Entry'!AX99/2)/(22/7)","v":0},0,0,0,0,0,0,0,0,0,0,{"$f":"V91*0.75","v":0},0,0,0,0,0,0,0,0,0,{"$f":"$I99*0.33","v":0},0,0,0,{"$f":"$I99*0.3","v":0},0,null,0,0,null,{"$f":"$D99*0.45","v":0},{"$f":"$D99*0.33","v":0},0,0,{"$f":"$D99*0.45","v":0},{"$f":"$D99*0.25","v":0},0,0,0,0,0,0,0,0,0,0,0,0,0,0,0,0,0,{"$f":"$I99*0.45","v":0},0,0,0,0,{"$f":"$M99","v":0},0,0,0,0,0,0,0,0,0,0,0,0,0,0,0,0,0,0,0,0,0,0,0]
[null,null,"5th of 40 Guns",{"$f":"('Data Entry'!AP100/2)/(22/7)","v":0},0,0,0,{"$f":"('Data Entry'!AT100/2)/(22/7)","v":0},0,0,0,{"$f":"('Data Entry'!AX100/2)/(22/7)","v":0},0,0,0,0,0,0,0,0,0,0,{"$f":"V92*0.75","v":0},0,0,0,0,0,0,0,0,0,0,0,0,0,{"$f":"$I100*0.3","v":0},0,null,0,0,null,{"$f":"$D100*0.65","v":0},{"$f":"$D100*0.33","v":0},0,0,{"$f":"$D100*0.45","v":0},{"$f":"$D100*0.25","v":0},0,0,0,0,0,0,0,0,0,0,0,0,0,0,0,0,0,{"$f":"$I100*0.45","v":0},0,0,0,0,{"$f":"$M100","v":0},0,0,0,0,0,0,0,0,0,0,0,0,0,0,0,0,0,0,0,0,0,0,0]
[null,null,"5th - 30 Guns",{"$f":"('Data Entry'!AP101/2)/(22/7)","v":0},0,0,0,{"$f":"('Data Entry'!AT101/2)/(22/7)","v":0},0,0,0,{"$f":"('Data Entry'!AX101/2)/(22/7)","v":0},0,0,0,0,0,0,0,0,0,0,{"$f":"V93*0.75","v":0},0,0,0,0,0,0,0,0,0,0,0,0,0,{"$f":"$I101*0.3","v":0},0,null,0,0,null,{"$f":"$D101*0.65","v":0},{"$f":"$D101*0.33","v":0},0,0,{"$f":"$D101*0.45","v":0},{"$f":"$D101*0.25","v":0},0,0,0,0,0,0,0,0,0,0,0,0,0,0,0,0,0,{"$f":"$I101*0.45","v":0},0,0,0,0,{"$f":"$M101","v":0},0,0,0,0,0,0,0,0,0,0,0,0,0,0,0,0,0,0,0,0,0,0,0]
[null,null,"6th of 20 Guns",{"$f":"('Data Entry'!AP102/2)/(22/7)","v":0},{"$f":"D102/2","v":0},0,0,{"$f":"('Data Entry'!AT102/2)/(22/7)","v":0},{"$f":"H102/2","v":0},0,0,{"$f":"('Data Entry'!AX102/2)/(22/7)","v":0},{"$f":"L102/2","v":0},0,0,0,0,0,0,0,0,0,{"$f":"V94*0.66","v":0},0,0,0,0,0,0,0,0,0,0,0,0,0,{"$f":"$I102*0.3","v":0},0,null,0,0,null,{"$f":"$D102*0.65","v":0},{"$f":"$D102*0.33","v":0},0,0,{"$f":"$D102*0.45","v":0},{"$f":"$D102*0.25","v":0},0,0,0,0,0,0,0,0,0,0,0,0,0,0,0,0,0,{"$f":"$I102*0.45","v":0},0,0,{"$f":"$I102*0.375","v":0},0,{"$f":"$M102","v":0},0,0,0,0,0,0,0,0,0,0,0,0,0,0,0,0,0,0,0,0,0,0,0]
[null,1780,"1st and 2nd",{"$f":"('Data Entry'!AP103/2)/(22/7)","v":0},0,0,0,{"$f":"('Data Entry'!AT103/2)/(22/7)","v":0},0,0,0,{"$f":"('Data Entry'!AX103/2)/(22/7)","v":0},0,0,0,{"$f":"D103*0.72","v":0},0,0,0,{"$f":"R103*0.72","v":0},0,0,{"$f":"V95*0.8","v":0},0,0,0,0,0,0,0,0,0,0,0,0,0,{"$f":"$I103*0.25","v":0},{"$f":"$I103*0.33","v":0},null,0,0,null,{"$f":"$D103*0.45","v":0},{"$f":"$D103*0.25","v":0},{"$f":"$D103*0.165","v":0},0,{"$f":"$D103*0.33","v":0},{"$f":"$D103*0.2","v":0},0,{"$f":"$D103*0.2","v":0},{"$f":"$D103*0.16","v":0},0,0,0,0,{"$f":"E103*0.66","v":0},0,0,0,0,{"$f":"E103","v":0},0,{"$f":"BJ103*0.9","v":0},0,0,{"$f":"$I103*0.5","v":0},0,0,0,0,{"$f":"$M103*0.8","v":0},0,0,0,{"$f":"$M103*0.4","v":0},0,0,0,0,0,0,0,0,0,0,0,0,0,0,0,0,0,0,0]
[null,null,"3rd of 80 Guns",{"$f":"('Data Entry'!AP104/2)/(22/7)","v":0},0,0,0,{"$f":"('Data Entry'!AT104/2)/(22/7)","v":0},0,0,0,{"$f":"('Data Entry'!AX104/2)/(22/7)","v":0},0,0,0,0,0,0,0,0,0,0,{"$f":"V96*0.8","v":0},0,0,0,0,0,0,0,0,0,0,0,0,0,{"$f":"$I104*0.25","v":0},{"$f":"$I104*0.4","v":0},null,0,0,null,{"$f":"$D104*0.45","v":0},{"$f":"$D104*0.25","v":0},0,0,{"$f":"$D104*0.33","v":0},{"$f":"$D104*0.2","v":0},0,0,0,0,0,0,0,0,0,0,0,0,0,0,0,0,0,{"$f":"$I104*0.5","v":0},0,0,0,0,{"$f":"$M104*0.8","v":0},0,0,0,{"$f":"$M104*0.4","v":0},0,0,0,0,0,0,0,0,0,0,0,0,0,0,0,0,0,0,0]
[null,null,"3rd of 70 Guns",{"$f":"('Data Entry'!AP105/2)/(22/7)","v":0},0,0,0,{"$f":"('Data Entry'!AT105/2)/(22/7)","v":0},0,0,0,{"$f":"('Data Entry'!AX105/2)/(22/7)","v":0},0,0,0,0,0,0,0,0,0,0,{"$f":"V97*0.8","v":0},0,0,0,0,0,0,0,0,0,0,0,0,0,{"$f":"$I105*0.25","v":0},0,null,0,0,null,{"$f":"$D105*0.45","v":0},{"$f":"$D105*0.25","v":0},0,0,{"$f":"$D105*0.33","v":0},{"$f":"$D105*0.2","v":0},0,0,0,0,0,0,0,0,0,0,0,0,0,0,0,0,0,{"$f":"$I105*0.5","v":0},0,0,0,0,{"$f":"$M105*0.8","v":0},0,0,0,{"$f":"$M105*0.4","v":0},0,0,0,0,0,0,0,0,0,0,0,0,0,0,0,0,0,0,0]
[null,null,"4th of 60 Guns",{"$f":"('Data Entry'!AP106/2)/(22/7)","v":0},0,0,0,{"$f":"('Data Entry'!AT106/2)/(22/7)","v":0},0,0,0,{"$f":"('Data Entry'!AX106/2)/(22/7)","v":0},0,0,0,0,0,0,0,0,0,0,{"$f":"V98*0.75","v":0},0,0,0,0,0,0,0,0,0,0,0,0,0,{"$f":"$I106*0.3","v":0},0,null,0,0,null,{"$f":"$D106*0.45","v":0},{"$f":"$D106*0.33","v":0},0,0,{"$f":"$D106*0.45","v":0},{"$f":"$D106*0.25","v":0},0,0,0,0,0,0,0,0,0,0,0,0,0,0,0,0,0,{"$f":"$I106*0.45","v":0},0,0,0,0,{"$f":"$M106","v":0},0,0,0,0,0,0,0,0,0,0,0,0,0,0,0,0,0,0,0,0,0,0,0]
[null,null,"4th of 50 Guns",{"$f":"('Data Entry'!AP107/2)/(22/7)","v":0},0,0,0,{"$f":"('Data Entry'!AT107/2)/(22/7)","v":0},0,0,0,{"$f":"('Data Entry'!AX107/2)/(22/7)","v":0},0,0,0,0,0,0,0,0,0,0,{"$f":"V99*0.75","v":0},0,0,0,0,0,0,0,0,0,0,0,0,0,{"$f":"$I107*0.3","v":0},0,null,0,0,null,{"$f":"$D107*0.45","v":0},{"$f":"$D107*0.33","v":0},0,0,{"$f":"$D107*0.45","v":0},{"$f":"$D107*0.25","v":0},0,0,0,0,0,0,0,0,0,0,0,0,0,0,0,0,0,{"$f":"$I107*0.45","v":0},0,0,0,0,{"$f":"$M107","v":0},0,0,0,0,0,0,0,0,0,0,0,0,0,0,0,0,0,0,0,0,0,0,0]
[null,null,"5th of 40 Guns",{"$f":"('Data Entry'!AP108/2)/(22/7)","v":0},0,0,0,{"$f":"('Data Entry'!AT108/2)/(22/7)","v":0},0,0,0,{"$f":"('Data Entry'!AX108/2)/(22/7)","v":0},0,0,0,0,0,0,0,0,0,0,{"$f":"V100*0.75","v":0},0,0,0,0,0,0,0,0,0,0,0,0,0,{"$f":"$I108*0.3","v":0},0,null,0,0,null,{"$f":"$D108*0.65","v":0},{"$f":"$D108*0.33","v":0},0,0,{"$f":"$D108*0.45","v":0},{"$f":"$D108*0.25","v":0},0,0,0,0,0,0,0,0,0,0,0,0,0,0,0,0,0,{"$f":"$I108*0.45","v":0},0,0,0,0,{"$f":"$M108","v":0},0,0,0,0,0,0,0,0,0,0,0,0,0,0,0,0,0,0,0,0,0,0,0]
[null,null,"5th - 30 Guns",{"$f":"('Data Entry'!AP109/2)/(22/7)","v":0},0,0,0,{"$f":"('Data Entry'!AT109/2)/(22/7)","v":0},0,0,0,{"$f":"('Data Entry'!AX109/2)/(22/7)","v":0},0,0,0,0,0,0,0,0,0,0,{"$f":"V101*0.75","v":0},0,0,0,0,0,0,0,0,0,0,0,0,0,{"$f":"$I109*0.3","v":0},0,null,0,0,null,{"$f":"$D109*0.65","v":0},{"$f":"$D109*0.33","v":0},0,0,{"$f":"$D109*0.45","v":0},{"$f":"$D109*0.25","v":0},0,0,0,0,{"$f":"$L109*0.66","v":0},0,0,0,0,0,0,0,0,0,0,0,0,{"$f":"$I109*0.45","v":0},0,0,0,0,{"$f":"$M109","v":0},0,0,0,0,0,0,0,0,0,0,0,0,0,0,0,0,0,0,0,0,0,0,0]
[null,null,"6th of 20 Guns",{"$f":"('Data Entry'!AP110/2)/(22/7)","v":0},0,0,0,{"$f":"('Data Entry'!AT110/2)/(22/7)","v":0},0,0,0,{"$f":"('Data Entry'!AX110/2)/(22/7)","v":0},0,0,0,0,0,0,0,0,0,0,{"$f":"V102*0.66","v":0},0,0,0,0,0,0,0,0,0,0,0,0,0,{"$f":"$I110*0.3","v":0},0,null,0,0,null,{"$f":"$D110*0.65","v":0},{"$f":"$D110*0.33","v":0},0,0,{"$f":"$D110*0.45","v":0},{"$f":"$D110*0.25","v":0},0,0,0,0,0,0,0,0,{"$f":"BD110*0.66","v":0},0,0,0,0,{"$f":"I110*0.66","v":0},0,{"$f":"I110*0.66","v":0},0,{"$f":"$I110*0.45","v":0},0,0,{"$f":"$I110*0.375","v":0},0,{"$f":"$M110","v":0},0,0,0,0,0,0,0,0,0,{"$f":"$F110*0.9","v":0},{"$f":"$F110*0.5","v":0},0,0,{"$f":"$J110*0.9","v":0},{"$f":"$J110*0.45","v":0},0,0,0,0,0,0,0,0]
[null,1794,"1st and 2nd",{"$f":"('Data Entry'!AP111/2)/(22/7)","v":0},0,0,0,{"$f":"('Data Entry'!AT111/2)/(22/7)","v":0},0,0,0,{"$f":"('Data Entry'!AX111/2)/(22/7)","v":0},0,0,0,0,0,{"$f":"D111*0.7","v":0},{"$f":"H111*0.7","v":0},0,0,{"$f":"H111*(0.6*0.66)","v":0},{"$f":"V103*0.8","v":0},0,{"$f":"$H111*0.33","v":0},{"$f":"$H111*0.2","v":0},{"$f":"$H111*0.25","v":0},0,{"$f":"$H111*0.15","v":0},{"$f":"$H111*0.125","v":0},0,0,0,0,0,0,{"$f":"$I111*0.25","v":0},{"$f":"$I111*0.33","v":0},null,0,0,null,{"$f":"$D111*0.45","v":0},{"$f":"$D111*0.25","v":0},{"$f":"$D111*0.165","v":0},0,{"$f":"$D111*0.33","v":0},{"$f":"$D111*0.2","v":0},0,{"$f":"$D111*0.2","v":0},{"$f":"$D111*0.16","v":0},0,0,0,0,{"$f":"E111*0.66","v":0},0,0,0,0,{"$f":"E111","v":0},0,{"$f":"BJ111*0.9","v":0},0,0,{"$f":"$I111*0.5","v":0},0,0,0,0,{"$f":"$M111*0.8","v":0},0,0,0,{"$f":"$M111*0.4","v":0},0,0,0,0,0,0,0,0,0,0,0]
[null,null,"3rd of 80 Guns",{"$f":"('Data Entry'!AP112/2)/(22/7)","v":0},0,0,0,{"$f":"('Data Entry'!AT112/2)/(22/7)","v":0},0,0,0,{"$f":"('Data Entry'!AX112/2)/(22/7)","v":0},0,0,0,0,0,0,0,0,0,0,{"$f":"V104*0.8","v":0},0,0,0,0,0,0,0,0,0,0,0,0,0,{"$f":"$I112*0.25","v":0},{"$f":"$I112*0.4","v":0},null,0,0,null,{"$f":"$D112*0.45","v":0},{"$f":"$D112*0.25","v":0},0,0,{"$f":"$D112*0.33","v":0},{"$f":"$D112*0.2","v":0},0,0,0,0,0,0,0,0,0,0,0,0,0,0,0,0,0,{"$f":"$I112*0.5","v":0},0,0,0,0,{"$f":"$M112*0.8","v":0},0,0,0,{"$f":"$M112*0.4","v":0},0,0,0,0,0,0,0,0,0,0,0]
[null,null,"3rd of 74 Guns",{"$f":"('Data Entry'!AP113/2)/(22/7)","v":0},0,0,0,{"$f":"('Data Entry'!AT113/2)/(22/7)","v":0},0,0,0,{"$f":"('Data Entry'!AX113/2)/(22/7)","v":0},0,0,0,0,0,0,0,0,0,0,{"$f":"V105*0.8","v":0},0,0,0,0,0,0,0,0,0,0,0,0,0,{"$f":"$I113*0.25","v":0},0,null,0,0,null,{"$f":"$D113*0.45","v":0},{"$f":"$D113*0.25","v":0},0,0,{"$f":"$D113*0.33","v":0},0,0,0,0,0,0,0,0,0,0,0,0,0,0,0,0,0,0,{"$f":"$I113*0.5","v":0},0,0,0,0,{"$f":"$M113*0.8","v":0},0,0,0,{"$f":"$M113*0.4","v":0},0,0,0,0,0,0,0,0,0,0,0]
[null,null,"4th of 60 Guns",{"$f":"('Data Entry'!AP114/2)/(22/7)","v":0},0,0,0,{"$f":"('Data Entry'!AT114/2)/(22/7)","v":0},0,0,0,{"$f":"('Data Entry'!AX114/2)/(22/7)","v":0},0,0,0,0,0,0,0,0,0,0,{"$f":"V106*0.75","v":0},0,0,0,0,0,0,0,0,0,0,0,0,0,{"$f":"$I114*0.3","v":0},0,null,0,0,null,{"$f":"$D114*0.45","v":0},{"$f":"$D114*0.33","v":0},0,0,{"$f":"$D114*0.45","v":0},{"$f":"$D114*0.25","v":0},0,0,0,0,0,0,0,0,0,0,0,0,0,0,0,0,0,{"$f":"$I114*0.45","v":0},0,0,0,0,{"$f":"$M114","v":0},0,0,0,0,0,0,0,0,0,0,0,0,0,0,0]
[null,null,"4th of 50 Guns",{"$f":"('Data Entry'!AP115/2)/(22/7)","v":0},0,0,0,{"$f":"('Data Entry'!AT115/2)/(22/7)","v":0},0,0,0,{"$f":"('Data Entry'!AX115/2)/(22/7)","v":0},0,0,0,0,0,0,0,0,0,0,{"$f":"V107*0.75","v":0},0,0,0,0,0,0,0,0,0,0,0,0,0,0,0,null,0,0,null,{"$f":"$D115*0.45","v":0},0,0,0,0,0,0,0,0,0,0,0,0,0,0,0,0,0,0,0,0,0,0,0,0,0,0,0,0,0,0,0,0,0,0,0,0,0,0,0,0,0,0,0]
[null,null,"5th of 40 Guns",{"$f":"('Data Entry'!AP116/2)/(22/7)","v":0},0,0,0,{"$f":"('Data Entry'!AT116/2)/(22/7)","v":0},0,0,0,{"$f":"('Data Entry'!AX116/2)/(22/7)","v":0},0,0,0,0,0,0,0,0,0,0,{"$f":"V108*0.75","v":0},0,0,0,0,0,0,0,0,0,0,0,0,0,0,0,null,0,0,null,{"$f":"$D116*0.65","v":0},0,0,0,0,0,0,0,0,0,0,0,0,0,0,0,0,0,0,0,0,0,0,0,0,0,0,0,0,0,0,0,0,0,0,0,0,0,0,0,0,0,0,0]
[null,null,"5th - 30 Guns",{"$f":"('Data Entry'!AP117/2)/(22/7)","v":0},0,0,0,{"$f":"('Data Entry'!AT117/2)/(22/7)","v":0},0,0,0,{"$f":"('Data Entry'!AX117/2)/(22/7)","v":0},0,0,0,0,0,0,0,0,0,0,{"$f":"V109*0.75","v":0},0,0,0,0,0,0,0,0,0,0,0,0,0,0,0,null,0,0,null,{"$f":"$D117*0.65","v":0},0,0,0,0,0,0,0,0,0,0,0,0,0,0,0,0,0,0,0,0,0,0,0,0,0,0,0,0,0,0,0,0,0,0,0,0,0,0,0,0,0,0,0]
[null,null,"6th of 20 Guns",{"$f":"('Data Entry'!AP118/2)/(22/7)","v":0},0,0,0,{"$f":"('Data Entry'!AT118/2)/(22/7)","v":0},0,0,0,{"$f":"('Data Entry'!AX118/2)/(22/7)","v":0},0,0,0,0,0,0,0,0,0,0,{"$f":"V110*0.66","v":0},0,0,0,0,0,0,0,0,0,0,0,0,0,0,0,null,0,0,null,{"$f":"$D118*0.65","v":0},0,0,0,0,0,0,0,0,0,0,0,0,0,0,0,0,0,0,0,0,0,0,0,0,0,{"$f":"$I118*0.375","v":0},0,0,0,0,0,0,0,0,0,0,0,0,0,0,0,0,0]
[null,null,"Sloops",{"$f":"('Data Entry'!AP119/2)/(22/7)","v":0},0,0,0,{"$f":"('Data Entry'!AT119/2)/(22/7)","v":0},0,0,0,{"$f":"('Data Entry'!AX119/2)/(22/7)","v":0},0,0,0,0,0,0,0,0,0,0,null,0,0,0,0,0,0,0,0,0,{"$f":"$I119*0.33","v":0},0,0,0,0,0,null,0,0,null,{"$f":"$D119*0.65","v":0},0,0,0,0,0,0,0,0,0,0,0,0,0,0,0,0,0,0,0,0,0,0,0,0,0,{"$f":"$I119*0.375","v":0},0,0,0,0,0,0,0,0,0,0,0,0,0,0,0,0,0]
[null,1805,"1st and 2nd",{"$f":"('Data Entry'!AP120/2)/(22/7)","v":0},0,0,0,{"$f":"('Data Entry'!AT120/2)/(22/7)","v":0},0,0,0,{"$f":"('Data Entry'!AX120/2)/(22/7)","v":0},0,0,0,0,0,0,0,0,0,0,{"$f":"V112*0.8","v":0},0,0,0,0,0,0,0,0,0,0,0,0,0,{"$f":"$I120*0.25","v":0},{"$f":"$I120*0.33","v":0},null,0,0,null,{"$f":"$D120*0.45","v":0},{"$f":"$D120*0.25","v":0},{"$f":"$D120*0.165","v":0},0,{"$f":"$D120*0.33","v":0},{"$f":"$D120*0.2","v":0},0,{"$f":"$D120*0.2","v":0},{"$f":"$D120*0.16","v":0},0,0,0,0,{"$f":"E120*0.66","v":0},0,0,0,0,{"$f":"E120","v":0},0,{"$f":"BJ120*0.9","v":0},0,0,{"$f":"$I120*0.5","v":0},0,0,0,0,{"$f":"$M120*0.8","v":0},0,0,0,{"$f":"$M120*0.4","v":0},0,0,0,0,0,0,0,0,0,0,0]
[null,null,"3rd of 80 Guns",{"$f":"('Data Entry'!AP121/2)/(22/7)","v":0},0,0,0,{"$f":"('Data Entry'!AT121/2)/(22/7)","v":0},0,0,0,{"$f":"('Data Entry'!AX121/2)/(22/7)","v":0},0,0,0,0,0,0,0,0,0,0,{"$f":"V113*0.8","v":0},0,0,0,0,0,0,0,0,0,0,0,0,0,{"$f":"$I121*0.25","v":0},{"$f":"$I121*0.4","v":0},null,0,0,null,{"$f":"$D121*0.45","v":0},{"$f":"$D121*0.25","v":0},0,0,{"$f":"$D121*0.33","v":0},{"$f":"$D121*0.2","v":0},0,{"$f":"$D121*0.25","v":0},{"$f":"$D121*0.2","v":0},0,0,0,0,0,0,0,0,0,0,0,0,0,0,{"$f":"$I121*0.5","v":0},0,0,0,0,{"$f":"$M121*0.8","v":0},0,0,0,{"$f":"$M121*0.4","v":0},0,0,0,0,0,0,0,0,0,0,0]
[null,null,"3rd of 74 Guns",{"$f":"('Data Entry'!AP122/2)/(22/7)","v":0},{"$f":"D122/2","v":0},0,0,{"$f":"('Data Entry'!AT122/2)/(22/7)","v":0},{"$f":"H122/2","v":0},0,0,{"$f":"('Data Entry'!AX122/2)/(22/7)","v":0},{"$f":"L122/2","v":0},0,0,0,0,0,0,0,0,0,{"$f":"V114*0.8","v":0},0,0,0,0,0,0,0,0,0,0,0,0,0,{"$f":"$I122*0.25","v":0},0,null,0,0,null,{"$f":"$D122*0.45","v":0},{"$f":"$D122*0.25","v":0},{"$f":"$D122*0.2","v":0},0,{"$f":"$D122*0.33","v":0},{"$f":"$D122*0.2","v":0},0,0,0,0,0,0,0,0,0,0,{"$f":"E122*0.55","v":0},{"$f":"E122*0.36","v":0},0,0,0,0,0,{"$f":"$I122*0.5","v":0},{"$f":"$I122*0.66","v":0},{"$f":"$I122*0.33","v":0},0,0,{"$f":"$M122*0.8","v":0},0,0,0,{"$f":"$M122*0.4","v":0},0,0,0,0,0,0,0,0,0,0,0]
[null,null,"4th of 60 Guns",{"$f":"('Data Entry'!AP123/2)/(22/7)","v":0},0,0,0,{"$f":"('Data Entry'!AT123/2)/(22/7)","v":0},0,0,0,{"$f":"('Data Entry'!AX123/2)/(22/7)","v":0},0,0,0,0,0,0,0,0,0,0,{"$f":"V115*0.75","v":0},0,0,0,0,0,0,0,0,{"$f":"$I123*0.5","v":0},0,0,0,0,{"$f":"$I123*0.3","v":0},0,null,0,0,null,{"$f":"$D123*0.45","v":0},{"$f":"$D123*0.33","v":0},0,{"$f":"$D123*0.5","v":0},{"$f":"$D123*0.45","v":0},{"$f":"$D123*0.25","v":0},0,0,0,0,0,0,0,0,0,0,0,0,0,0,0,0,0,{"$f":"$I123*0.45","v":0},0,0,0,0,{"$f":"$M123","v":0},0,0,0,0,0,0,0,0,0,0,0,0,0,0,0]
[null,null,"4th of 50 Guns",{"$f":"('Data Entry'!AP124/2)/(22/7)","v":0},0,0,0,{"$f":"('Data Entry'!AT124/2)/(22/7)","v":0},0,0,0,{"$f":"('Data Entry'!AX124/2)/(22/7)","v":0},0,0,0,0,0,0,0,0,0,0,{"$f":"V116*0.75","v":0},0,0,0,0,0,0,0,0,0,0,0,0,0,0,0,null,0,0,null,{"$f":"$D124*0.45","v":0},0,0,0,0,0,0,0,0,0,0,0,0,0,0,0,0,0,0,0,0,0,0,0,0,0,0,0,0,0,0,0,0,0,0,0,0,0,0,0,0,0,0,0]
[null,null,"5th of 40 Guns",{"$f":"('Data Entry'!AP125/2)/(22/7)","v":0},0,0,0,{"$f":"('Data Entry'!AT125/2)/(22/7)","v":0},0,0,0,{"$f":"('Data Entry'!AX125/2)/(22/7)","v":0},0,0,0,0,0,0,0,0,0,0,{"$f":"V117*0.75","v":0},0,0,0,0,0,0,0,0,0,0,0,0,0,0,0,null,0,0,null,{"$f":"$D125*0.65","v":0},0,0,0,0,0,0,0,0,0,0,0,0,0,0,0,0,0,0,0,0,0,0,0,0,0,0,0,0,0,0,0,0,0,0,0,0,0,0,0,0,0,0,0]
[null,null,"5th - 30 Guns",{"$f":"('Data Entry'!AP126/2)/(22/7)","v":0},0,0,0,{"$f":"('Data Entry'!AT126/2)/(22/7)","v":0},0,0,0,{"$f":"('Data Entry'!AX126/2)/(22/7)","v":0},0,0,0,0,0,0,0,0,0,0,{"$f":"V118*0.75","v":0},0,0,0,0,0,0,0,0,0,0,0,0,0,0,0,null,0,0,null,{"$f":"$D126*0.65","v":0},0,0,0,0,0,0,0,0,0,0,0,0,0,0,0,0,0,0,0,0,0,0,0,0,0,0,0,0,0,0,0,0,0,0,0,0,0,0,0,0,0,0,0]
[null,null,"6th of 20 Guns",{"$f":"('Data Entry'!AP127/2)/(22/7)","v":0},0,0,0,{"$f":"('Data Entry'!AT127/2)/(22/7)","v":0},0,0,0,{"$f":"('Data Entry'!AX127/2)/(22/7)","v":0},0,0,0,0,0,0,0,0,0,0,{"$f":"V119*0.66","v":0},{"$f":"H127*0.5","v":0},0,0,0,0,0,0,{"$f":"$I127*0.33","v":0},0,0,0,0,0,0,0,null,0,0,null,{"$f":"$D127*0.65","v":0},0,0,0,0,0,0,0,0,0,0,0,0,0,0,0,0,0,0,0,0,0,0,0,0,0,{"$f":"$I127*0.375","v":0},0,0,0,0,0,0,0,0,0,0,0,0,0,0,0,0,0]
[null,null,"Sloops",{"$f":"('Data Entry'!AP128/2)/(22/7)","v":0},0,0,0,{"$f":"('Data Entry'!AT128/2)/(22/7)","v":0},0,0,0,{"$f":"('Data Entry'!AX128/2)/(22/7)","v":0},0,0,0,0,0,0,0,0,0,0,null,0,0,0,0,0,0,0,0,0,0,0,0,0,0,0,null,0,0,null,{"$f":"$D128*0.65","v":0},0,0,0,0,0,{"$f":"$D128*0.2","v":0},0,0,{"$f":"L128*0.66","v":0},0,0,0,{"$f":"E128*0.8","v":0},0,{"$f":"E128*0.45","v":0},0,0,{"$f":"E126*0.9","v":0},0,{"$f":"BJ128*0.85","v":0},0,{"$f":"$I128*0.45","v":0},0,0,0,{"$f":"$I128*0.375","v":0},0,0,0,0,0,0,{"$f":"$M128*0.66","v":0},0,0,0,0,0,0,0,0,0,0]
[null,1810,"1st and 2nd",{"$f":"('Data Entry'!AP129/2)/(22/7)","v":0},0,0,0,{"$f":"('Data Entry'!AT129/2)/(22/7)","v":0},0,0,0,{"$f":"('Data Entry'!AX129/2)/(22/7)","v":0},0,0,0,null,null,{"$f":"D129","v":0},{"$f":"H129","v":0},null,null,0,{"$f":"V121*0.8","v":0},0,0,0,0,{"$f":"$H129*0.33","v":0},0,0,0,0,0,0,0,0,{"$f":"$I129*0.25","v":0},{"$f":"$I129*0.33","v":0},null,0,0,null,{"$f":"$D129*0.45","v":0},{"$f":"$D129*0.25","v":0},{"$f":"$D129*0.165","v":0},0,{"$f":"$D129*0.33","v":0},{"$f":"$D129*0.2","v":0},0,{"$f":"$D129*0.2","v":0},{"$f":"$D129*0.16","v":0},0,0,0,0,{"$f":"E129*0.66","v":0},0,0,0,0,{"$f":"E129","v":0},0,{"$f":"BJ129*0.9","v":0},0,0,{"$f":"$I129*0.5","v":0},0,0,0,0,{"$f":"$M129*0.8","v":0},0,0,0,{"$f":"$M129*0.4","v":0},0,0,0,0,0,0,0,0,0,0,0]
[null,null,"3rd of 80 Guns",{"$f":"('Data Entry'!AP130/2)/(22/7)","v":0},0,0,0,{"$f":"('Data Entry'!AT130/2)/(22/7)","v":0},0,0,0,{"$f":"('Data Entry'!AX130/2)/(22/7)","v":0},0,0,0,null,null,0,0,null,null,0,{"$f":"V122*0.8","v":0},0,0,0,0,0,0,0,0,0,0,0,0,0,{"$f":"$I130*0.25","v":0},{"$f":"$I130*0.4","v":0},null,0,0,null,{"$f":"$D130*0.45","v":0},{"$f":"$D130*0.25","v":0},{"$f":"$D130*0.2","v":0},0,{"$f":"$D130*0.33","v":0},{"$f":"$D130*0.2","v":0},0,0,0,0,0,0,0,{"$f":"E130*0.8","v":0},0,0,0,0,{"$f":"E128*0.9","v":0},0,{"$f":"BJ130*0.85","v":0},0,0,{"$f":"$I130*0.5","v":0},0,0,0,0,{"$f":"$M130*0.8","v":0},0,0,0,{"$f":"$M130*0.4","v":0},0,0,0,0,0,0,0,0,0,0,0]
[null,null,"3rd of 74 Guns",{"$f":"('Data Entry'!AP131/2)/(22/7)","v":0},0,0,0,{"$f":"('Data Entry'!AT131/2)/(22/7)","v":0},0,0,0,{"$f":"('Data Entry'!AX131/2)/(22/7)","v":0},0,0,0,null,null,0,0,null,null,0,{"$f":"V123*0.8","v":0},0,0,0,0,0,0,0,0,0,0,0,0,0,{"$f":"$I131*0.25","v":0},0,null,0,0,null,{"$f":"$D131*0.45","v":0},{"$f":"$D131*0.25","v":0},0,0,{"$f":"$D131*0.33","v":0},{"$f":"$D131*0.2","v":0},0,0,0,0,0,0,0,0,0,0,0,0,0,0,0,0,0,{"$f":"$I131*0.5","v":0},0,0,0,0,{"$f":"$M131*0.8","v":0},0,0,0,{"$f":"$M131*0.4","v":0},0,0,0,0,0,0,0,0,0,0,0]
[null,null,"4th of 60 Guns",{"$f":"('Data Entry'!AP132/2)/(22/7)","v":0},0,0,0,{"$f":"('Data Entry'!AT132/2)/(22/7)","v":0},0,0,0,{"$f":"('Data Entry'!AX132/2)/(22/7)","v":0},0,0,0,null,null,0,0,null,null,0,{"$f":"V124*0.75","v":0},0,0,0,0,0,0,0,0,0,0,0,0,0,{"$f":"$I132*0.3","v":0},0,null,0,0,null,{"$f":"$D132*0.45","v":0},{"$f":"$D132*0.33","v":0},0,0,{"$f":"$D132*0.45","v":0},{"$f":"$D132*0.25","v":0},0,0,0,0,0,0,0,0,0,0,0,0,0,0,0,0,0,{"$f":"$I132*0.45","v":0},0,0,0,0,{"$f":"$M132","v":0},0,0,0,0,0,0,0,0,0,0,0,0,0,0,0]
[null,null,"4th of 50 Guns",{"$f":"('Data Entry'!AP133/2)/(22/7)","v":0},0,0,0,{"$f":"('Data Entry'!AT133/2)/(22/7)","v":0},0,0,0,{"$f":"('Data Entry'!AX133/2)/(22/7)","v":0},0,0,0,null,null,0,0,null,null,0,{"$f":"V125*0.75","v":0},0,0,0,0,0,0,0,0,0,0,0,0,0,0,0,null,0,0,null,{"$f":"$D133*0.45","v":0},0,0,0,0,0,0,0,0,0,0,0,0,0,0,0,0,0,0,0,0,0,0,0,0,0,0,0,0,0,0,0,0,0,0,0,0,0,0,0,0,0,0,0]
[null,null,"5th of 40 Guns",{"$f":"('Data Entry'!AP134/2)/(22/7)","v":0},0,0,0,{"$f":"('Data Entry'!AT134/2)/(22/7)","v":0},0,0,0,{"$f":"('Data Entry'!AX134/2)/(22/7)","v":0},0,0,0,null,null,0,0,null,null,0,{"$f":"V126*0.75","v":0},0,0,0,0,0,0,0,0,0,0,0,0,0,0,0,null,0,0,null,{"$f":"$D134*0.65","v":0},0,0,0,0,0,0,0,0,0,0,0,0,0,0,0,0,0,0,0,0,0,0,0,0,0,0,0,0,0,0,0,0,0,0,0,0,0,0,0,0,0,0,0]
[null,null,"5th - 30 Guns",{"$f":"('Data Entry'!AP135/2)/(22/7)","v":0},0,0,0,{"$f":"('Data Entry'!AT135/2)/(22/7)","v":0},0,0,0,{"$f":"('Data Entry'!AX135/2)/(22/7)","v":0},0,0,0,null,null,0,0,null,null,0,{"$f":"V127*0.75","v":0},0,0,0,0,0,0,0,0,0,0,0,0,0,0,0,null,0,0,null,{"$f":"$D135*0.65","v":0},0,0,0,0,0,0,0,0,0,0,0,0,0,0,0,0,0,0,0,0,0,0,0,0,0,0,0,0,0,0,0,0,0,0,0,0,0,0,0,0,0,0,0]
[null,null,"6th of 20 Guns",{"$f":"('Data Entry'!AP136/2)/(22/7)","v":0},0,0,0,{"$f":"('Data Entry'!AT136/2)/(22/7)","v":0},0,0,0,{"$f":"('Data Entry'!AX136/2)/(22/7)","v":0},0,0,0,null,null,0,0,null,null,0,{"$f":"V128*0.66","v":0},0,0,0,0,0,0,0,0,0,0,0,0,0,0,0,null,0,0,null,{"$f":"$D136*0.65","v":0},0,0,0,0,0,0,0,0,0,0,0,0,0,0,0,0,0,0,0,0,0,0,0,0,0,{"$f":"$I136*0.375","v":0},0,0,0,0,0,0,0,0,0,0,0,0,0,0,0,0,0]
[null,null,"Sloops",{"$f":"('Data Entry'!AP137/2)/(22/7)","v":0},0,0,0,{"$f":"('Data Entry'!AT137/2)/(22/7)","v":0},0,0,0,{"$f":"('Data Entry'!AX137/2)/(22/7)","v":0},0,0,0,null,null,0,0,null,null,0,null,0,0,0,0,0,0,0,0,0,0,0,0,0,0,0,null,0,0,null,{"$f":"$D137*0.65","v":0},0,0,0,0,0,0,0,0,0,0,0,0,0,0,0,0,0,0,0,0,0,0,0,0,0,{"$f":"$I137*0.375","v":0},0,0,0,0,0,0,0,0,0,0,0,0,0,0,0,0,0]
[null,1811,"1st and 2nd",{"$f":"('Data Entry'!AP138/2)/(22/7)","v":0},0,0,0,{"$f":"('Data Entry'!AT138/2)/(22/7)","v":0},0,0,0,{"$f":"('Data Entry'!AX138/2)/(22/7)","v":0},0,0,0,null,null,0,0,null,null,0,{"$f":"V130*0.8","v":0},0,0,0,0,0,0,0,0,0,0,0,0,0,{"$f":"$I138*0.25","v":0},{"$f":"$I138*0.33","v":0},null,0,0,null,{"$f":"$D138*0.45","v":0},{"$f":"$D138*0.25","v":0},{"$f":"$D138*0.165","v":0},0,{"$f":"$D138*0.33","v":0},{"$f":"$D138*0.2","v":0},0,{"$f":"$D138*0.2","v":0},{"$f":"$D138*0.16","v":0},0,0,0,0,{"$f":"E138*0.66","v":0},0,0,0,0,{"$f":"E138","v":0},0,{"$f":"BJ138*0.9","v":0},0,0,{"$f":"$I138*0.5","v":0},0,0,0,0,{"$f":"$M138*0.8","v":0},0,0,0,{"$f":"$M138*0.4","v":0},0,0,0,0,0,0,0,0,0,0,0]
[null,null,"3rd of 80 Guns",{"$f":"('Data Entry'!AP139/2)/(22/7)","v":0},0,0,0,{"$f":"('Data Entry'!AT139/2)/(22/7)","v":0},0,0,0,{"$f":"('Data Entry'!AX139/2)/(22/7)","v":0},0,0,0,null,null,0,0,null,null,0,{"$f":"V131*0.8","v":0},0,0,0,0,0,0,0,0,0,{"$f":"$I139*0.33","v":0},0,0,0,{"$f":"$I139*0.25","v":0},{"$f":"$I139*0.4","v":0},null,0,0,null,{"$f":"$D139*0.45","v":0},{"$f":"$D139*0.25","v":0},{"$f":"$D139*0.2","v":0},0,{"$f":"$D139*0.33","v":0},{"$f":"$D139*0.2","v":0},0,0,0,0,0,0,0,{"$f":"E139*0.8","v":0},0,0,0,0,{"$f":"E137*0.9","v":0},0,{"$f":"BJ139*0.85","v":0},0,0,{"$f":"$I139*0.5","v":0},0,0,0,0,{"$f":"$M139*0.8","v":0},0,0,0,{"$f":"$M139*0.4","v":0},0,0,0,0,0,0,0,0,0,0,0]
[null,null,"3rd of 74 Guns",{"$f":"('Data Entry'!AP140/2)/(22/7)","v":0},0,0,0,{"$f":"('Data Entry'!AT140/2)/(22/7)","v":0},0,0,0,{"$f":"('Data Entry'!AX140/2)/(22/7)","v":0},0,0,0,null,null,0,0,null,null,0,{"$f":"V132*0.8","v":0},0,0,0,0,0,0,0,0,0,0,0,0,0,{"$f":"$I140*0.25","v":0},0,null,0,0,null,{"$f":"$D140*0.45","v":0},{"$f":"$D140*0.25","v":0},0,0,{"$f":"$D140*0.33","v":0},{"$f":"$D140*0.2","v":0},0,0,0,0,0,0,0,0,0,0,0,0,0,0,0,0,0,{"$f":"$I140*0.5","v":0},0,0,0,0,{"$f":"$M140*0.8","v":0},0,0,0,{"$f":"$M140*0.4","v":0},0,0,0,0,0,0,0,0,0,0,0]
[null,null,"4th of 60 Guns",{"$f":"('Data Entry'!AP141/2)/(22/7)","v":0},0,0,0,{"$f":"('Data Entry'!AT141/2)/(22/7)","v":0},0,0,0,{"$f":"('Data Entry'!AX141/2)/(22/7)","v":0},0,0,0,null,null,0,0,null,null,0,{"$f":"V133*0.75","v":0},0,0,0,0,0,0,0,0,0,0,0,0,0,{"$f":"$I141*0.3","v":0},0,null,0,0,null,{"$f":"$D141*0.45","v":0},{"$f":"$D141*0.33","v":0},0,0,{"$f":"$D141*0.45","v":0},{"$f":"$D141*0.25","v":0},0,0,0,0,0,0,0,0,0,0,0,0,0,0,0,0,0,{"$f":"$I141*0.45","v":0},0,0,0,0,{"$f":"$M141","v":0},0,0,0,0,0,0,0,0,0,0,0,0,0,0,0]
[null,null,"4th of 50 Guns",{"$f":"('Data Entry'!AP142/2)/(22/7)","v":0},{"$f":"D142/2","v":0},0,0,{"$f":"('Data Entry'!AT142/2)/(22/7)","v":0},{"$f":"H142/2","v":0},0,0,{"$f":"('Data Entry'!AX142/2)/(22/7)","v":0},{"$f":"L142/2","v":0},0,0,null,null,0,0,null,null,0,{"$f":"V134*0.75","v":0},0,0,0,0,0,0,0,0,0,0,0,0,0,0,0,null,0,0,null,{"$f":"$D142*0.45","v":0},0,0,0,0,0,0,0,0,0,0,0,0,0,0,0,0,0,0,0,0,0,0,0,0,0,0,0,0,0,0,0,0,0,0,0,0,0,0,0,0,0,0,0]
[null,null,"5th of 40 Guns",{"$f":"('Data Entry'!AP143/2)/(22/7)","v":0},0,0,0,{"$f":"('Data Entry'!AT143/2)/(22/7)","v":0},0,0,0,{"$f":"('Data Entry'!AX143/2)/(22/7)","v":0},0,0,0,null,null,0,0,null,null,0,{"$f":"V135*0.75","v":0},0,0,0,0,0,0,0,0,0,0,0,0,0,0,0,null,0,{"$f":"$H143*0.5","v":0},null,{"$f":"$D143*0.65","v":0},0,0,0,0,0,0,0,0,0,0,0,0,0,0,0,0,0,0,0,0,0,0,0,0,0,0,0,0,0,0,0,0,0,0,0,0,{"$f":"$M143*0.5","v":0},0,0,0,0,0,0]
[null,null,"5th - 30 Guns",{"$f":"('Data Entry'!AP144/2)/(22/7)","v":0},0,0,0,{"$f":"('Data Entry'!AT144/2)/(22/7)","v":0},0,0,0,{"$f":"('Data Entry'!AX144/2)/(22/7)","v":0},0,0,0,null,null,0,0,null,null,0,{"$f":"V136*0.75","v":0},0,0,0,0,0,0,0,0,0,0,0,0,0,0,0,null,{"$f":"AQ144","v":0},0,null,{"$f":"$D144*0.65","v":0},0,0,0,0,0,0,0,0,0,0,{"$f":"$L144*0.4","v":0},{"$f":"$L144*0.33","v":0},0,0,0,0,0,0,0,0,0,0,0,0,0,0,{"$f":"$I144*0.45","v":0},0,{"$f":"$M144*0.66","v":0},{"$f":"$M144*0.5","v":0},0,0,0,{"$f":"$M144*0.5","v":0},0,0,0,0,0,{"$f":"$F144*0.55","v":0},{"$f":"$F144*0.66","v":0},0,0]
[null,null,"6th of 20 Guns",{"$f":"('Data Entry'!AP145/2)/(22/7)","v":0},0,0,0,{"$f":"('Data Entry'!AT145/2)/(22/7)","v":0},0,0,0,{"$f":"('Data Entry'!AX145/2)/(22/7)","v":0},0,0,0,null,null,0,0,null,null,0,{"$f":"V137*0.66","v":0},0,0,0,0,0,0,0,0,0,0,0,0,0,0,0,null,0,0,null,{"$f":"$D145*0.65","v":0},0,0,0,0,0,0,0,0,0,0,0,0,0,0,0,0,0,0,0,0,0,0,0,0,0,{"$f":"$I145*0.375","v":0},0,0,0,0,0,0,0,0,0,0,0,0,0,0,0,0,0]
[null,null,"Sloops",{"$f":"('Data Entry'!AP146/2)/(22/7)","v":0},0,0,0,{"$f":"('Data Entry'!AT146/2)/(22/7)","v":0},0,0,0,{"$f":"('Data Entry'!AX146/2)/(22/7)","v":0},0,0,0,null,null,0,0,null,null,0,null,0,0,0,0,0,0,0,0,0,0,0,0,0,0,0,null,0,0,null,{"$f":"$D146*0.65","v":0},0,0,0,0,0,0,0,0,0,0,0,0,0,0,0,0,0,0,0,0,0,0,0,0,0,{"$f":"$I146*0.375","v":0},0,0,0,0,0,0,0,0,0,0,0,0,0,0,0,0,0]
[null,1815,"1st",{"$f":"('Data Entry'!AP147/2)/(22/7)","v":0},0,0,0,{"$f":"('Data Entry'!AT147/2)/(22/7)","v":0},0,0,0,{"$f":"('Data Entry'!AX147/2)/(22/7)","v":0},0,0,0,null,null,0,0,null,null,0,{"$f":"V139*0.8","v":0},0,0,0,0,0,0,0,0,0,0,0,0,0,{"$f":"$I147*0.25","v":0},{"$f":"$I147*0.33","v":0},null,0,0,null,{"$f":"$D147*0.45","v":0},{"$f":"$D147*0.25","v":0},{"$f":"$D147*0.165","v":0},0,{"$f":"$D147*0.33","v":0},{"$f":"$D147*0.2","v":0},0,0,{"$f":"$D147*0.16","v":0},0,0,0,0,{"$f":"E147*0.66","v":0},0,0,0,0,{"$f":"E147","v":0},0,{"$f":"BJ147*0.9","v":0},0,0,{"$f":"$I147*0.5","v":0},0,0,0,0,{"$f":"$M147*0.8","v":0},0,0,0,{"$f":"$M147*0.4","v":0},0,0,0,0,0,0,0,0,0,0,0]
[null,null,"2nd",{"$f":"('Data Entry'!AP148/2)/(22/7)","v":0},0,0,0,{"$f":"('Data Entry'!AT148/2)/(22/7)","v":0},0,0,0,{"$f":"('Data Entry'!AX148/2)/(22/7)","v":0},0,0,0,null,null,{"$f":"D148","v":0},{"$f":"H148","v":0},null,null,{"$f":"H148*(0.6*0.66)","v":0},{"$f":"V140*0.8","v":0},{"$f":"H148*0.5","v":0},{"$f":"$H148*0.33","v":0},{"$f":"$H148*0.2","v":0},{"$f":"$H148*0.25","v":0},{"$f":"$H148*0.33","v":0},{"$f":"$H148*0.15","v":0},{"$f":"$H148*0.125","v":0},{"$f":"$I148*0.33","v":0},0,{"$f":"$I148*0.33","v":0},0,0,0,{"$f":"$I148*0.25","v":0},{"$f":"$I148*0.33","v":0},null,0,0,null,0,0,{"$f":"$D148*0.165","v":0},0,{"$f":"$D148*0.33","v":0},{"$f":"$D148*0.2","v":0},0,0,{"$f":"$D148*0.16","v":0},0,0,0,0,{"$f":"E148*0.66","v":0},0,0,0,0,{"$f":"E148","v":0},0,{"$f":"BJ148*0.9","v":0},0,0,{"$f":"$I148*0.5","v":0},0,0,0,0,{"$f":"$M148*0.8","v":0},0,0,0,{"$f":"$M148*0.4","v":0},0,0,0,0,0,0,0,0,0,0,0]
[null,null,"3rd",{"$f":"('Data Entry'!AP149/2)/(22/7)","v":0},0,0,0,{"$f":"('Data Entry'!AT149/2)/(22/7)","v":0},0,0,0,{"$f":"('Data Entry'!AX149/2)/(22/7)","v":0},0,0,0,null,null,0,0,null,null,0,0,0,0,0,0,0,0,0,0,0,0,0,0,0,0,0,null,0,0,null,0,0,{"$f":"$D149*0.2","v":0},0,{"$f":"$D149*0.33","v":0},{"$f":"$D149*0.2","v":0},0,0,0,0,0,0,0,{"$f":"E149*0.8","v":0},0,0,0,0,{"$f":"E147*0.9","v":0},0,{"$f":"BJ149*0.85","v":0},0,0,{"$f":"$I149*0.5","v":0},0,0,0,0,{"$f":"$M149*0.8","v":0},0,0,0,{"$f":"$M149*0.4","v":0},0,0,0,0,0,0,0,0,0,0,0]
[null,null,"4th",{"$f":"('Data Entry'!AP150/2)/(22/7)","v":0},0,0,0,{"$f":"('Data Entry'!AT150/2)/(22/7)","v":0},0,0,0,{"$f":"('Data Entry'!AX150/2)/(22/7)","v":0},0,0,0,null,null,0,0,null,null,0,0,0,0,0,0,0,0,0,0,0,0,0,0,0,0,0,null,0,0,null,0,{"$f":"$D150*0.33","v":0},{"$f":"$D150*0.2","v":0},0,{"$f":"$D150*0.45","v":0},{"$f":"$D150*0.25","v":0},0,0,0,0,0,0,0,{"$f":"E150*0.8","v":0},0,0,0,0,{"$f":"E148*0.9","v":0},0,{"$f":"BJ150*0.85","v":0},0,0,{"$f":"$I150*0.45","v":0},0,0,0,0,{"$f":"$M150","v":0},0,0,0,0,0,0,0,0,0,0,0,0,0,0,0]
[null,null,"5th",{"$f":"('Data Entry'!AP151/2)/(22/7)","v":0},0,0,0,{"$f":"('Data Entry'!AT151/2)/(22/7)","v":0},0,0,0,{"$f":"('Data Entry'!AX151/2)/(22/7)","v":0},0,0,0,null,null,0,0,null,null,0,0,0,0,0,0,0,0,0,0,0,0,0,0,0,0,0,null,0,0,null,{"$f":"$D151*0.65","v":0},{"$f":"$D151*0.33","v":0},{"$f":"$D151*0.2","v":0},0,{"$f":"$D151*0.45","v":0},{"$f":"$D151*0.25","v":0},0,0,0,0,0,0,0,{"$f":"E151*0.8","v":0},0,0,0,0,{"$f":"E149*0.9","v":0},0,{"$f":"BJ151*0.85","v":0},0,0,{"$f":"$I151*0.45","v":0},0,0,0,0,{"$f":"$M151","v":0},0,0,0,0,0,0,0,0,0,0,0,0,0,0,0]
[null,null,"6th",{"$f":"('Data Entry'!AP152/2)/(22/7)","v":0},0,0,0,{"$f":"('Data Entry'!AT152/2)/(22/7)","v":0},0,0,0,{"$f":"('Data Entry'!AX152/2)/(22/7)","v":0},0,0,0,null,null,0,0,null,null,0,0,0,0,0,0,0,0,0,0,0,0,0,0,0,0,0,null,0,0,null,{"$f":"$D152*0.65","v":0},{"$f":"$D152*0.33","v":0},{"$f":"$D152*0.2","v":0},0,{"$f":"$D152*0.45","v":0},{"$f":"$D152*0.25","v":0},0,0,0,0,0,0,0,{"$f":"E152*0.8","v":0},0,0,0,0,{"$f":"E150*0.9","v":0},0,{"$f":"BJ152*0.85","v":0},0,0,{"$f":"$I152*0.45","v":0},0,0,{"$f":"$I152*0.375","v":0},0,{"$f":"$M152","v":0},0,0,0,0,0,0,0,0,0,0,0,0,0,0,0]
[null,null,"Sloops",{"$f":"('Data Entry'!AP153/2)/(22/7)","v":0},0,0,0,{"$f":"('Data Entry'!AT153/2)/(22/7)","v":0},0,0,0,{"$f":"('Data Entry'!AX153/2)/(22/7)","v":0},0,0,0,null,null,0,0,null,null,0,0,0,0,0,0,0,0,0,0,0,0,0,0,0,0,0,null,0,0,null,{"$f":"$D153*0.65","v":0},{"$f":"$D153*0.33","v":0},{"$f":"$D153*0.2","v":0},0,{"$f":"$D153*0.45","v":0},{"$f":"$D153*0.25","v":0},0,0,0,0,0,0,0,{"$f":"E153*0.8","v":0},0,0,0,0,{"$f":"E151*0.9","v":0},0,{"$f":"BJ153*0.85","v":0},0,0,{"$f":"$I153*0.45","v":0},0,0,{"$f":"$I153*0.375","v":0},0,{"$f":"$M153","v":0},0,0,0,0,0,0,0,0,0,0,0,0,0,0,0]
[null,1830,"1st",{"$f":"('Data Entry'!AP154/2)/(22/7)","v":0},0,0,0,{"$f":"('Data Entry'!AT154/2)/(22/7)","v":0},0,0,0,{"$f":"('Data Entry'!AX154/2)/(22/7)","v":0},0,0,0,null,null,0,0,null,null,0,0,0,0,0,0,0,0,0,0,0,0,0,0,0,0,0,null,0,0,null,0,0,{"$f":"$D154*0.165","v":0},0,{"$f":"$D154*0.33","v":0},{"$f":"$D154*0.2","v":0},0,0,{"$f":"$D154*0.16","v":0},0,0,0,0,{"$f":"E154*0.66","v":0},0,0,0,0,{"$f":"E154","v":0},0,{"$f":"BJ154*0.9","v":0},0,0,{"$f":"$I154*0.5","v":0},0,0,0,0,{"$f":"$M154*0.8","v":0},0,0,0,{"$f":"$M154*0.4","v":0},0,0,0,0,0,0,0,0,0,0,0]
[null,null,"2nd",{"$f":"('Data Entry'!AP155/2)/(22/7)","v":0},0,0,0,{"$f":"('Data Entry'!AT155/2)/(22/7)","v":0},0,0,0,{"$f":"('Data Entry'!AX155/2)/(22/7)","v":0},0,0,0,null,null,0,0,null,null,0,0,0,0,0,0,0,0,0,0,0,0,0,0,0,0,0,null,0,0,null,0,0,{"$f":"$D155*0.165","v":0},0,{"$f":"$D155*0.33","v":0},{"$f":"$D155*0.2","v":0},0,0,{"$f":"$D155*0.16","v":0},0,0,0,0,{"$f":"E155*0.66","v":0},0,0,0,0,{"$f":"E155","v":0},0,{"$f":"BJ155*0.9","v":0},0,0,{"$f":"$I155*0.5","v":0},0,0,0,0,{"$f":"$M155*0.8","v":0},0,0,0,{"$f":"$M155*0.4","v":0},0,0,0,0,0,0,0,0,0,0,0]
[null,null,"3rd",{"$f":"('Data Entry'!AP156/2)/(22/7)","v":0},0,0,0,{"$f":"('Data Entry'!AT156/2)/(22/7)","v":0},0,0,0,{"$f":"('Data Entry'!AX156/2)/(22/7)","v":0},0,0,0,null,null,0,0,null,null,0,0,0,0,0,0,0,0,0,0,0,0,0,0,0,0,0,null,0,0,null,0,0,{"$f":"$D156*0.2","v":0},0,{"$f":"$D156*0.33","v":0},{"$f":"$D156*0.2","v":0},0,0,0,0,0,0,0,{"$f":"E156*0.8","v":0},0,0,0,0,{"$f":"E154*0.9","v":0},0,{"$f":"BJ156*0.85","v":0},0,0,{"$f":"$I156*0.5","v":0},0,0,0,0,{"$f":"$M156*0.8","v":0},0,0,0,{"$f":"$M156*0.4","v":0},0,0,0,0,0,0,0,0,0,0,0]
[null,null,"4th",{"$f":"('Data Entry'!AP157/2)/(22/7)","v":0},0,0,0,{"$f":"('Data Entry'!AT157/2)/(22/7)","v":0},0,0,0,{"$f":"('Data Entry'!AX157/2)/(22/7)","v":0},0,0,0,null,null,0,0,null,null,0,0,0,0,0,0,0,0,0,0,0,0,0,0,0,0,0,null,0,0,null,0,{"$f":"$D157*0.33","v":0},{"$f":"$D157*0.2","v":0},0,{"$f":"$D157*0.45","v":0},{"$f":"$D157*0.25","v":0},0,0,0,0,0,0,0,{"$f":"E157*0.8","v":0},0,0,0,0,{"$f":"E155*0.9","v":0},0,{"$f":"BJ157*0.85","v":0},0,0,{"$f":"$I157*0.45","v":0},0,0,0,0,{"$f":"$M157","v":0},0,0,0,0,0,0,0,0,0,0,0,0,0,0,0]
[null,null,"5th",{"$f":"('Data Entry'!AP158/2)/(22/7)","v":0},0,0,0,{"$f":"('Data Entry'!AT158/2)/(22/7)","v":0},0,0,0,{"$f":"('Data Entry'!AX158/2)/(22/7)","v":0},0,0,0,null,null,0,0,null,null,0,0,0,0,0,0,0,0,0,0,0,0,0,0,0,0,0,null,0,0,null,{"$f":"$D158*0.65","v":0},{"$f":"$D158*0.33","v":0},{"$f":"$D158*0.2","v":0},0,{"$f":"$D158*0.45","v":0},{"$f":"$D158*0.25","v":0},0,0,0,0,0,0,0,{"$f":"E158*0.8","v":0},0,0,0,0,{"$f":"E156*0.9","v":0},0,{"$f":"BJ158*0.85","v":0},0,0,{"$f":"$I158*0.45","v":0},0,0,0,0,{"$f":"$M158","v":0},0,0,0,0,0,0,0,0,0,0,0,0,0,0,0]
[null,null,"6th",{"$f":"('Data Entry'!AP159/2)/(22/7)","v":0},0,0,0,{"$f":"('Data Entry'!AT159/2)/(22/7)","v":0},0,0,0,{"$f":"('Data Entry'!AX159/2)/(22/7)","v":0},0,0,0,null,null,0,0,null,null,0,0,0,0,0,0,0,0,0,0,0,0,0,0,0,0,0,null,0,0,null,{"$f":"$D159*0.65","v":0},{"$f":"$D159*0.33","v":0},{"$f":"$D159*0.2","v":0},0,{"$f":"$D159*0.45","v":0},{"$f":"$D159*0.25","v":0},0,0,0,0,0,0,0,{"$f":"E159*0.8","v":0},0,0,0,0,{"$f":"E157*0.9","v":0},0,{"$f":"BJ159*0.85","v":0},0,0,{"$f":"$I159*0.45","v":0},0,0,{"$f":"$I159*0.375","v":0},0,{"$f":"$M159","v":0},0,0,0,0,0,0,0,0,0,0,0,0,0,0,0]
[null,null,"Sloops",{"$f":"('Data Entry'!AP160/2)/(22/7)","v":0},0,0,0,{"$f":"('Data Entry'!AT160/2)/(22/7)","v":0},0,0,0,{"$f":"('Data Entry'!AX160/2)/(22/7)","v":0},0,0,0,null,null,0,0,null,null,0,0,0,0,0,0,0,0,0,0,0,0,0,0,0,0,0,null,0,0,null,{"$f":"$D160*0.65","v":0},{"$f":"$D160*0.33","v":0},{"$f":"$D160*0.2","v":0},0,{"$f":"$D160*0.45","v":0},{"$f":"$D160*0.25","v":0},0,0,0,0,0,0,0,{"$f":"E160*0.8","v":0},0,0,0,0,{"$f":"E158*0.9","v":0},0,{"$f":"BJ160*0.85","v":0},0,0,{"$f":"$I160*0.45","v":0},0,0,{"$f":"$I160*0.375","v":0},0,{"$f":"$M160","v":0},0,0,0,0,0,0,0,0,0,0,0,0,0,0,0]
[null,1836,"1st",{"$f":"('Data Entry'!AP161/2)/(22/7)","v":0},{"$f":"D161/2","v":0},0,0,{"$f":"('Data Entry'!AT161/2)/(22/7)","v":0},{"$f":"H161/2","v":0},0,0,{"$f":"('Data Entry'!AX161/2)/(22/7)","v":0},{"$f":"L161/2","v":0},0,0,null,null,{"$f":"D161","v":0},{"$f":"H161","v":0},null,null,{"$f":"H161*(0.6*0.66)","v":0},{"$f":"V153*0.8","v":0},{"$f":"H161*0.5","v":0},0,0,0,0,0,0,0,0,0,0,0,0,0,0,null,{"$f":"AQ161","v":0},0,null,0,{"$f":"$D161*0.25","v":0},{"$f":"$D161*0.165","v":0},0,{"$f":"$D161*0.33","v":0},{"$f":"$D161*0.2","v":0},0,0,{"$f":"$D161*0.16","v":0},{"$f":"L161*0.66","v":0},0,0,0,{"$f":"E161*0.66","v":0},0,{"$f":"E161*0.45","v":0},{"$f":"E161*0.55","v":0},{"$f":"E161*0.36","v":0},{"$f":"E161","v":0},{"$f":"I161*0.66","v":0},{"$f":"BJ161*0.9","v":0},{"$f":"I161*0.66","v":0},0,{"$f":"$I161*0.5","v":0},0,0,0,0,{"$f":"$M161*0.8","v":0},0,0,0,{"$f":"$M161*0.4","v":0},0,0,0,0,0,0,0,0,0,0,0]
[null,null,"2nd",{"$f":"('Data Entry'!AP162/2)/(22/7)","v":0},0,0,0,{"$f":"('Data Entry'!AT162/2)/(22/7)","v":0},0,0,0,{"$f":"('Data Entry'!AX162/2)/(22/7)","v":0},0,0,0,null,null,0,0,null,null,0,0,0,0,0,0,0,0,0,0,0,0,0,0,0,0,0,null,0,0,null,0,{"$f":"$D162*0.25","v":0},{"$f":"$D162*0.165","v":0},0,{"$f":"$D162*0.33","v":0},{"$f":"$D162*0.2","v":0},0,0,{"$f":"$D162*0.16","v":0},0,0,0,0,{"$f":"E162*0.66","v":0},0,0,0,0,{"$f":"E162","v":0},0,{"$f":"BJ162*0.9","v":0},0,0,{"$f":"$I162*0.5","v":0},0,0,0,0,{"$f":"$M162*0.8","v":0},0,0,0,{"$f":"$M162*0.4","v":0},0,0,0,0,0,0,0,0,0,0,0]
[null,null,"3rd",{"$f":"('Data Entry'!AP163/2)/(22/7)","v":0},0,0,0,{"$f":"('Data Entry'!AT163/2)/(22/7)","v":0},0,0,0,{"$f":"('Data Entry'!AX163/2)/(22/7)","v":0},0,0,0,null,null,0,0,null,null,0,0,0,0,0,0,0,0,0,0,0,0,0,0,0,0,0,null,0,0,null,0,{"$f":"$D163*0.25","v":0},{"$f":"$D163*0.2","v":0},0,{"$f":"$D163*0.33","v":0},{"$f":"$D163*0.2","v":0},0,0,0,0,0,0,0,{"$f":"E163*0.8","v":0},0,0,0,0,{"$f":"E161*0.9","v":0},0,{"$f":"BJ163*0.85","v":0},0,0,{"$f":"$I163*0.5","v":0},0,0,0,0,{"$f":"$M163*0.8","v":0},0,0,0,{"$f":"$M163*0.4","v":0},0,0,0,0,0,0,0,0,0,0,0]
[null,null,"4th",{"$f":"('Data Entry'!AP164/2)/(22/7)","v":0},0,0,0,{"$f":"('Data Entry'!AT164/2)/(22/7)","v":0},0,0,0,{"$f":"('Data Entry'!AX164/2)/(22/7)","v":0},0,0,0,null,null,0,0,null,null,0,0,0,0,0,0,0,0,0,0,0,0,0,0,0,0,0,null,0,0,null,0,{"$f":"$D164*0.33","v":0},{"$f":"$D164*0.2","v":0},0,{"$f":"$D164*0.45","v":0},{"$f":"$D164*0.25","v":0},0,0,0,0,0,0,0,{"$f":"E164*0.8","v":0},0,0,0,0,{"$f":"E162*0.9","v":0},0,{"$f":"BJ164*0.85","v":0},0,0,{"$f":"$I164*0.45","v":0},0,0,0,0,{"$f":"$M164","v":0},0,0,0,0,0,0,0,0,0,0,0,0,0,0,0]
[null,null,"5th",{"$f":"('Data Entry'!AP165/2)/(22/7)","v":0},0,0,0,{"$f":"('Data Entry'!AT165/2)/(22/7)","v":0},0,0,0,{"$f":"('Data Entry'!AX165/2)/(22/7)","v":0},0,0,0,null,null,0,0,null,null,0,0,0,0,0,0,0,0,0,0,0,0,0,0,0,0,0,null,0,0,null,{"$f":"$D165*0.65","v":0},{"$f":"$D165*0.33","v":0},{"$f":"$D165*0.2","v":0},0,{"$f":"$D165*0.45","v":0},{"$f":"$D165*0.25","v":0},0,0,0,0,0,0,0,{"$f":"E165*0.8","v":0},0,0,0,0,{"$f":"E163*0.9","v":0},0,{"$f":"BJ165*0.85","v":0},0,0,{"$f":"$I165*0.45","v":0},0,0,0,0,{"$f":"$M165","v":0},0,0,0,0,0,0,0,0,0,0,0,0,0,0,0]
[null,null,"6th",{"$f":"('Data Entry'!AP166/2)/(22/7)","v":0},0,0,0,{"$f":"('Data Entry'!AT166/2)/(22/7)","v":0},0,0,0,{"$f":"('Data Entry'!AX166/2)/(22/7)","v":0},0,0,0,null,null,0,0,null,null,0,0,0,0,0,0,0,0,0,0,0,0,0,0,0,0,0,null,0,0,null,{"$f":"$D166*0.65","v":0},{"$f":"$D166*0.33","v":0},{"$f":"$D166*0.2","v":0},0,{"$f":"$D166*0.45","v":0},{"$f":"$D166*0.25","v":0},0,0,0,0,0,0,0,{"$f":"E166*0.8","v":0},0,0,0,0,{"$f":"E164*0.9","v":0},0,{"$f":"BJ166*0.85","v":0},0,0,{"$f":"$I166*0.45","v":0},0,0,{"$f":"$I166*0.375","v":0},0,{"$f":"$M166","v":0},0,0,0,0,0,0,0,0,0,0,0,0,0,0,0]
[null,null,"Sloops",{"$f":"('Data Entry'!AP167/2)/(22/7)","v":0},0,0,0,{"$f":"('Data Entry'!AT167/2)/(22/7)","v":0},0,0,0,{"$f":"('Data Entry'!AX167/2)/(22/7)","v":0},0,0,0,null,null,0,0,null,null,0,0,0,0,0,0,0,0,0,0,0,0,0,0,0,0,0,null,0,0,null,{"$f":"$D167*0.65","v":0},{"$f":"$D167*0.33","v":0},{"$f":"$D167*0.2","v":0},0,{"$f":"$D167*0.45","v":0},{"$f":"$D167*0.25","v":0},0,0,0,0,0,0,0,{"$f":"E167*0.8","v":0},0,0,0,0,{"$f":"E165*0.9","v":0},0,{"$f":"BJ167*0.85","v":0},0,0,{"$f":"$I167*0.45","v":0},0,0,{"$f":"$I167*0.375","v":0},0,{"$f":"$M167","v":0},0,0,0,0,0,0,0,0,0,0,0,0,0,0,0]
[null,1850,"1st",{"$f":"('Data Entry'!AP168/2)/(22/7)","v":0},0,0,0,{"$f":"('Data Entry'!AT168/2)/(22/7)","v":0},0,0,0,{"$f":"('Data Entry'!AX168/2)/(22/7)","v":0},0,0,0,null,null,{"$f":"D168","v":0},{"$f":"H168","v":0},null,null,{"$f":"H168*(0.6*0.66)","v":0},{"$f":"V160*0.8","v":0},{"$f":"H168*0.5","v":0},0,0,0,0,0,0,0,0,0,0,0,0,0,0,null,{"$f":"AQ168","v":0},0,null,0,{"$f":"$D168*0.25","v":0},{"$f":"$D168*0.165","v":0},0,{"$f":"$D168*0.33","v":0},{"$f":"$D168*0.2","v":0},0,0,{"$f":"$D168*0.16","v":0},{"$f":"L168*0.66","v":0},0,0,0,{"$f":"E168*0.66","v":0},0,{"$f":"E168*0.45","v":0},{"$f":"E168*0.55","v":0},{"$f":"E168*0.36","v":0},{"$f":"E168","v":0},{"$f":"I168*0.66","v":0},{"$f":"BJ168*0.9","v":0},{"$f":"I168*0.66","v":0},0,{"$f":"$I168*0.5","v":0},0,0,0,0,{"$f":"$M168*0.8","v":0},0,0,0,{"$f":"$M168*0.4","v":0},0,0,0,0,0,0,0,0,0,0,0]
[null,null,"2nd",{"$f":"('Data Entry'!AP169/2)/(22/7)","v":0},{"$f":"D169/2","v":0},0,0,{"$f":"('Data Entry'!AT169/2)/(22/7)","v":0},{"$f":"H169/2","v":0},0,0,{"$f":"('Data Entry'!AX169/2)/(22/7)","v":0},{"$f":"L169/2","v":0},0,0,null,null,0,0,null,null,0,{"$f":"V154*0.8","v":0},0,0,0,0,0,0,0,0,0,0,0,0,0,0,0,null,0,0,null,0,{"$f":"$D169*0.25","v":0},{"$f":"$D169*0.165","v":0},0,{"$f":"$D169*0.33","v":0},{"$f":"$D169*0.2","v":0},0,0,{"$f":"$D169*0.16","v":0},0,0,0,0,{"$f":"E169*0.66","v":0},0,0,0,0,{"$f":"E169","v":0},0,{"$f":"BJ169*0.9","v":0},0,0,{"$f":"$I169*0.125","v":0},0,0,0,0,{"$f":"$M169*0.8","v":0},0,0,0,{"$f":"$M169*0.4","v":0},0,0,0,0,0,0,0,0,0,0,0]
[null,null,"3rd",{"$f":"('Data Entry'!AP170/2)/(22/7)","v":0},0,0,0,{"$f":"('Data Entry'!AT170/2)/(22/7)","v":0},0,0,0,{"$f":"('Data Entry'!AX170/2)/(22/7)","v":0},0,0,0,null,null,0,0,null,null,0,0,0,0,0,0,0,0,0,0,0,0,0,0,0,0,0,null,0,0,null,0,{"$f":"$D170*0.25","v":0},{"$f":"$D170*0.2","v":0},0,{"$f":"$D170*0.33","v":0},{"$f":"$D170*0.2","v":0},0,0,0,0,0,0,0,{"$f":"E170*0.8","v":0},0,0,0,0,{"$f":"E167*0.9","v":0},0,{"$f":"BJ170*0.85","v":0},0,0,{"$f":"$I170*0.125","v":0},0,0,0,0,{"$f":"$M170*0.8","v":0},0,0,0,{"$f":"$M170*0.4","v":0},0,0,0,0,0,0,0,0,0,0,0]
[null,null,"4th",{"$f":"('Data Entry'!AP171/2)/(22/7)","v":0},0,0,0,{"$f":"('Data Entry'!AT171/2)/(22/7)","v":0},0,0,0,{"$f":"('Data Entry'!AX171/2)/(22/7)","v":0},0,0,0,null,null,0,0,null,null,0,0,0,0,0,0,0,0,0,0,0,0,0,0,0,0,0,null,0,0,null,0,{"$f":"$D171*0.33","v":0},{"$f":"$D171*0.2","v":0},0,{"$f":"$D171*0.45","v":0},{"$f":"$D171*0.25","v":0},0,0,0,0,0,0,0,{"$f":"E171*0.8","v":0},0,0,0,0,{"$f":"E169*0.9","v":0},0,{"$f":"BJ171*0.85","v":0},0,0,{"$f":"$I171*0.165","v":0},0,0,0,0,{"$f":"$M171","v":0},0,0,0,0,0,0,0,0,0,0,0,0,0,0,0]
[null,null,"5th",{"$f":"('Data Entry'!AP172/2)/(22/7)","v":0},0,0,0,{"$f":"('Data Entry'!AT172/2)/(22/7)","v":0},0,0,0,{"$f":"('Data Entry'!AX172/2)/(22/7)","v":0},0,0,0,null,null,0,0,null,null,0,0,0,0,0,0,0,0,0,0,0,0,0,0,0,0,0,null,0,0,null,{"$f":"$D172*0.65","v":0},{"$f":"$D172*0.33","v":0},{"$f":"$D172*0.2","v":0},0,{"$f":"$D172*0.45","v":0},{"$f":"$D172*0.25","v":0},0,0,0,0,0,0,0,{"$f":"E172*0.8","v":0},0,0,0,0,{"$f":"E170*0.9","v":0},0,{"$f":"BJ172*0.85","v":0},0,0,{"$f":"$I172*0.165","v":0},0,0,0,0,{"$f":"$M172","v":0},0,0,0,0,0,0,0,0,0,0,0,0,0,0,0]
[null,null,"6th",{"$f":"('Data Entry'!AP173/2)/(22/7)","v":0},0,0,0,{"$f":"('Data Entry'!AT173/2)/(22/7)","v":0},0,0,0,{"$f":"('Data Entry'!AX173/2)/(22/7)","v":0},0,0,0,null,null,0,0,null,null,0,0,0,0,0,0,0,0,0,0,0,0,0,0,0,0,0,null,0,0,null,{"$f":"$D173*0.65","v":0},{"$f":"$D173*0.33","v":0},{"$f":"$D173*0.2","v":0},0,{"$f":"$D173*0.45","v":0},{"$f":"$D173*0.25","v":0},0,0,0,0,0,0,0,{"$f":"E173*0.8","v":0},0,0,0,0,{"$f":"E171*0.9","v":0},0,{"$f":"BJ173*0.85","v":0},0,0,{"$f":"$I173*0.165","v":0},0,0,{"$f":"$I173*0.375","v":0},0,{"$f":"$M173","v":0},0,0,0,0,0,0,0,0,0,0,0,0,0,0,0]
[null,null,"Sloops",{"$f":"('Data Entry'!AP174/2)/(22/7)","v":0},0,0,0,{"$f":"('Data Entry'!AT174/2)/(22/7)","v":0},0,0,0,{"$f":"('Data Entry'!AX174/2)/(22/7)","v":0},0,0,0,null,null,0,0,null,null,0,0,0,0,0,0,0,0,0,0,0,0,0,0,0,0,0,null,0,0,null,{"$f":"$D174*0.65","v":0},{"$f":"$D174*0.33","v":0},{"$f":"$D174*0.2","v":0},0,{"$f":"$D174*0.45","v":0},{"$f":"$D174*0.25","v":0},0,0,0,0,0,0,0,{"$f":"E174*0.8","v":0},0,0,0,0,{"$f":"E172*0.9","v":0},0,{"$f":"BJ174*0.85","v":0},0,0,{"$f":"$I174*0.165","v":0},0,0,{"$f":"$I174*0.375","v":0},0,{"$f":"$M174","v":0},0,0,0,0,0,0,0,0,0,0,0,0,0,0,0]

{"sheet":"View","index":3,"n_rows":17,"n_cols":12,"rows_kept":17,"cut":false,"hidden":false,"merged":[[3,11,3,14]]}
[]
[]
[]
[null,null,null,null,null,null,null,null,null,null,null,"View Precision (All)"]
[null,null,"Masts and Tops"]
[]
[]
[]
[]
[]
[null,null,"Yards"]
[]
[]
[]
[null,null,"Standing Rigging"]
[]
[null,null,"Running Rigging"]

{"sheet":"Masts","index":4,"n_rows":203,"n_cols":12,"rows_kept":203,"cut":false,"hidden":false,"merged":[[176,5,176,11],[176,3,176,4],[6,3,6,4],[62,3,62,4],[119,3,119,4],[119,5,119,11],[62,5,62,11],[6,5,6,11]]}
[]
[]
[]
[]
[]
[]
[null,null,"Metric Entry","Original Dimensions (Metres)",null,"Scaled Dimensions (millimetres)"]
[null,null,"Mast","Length","Diameter","Length","Diameter","Taper at Head","Head Length","Hounds Length","Bibs Length","Bibs Width"]
[null,null,"Mainmast",{"$f":"'Data Entry'!$Z$7","v":0},{"$f":"'Data Entry'!$AP$7","v":0},{"$f":"'Data Entry'!$Z$4","v":{"$error":"#DIV/0!"}},{"$f":"'Data Entry'!$AP$4","v":{"$error":"#DIV/0!"}},{"$f":"'Data Entry'!$DH$4","v":{"$error":"#DIV/0!"}},{"$f":"'Data Entry'!$DL$4","v":{"$error":"#DIV/0!"}},{"$f":"I9*(2/3)","v":{"$error":"#DIV/0!"}},{"$f":"J9*(4/5)","v":{"$error":"#DIV/0!"}},{"$f":"K9*(2/5)","v":{"$error":"#DIV/0!"}}]
[null,null,"Main Topmast",{"$f":"'Data Entry'!$AA$7","v":0},{"$f":"'Data Entry'!$AQ$7","v":0},{"$f":"'Data Entry'!$AA$4","v":{"$error":"#DIV/0!"}},{"$f":"'Data Entry'!$AQ$4","v":{"$error":"#DIV/0!"}},{"$f":"G10*(7/10)","v":{"$error":"#DIV/0!"}},{"$f":"'Data Entry'!$DM$4","v":{"$error":"#DIV/0!"}},{"$f":"'Data Entry'!$DU$4","v":{"$error":"#DIV/0!"}}]
[null,null,"Main Topgallant Mast",{"$f":"'Data Entry'!$AB$7","v":0},{"$f":"'Data Entry'!$AR$7","v":0},{"$f":"'Data Entry'!$AB$4","v":{"$error":"#DIV/0!"}},{"$f":"'Data Entry'!$AR$4","v":{"$error":"#DIV/0!"}},{"$f":"G11*(10/13)","v":{"$error":"#DIV/0!"}},{"$f":"'Data Entry'!$DN$4","v":{"$error":"#DIV/0!"}},{"$f":"'Data Entry'!$DV$4","v":{"$error":"#DIV/0!"}}]
[null,null,"Main Royal Mast",{"$f":"'Data Entry'!$AC$7","v":0},{"$f":"'Data Entry'!$AS$7","v":0},{"$f":"'Data Entry'!$AC$4","v":{"$error":"#DIV/0!"}},{"$f":"'Data Entry'!$AS$4","v":{"$error":"#DIV/0!"}},{"$f":"G11*(1/2)","v":{"$error":"#DIV/0!"}}]
[]
[null,null,"Foremast",{"$f":"'Data Entry'!$AD$7","v":0},{"$f":"'Data Entry'!$AT$7","v":0},{"$f":"'Data Entry'!$AD$4","v":{"$error":"#DIV/0!"}},{"$f":"'Data Entry'!$AT$4","v":{"$error":"#DIV/0!"}},{"$f":"'Data Entry'!$DI$4","v":{"$error":"#DIV/0!"}},{"$f":"'Data Entry'!$DO$4","v":{"$error":"#DIV/0!"}},{"$f":"I14*(2/3)","v":{"$error":"#DIV/0!"}},{"$f":"J14*(4/5)","v":{"$error":"#DIV/0!"}},{"$f":"K14*(2/5)","v":{"$error":"#DIV/0!"}}]
[null,null,"Fore Topmast",{"$f":"'Data Entry'!$AE$7","v":0},{"$f":"'Data Entry'!$AU$7","v":0},{"$f":"'Data Entry'!$AE$4","v":{"$error":"#DIV/0!"}},{"$f":"'Data Entry'!$AU$4","v":{"$error":"#DIV/0!"}},{"$f":"G15*(7/10)","v":{"$error":"#DIV/0!"}},{"$f":"'Data Entry'!$DP$4","v":{"$error":"#DIV/0!"}},{"$f":"'Data Entry'!$DW$4","v":{"$error":"#DIV/0!"}}]
[null,null,"Fore Topgallant Mast",{"$f":"'Data Entry'!$AF$7","v":0},{"$f":"'Data Entry'!$AV$7","v":0},{"$f":"'Data Entry'!$AF$4","v":{"$error":"#DIV/0!"}},{"$f":"'Data Entry'!$AV$4","v":{"$error":"#DIV/0!"}},{"$f":"G16*(10/13)","v":{"$error":"#DIV/0!"}},{"$f":"'Data Entry'!$DQ$4","v":{"$error":"#DIV/0!"}},{"$f":"'Data Entry'!$DX$4","v":{"$error":"#DIV/0!"}}]
[null,null,"Fore Royal Mast",{"$f":"'Data Entry'!$AG$7","v":0},{"$f":"'Data Entry'!$AW$7","v":0},{"$f":"'Data Entry'!$AG$4","v":{"$error":"#DIV/0!"}},{"$f":"'Data Entry'!$AW$4","v":{"$error":"#DIV/0!"}},{"$f":"G16*(1/2)","v":{"$error":"#DIV/0!"}}]
[]
[null,null,"Mizzenmast",{"$f":"'Data Entry'!$AH$7","v":0},{"$f":"'Data Entry'!$AX$7","v":0},{"$f":"'Data Entry'!$AH$4","v":{"$error":"#DIV/0!"}},{"$f":"'Data Entry'!$AX$4","v":{"$error":"#DIV/0!"}},{"$f":"'Data Entry'!$DJ$4","v":{"$error":"#DIV/0!"}},{"$f":"'Data Entry'!$DR$4","v":{"$error":"#DIV/0!"}},{"$f":"'Data Entry'!$DY$4","v":{"$error":"#DIV/0!"}},{"$f":"J19*(4/5)","v":{"$error":"#DIV/0!"}},{"$f":"K19*(2/5)","v":{"$error":"#DIV/0!"}}]
[null,null,"Mizzen Topmast",{"$f":"'Data Entry'!$AI$7","v":0},{"$f":"'Data Entry'!$AY$7","v":0},{"$f":"'Data Entry'!$AI$4","v":{"$error":"#DIV/0!"}},{"$f":"'Data Entry'!$AY$4","v":{"$error":"#DIV/0!"}},{"$f":"G20*(7/10)","v":{"$error":"#DIV/0!"}},{"$f":"'Data Entry'!$DS$4","v":{"$error":"#DIV/0!"}},{"$f":"'Data Entry'!$DZ$4","v":{"$error":"#DIV/0!"}}]
[null,null,"Mizzen Topgallant Mast",{"$f":"'Data Entry'!$AJ$7","v":0},{"$f":"'Data Entry'!$AZ$7","v":0},{"$f":"'Data Entry'!$AJ$4","v":{"$error":"#DIV/0!"}},{"$f":"'Data Entry'!$AZ$4","v":{"$error":"#DIV/0!"}},{"$f":"G21*(10/13)","v":{"$error":"#DIV/0!"}},{"$f":"'Data Entry'!$DT$4","v":{"$error":"#DIV/0!"}},{"$f":"'Data Entry'!$EA$4","v":{"$error":"#DIV/0!"}}]
[null,null,"Mizzen Royal Mast",{"$f":"'Data Entry'!$AK$7","v":0},{"$f":"'Data Entry'!$BA$7","v":0},{"$f":"'Data Entry'!$AK$4","v":{"$error":"#DIV/0!"}},{"$f":"'Data Entry'!$BA$4","v":{"$error":"#DIV/0!"}},{"$f":"G21*(1/2)","v":{"$error":"#DIV/0!"}}]
[]
[null,null,"Bowsprit",{"$f":"'Data Entry'!$AL$7","v":0},{"$f":"'Data Entry'!$BB$7","v":0},{"$f":"'Data Entry'!$AL$4","v":{"$error":"#DIV/0!"}},{"$f":"'Data Entry'!$BB$4","v":{"$error":"#DIV/0!"}},{"$f":"'Data Entry'!$DK$4","v":{"$error":"#DIV/0!"}}]
[null,null,"Jib Boom",{"$f":"'Data Entry'!$AN$7","v":0},{"$f":"'Data Entry'!$BD$7","v":0},{"$f":"'Data Entry'!$AN$4","v":{"$error":"#DIV/0!"}},{"$f":"'Data Entry'!$BD$4","v":{"$error":"#DIV/0!"}},{"$f":"G25*(2/3)","v":{"$error":"#DIV/0!"}}]
[null,null,"Flying Jib Boom",{"$f":"'Data Entry'!$AO$7","v":0},{"$f":"'Data Entry'!$BE$7","v":0},{"$f":"'Data Entry'!$AO$4","v":{"$error":"#DIV/0!"}},{"$f":"'Data Entry'!$BE$4","v":{"$error":"#DIV/0!"}},{"$f":"G26*(2/3)","v":{"$error":"#DIV/0!"}}]
[null,null,"Sprit Topmast",{"$f":"'Data Entry'!$AM$7","v":0},{"$f":"'Data Entry'!$BC$7","v":0},{"$f":"'Data Entry'!$AM$4","v":{"$error":"#DIV/0!"}},{"$f":"'Data Entry'!$BC$4","v":{"$error":"#DIV/0!"}},{"$f":"G27*(3/4)","v":{"$error":"#DIV/0!"}}]
[]
[null,null,"Mast Tops","Orig. Length","Orig. Width","Length","Width","Hole Length","Hole Width"]
[null,null,"Main",{"$f":"'Data Entry'!$GM$7","v":0},{"$f":"'Data Entry'!$GI$7","v":0},{"$f":"'Data Entry'!$GM$4","v":{"$error":"#DIV/0!"}},{"$f":"'Data Entry'!$GI$4","v":{"$error":"#DIV/0!"}},{"$f":"'Data Entry'!$GQ$4","v":{"$error":"#DIV/0!"}},{"$f":"'Data Entry'!$GU$4","v":{"$error":"#DIV/0!"}}]
[null,null,"Fore",{"$f":"'Data Entry'!$GN$7","v":0},{"$f":"'Data Entry'!$GJ$7","v":0},{"$f":"'Data Entry'!$GN$4","v":{"$error":"#DIV/0!"}},{"$f":"'Data Entry'!$GJ$4","v":{"$error":"#DIV/0!"}},{"$f":"'Data Entry'!$GR$4","v":{"$error":"#DIV/0!"}},{"$f":"'Data Entry'!$GV$4","v":{"$error":"#DIV/0!"}}]
[null,null,"Mizzen",{"$f":"'Data Entry'!$GO$7","v":0},{"$f":"'Data Entry'!$GK$7","v":0},{"$f":"'Data Entry'!$GO$4","v":{"$error":"#DIV/0!"}},{"$f":"'Data Entry'!$GK$4","v":{"$error":"#DIV/0!"}},{"$f":"'Data Entry'!$GS$4","v":{"$error":"#DIV/0!"}},{"$f":"'Data Entry'!$GW$4","v":{"$error":"#DIV/0!"}}]
[null,null,"Sprit",{"$f":"'Data Entry'!$GP$7","v":0},{"$f":"'Data Entry'!$GL$7","v":0},{"$f":"'Data Entry'!$GP$4","v":{"$error":"#DIV/0!"}},{"$f":"'Data Entry'!$GL$4","v":{"$error":"#DIV/0!"}},{"$f":"'Data Entry'!$GT$4","v":{"$error":"#DIV/0!"}},{"$f":"'Data Entry'!$GX$4","v":{"$error":"#DIV/0!"}}]
[]
[]
[]
[]
[]
[]
[]
[]
[]
[]
[]
[]
[]
[]
[]
[]
[]
[]
[]
[]
[]
[]
[]
[]
[]
[]
[]
[]
[]
[null,null,"Inch Entry","Original Dimensions (Feet)",null,"Scaled Dimensions (inches)"]
[null,null,"Mast","Length","Diameter","Length","Diameter","Taper at Head","Head Length","Hounds Length","Bibs Length","Bibs Width"]
[null,null,"Mainmast",{"$f":"'Data Entry'!$Z$5","v":0},{"$f":"'Data Entry'!$AP$5","v":0},{"$f":"'Data Entry'!$Z$3","v":{"$error":"#DIV/0!"}},{"$f":"'Data Entry'!$AP$3","v":{"$error":"#DIV/0!"}},{"$f":"'Data Entry'!$DH$3","v":{"$error":"#DIV/0!"}},{"$f":"'Data Entry'!$DL$3","v":{"$error":"#DIV/0!"}},{"$f":"I65*(2/3)","v":{"$error":"#DIV/0!"}},{"$f":"J65*(4/5)","v":{"$error":"#DIV/0!"}},{"$f":"K65*(2/5)","v":{"$error":"#DIV/0!"}}]
[null,null,"Main Topmast",{"$f":"'Data Entry'!$AA$5","v":0},{"$f":"'Data Entry'!$AQ$5","v":0},{"$f":"'Data Entry'!$AA$3","v":{"$error":"#DIV/0!"}},{"$f":"'Data Entry'!$AQ$3","v":{"$error":"#DIV/0!"}},{"$f":"G66*(7/10)","v":{"$error":"#DIV/0!"}},{"$f":"'Data Entry'!$DM$3","v":{"$error":"#DIV/0!"}},{"$f":"'Data Entry'!$DU$3","v":{"$error":"#DIV/0!"}}]
[null,null,"Main Topgallant Mast",{"$f":"'Data Entry'!$AB$5","v":0},{"$f":"'Data Entry'!$AR$5","v":0},{"$f":"'Data Entry'!$AB$3","v":{"$error":"#DIV/0!"}},{"$f":"'Data Entry'!$AR$3","v":{"$error":"#DIV/0!"}},{"$f":"G67*(10/13)","v":{"$error":"#DIV/0!"}},{"$f":"'Data Entry'!$DN$3","v":{"$error":"#DIV/0!"}},{"$f":"'Data Entry'!$DV$3","v":{"$error":"#DIV/0!"}}]
[null,null,"Main Royal Mast",{"$f":"'Data Entry'!$AC$5","v":0},{"$f":"'Data Entry'!$AS$5","v":0},{"$f":"'Data Entry'!$AC$3","v":{"$error":"#DIV/0!"}},{"$f":"'Data Entry'!$AS$3","v":{"$error":"#DIV/0!"}},{"$f":"G67*(1/2)","v":{"$error":"#DIV/0!"}}]
[]
[null,null,"Foremast",{"$f":"'Data Entry'!$AD$5","v":0},{"$f":"'Data Entry'!$AT$5","v":0},{"$f":"'Data Entry'!$AD$3","v":{"$error":"#DIV/0!"}},{"$f":"'Data Entry'!$AT$3","v":{"$error":"#DIV/0!"}},{"$f":"'Data Entry'!$DI$3","v":{"$error":"#DIV/0!"}},{"$f":"'Data Entry'!$DO$3","v":{"$error":"#DIV/0!"}},{"$f":"I70*(2/3)","v":{"$error":"#DIV/0!"}},{"$f":"J70*(4/5)","v":{"$error":"#DIV/0!"}},{"$f":"K70*(2/5)","v":{"$error":"#DIV/0!"}}]
[null,null,"Fore Topmast",{"$f":"'Data Entry'!$AE$5","v":0},{"$f":"'Data Entry'!$AU$5","v":0},{"$f":"'Data Entry'!$AE$3","v":{"$error":"#DIV/0!"}},{"$f":"'Data Entry'!$AU$3","v":{"$error":"#DIV/0!"}},{"$f":"G71*(7/10)","v":{"$error":"#DIV/0!"}},{"$f":"'Data Entry'!$DP$3","v":{"$error":"#DIV/0!"}},{"$f":"'Data Entry'!$DW$3","v":{"$error":"#DIV/0!"}}]
[null,null,"Fore Topgallant Mast",{"$f":"'Data Entry'!$AF$5","v":0},{"$f":"'Data Entry'!$AV$5","v":0},{"$f":"'Data Entry'!$AF$3","v":{"$error":"#DIV/0!"}},{"$f":"'Data Entry'!$AV$3","v":{"$error":"#DIV/0!"}},{"$f":"G72*(10/13)","v":{"$error":"#DIV/0!"}},{"$f":"'Data Entry'!$DQ$3","v":{"$error":"#DIV/0!"}},{"$f":"'Data Entry'!$DX$3","v":{"$error":"#DIV/0!"}}]
[null,null,"Fore Royal Mast",{"$f":"'Data Entry'!$AG$5","v":0},{"$f":"'Data Entry'!$AW$5","v":0},{"$f":"'Data Entry'!$AG$3","v":{"$error":"#DIV/0!"}},{"$f":"'Data Entry'!$AW$3","v":{"$error":"#DIV/0!"}},{"$f":"G72*(1/2)","v":{"$error":"#DIV/0!"}}]
[]
[null,null,"Mizzenmast",{"$f":"'Data Entry'!$AH$5","v":0},{"$f":"'Data Entry'!$AX$5","v":0},{"$f":"'Data Entry'!$AH$3","v":{"$error":"#DIV/0!"}},{"$f":"'Data Entry'!$AX$3","v":{"$error":"#DIV/0!"}},{"$f":"'Data Entry'!$DJ$3","v":{"$error":"#DIV/0!"}},{"$f":"'Data Entry'!$DR$3","v":{"$error":"#DIV/0!"}},{"$f":"'Data Entry'!$DY$3","v":{"$error":"#DIV/0!"}},{"$f":"J75*(4/5)","v":{"$error":"#DIV/0!"}},{"$f":"K75*(2/5)","v":{"$error":"#DIV/0!"}}]
[null,null,"Mizzen Topmast",{"$f":"'Data Entry'!$AI$5","v":0},{"$f":"'Data Entry'!$AY$5","v":0},{"$f":"'Data Entry'!$AI$3","v":{"$error":"#DIV/0!"}},{"$f":"'Data Entry'!$AY$3","v":{"$error":"#DIV/0!"}},{"$f":"G76*(7/10)","v":{"$error":"#DIV/0!"}},{"$f":"'Data Entry'!$DS$3","v":{"$error":"#DIV/0!"}},{"$f":"'Data Entry'!$DZ$3","v":{"$error":"#DIV/0!"}}]
[null,null,"Mizzen Topgallant Mast",{"$f":"'Data Entry'!$AJ$5","v":0},{"$f":"'Data Entry'!$AZ$5","v":0},{"$f":"'Data Entry'!$AJ$3","v":{"$error":"#DIV/0!"}},{"$f":"'Data Entry'!$AZ$3","v":{"$error":"#DIV/0!"}},{"$f":"G77*(10/13)","v":{"$error":"#DIV/0!"}},{"$f":"'Data Entry'!$DT$3","v":{"$error":"#DIV/0!"}},{"$f":"'Data Entry'!$EA$3","v":{"$error":"#DIV/0!"}}]
[null,null,"Mizzen Royal Mast",{"$f":"'Data Entry'!$AK$5","v":0},{"$f":"'Data Entry'!$BA$5","v":0},{"$f":"'Data Entry'!$AK$3","v":{"$error":"#DIV/0!"}},{"$f":"'Data Entry'!$BA$3","v":{"$error":"#DIV/0!"}},{"$f":"G77*(1/2)","v":{"$error":"#DIV/0!"}}]
[]
[null,null,"Bowsprit",{"$f":"'Data Entry'!$AL$5","v":0},{"$f":"'Data Entry'!$BB$5","v":0},{"$f":"'Data Entry'!$AL$3","v":{"$error":"#DIV/0!"}},{"$f":"'Data Entry'!$BB$3","v":{"$error":"#DIV/0!"}},{"$f":"'Data Entry'!$DK$3","v":{"$error":"#DIV/0!"}}]
[null,null,"Jib Boom",{"$f":"'Data Entry'!$AN$5","v":0},{"$f":"'Data Entry'!$BD$5","v":0},{"$f":"'Data Entry'!$AN$3","v":{"$error":"#DIV/0!"}},{"$f":"'Data Entry'!$BD$3","v":{"$error":"#DIV/0!"}},{"$f":"G81*(2/3)","v":{"$error":"#DIV/0!"}}]
[null,null,"Flying Jib Boom",{"$f":"'Data Entry'!$AO$5","v":0},{"$f":"'Data Entry'!$BE$5","v":0},{"$f":"'Data Entry'!$AO$3","v":{"$error":"#DIV/0!"}},{"$f":"'Data Entry'!$BE$3","v":{"$error":"#DIV/0!"}},{"$f":"G82*(2/3)","v":{"$error":"#DIV/0!"}}]
[null,null,"Sprit Topmast",{"$f":"'Data Entry'!$AM$5","v":0},{"$f":"'Data Entry'!$BC$5","v":0},{"$f":"'Data Entry'!$AM$3","v":{"$error":"#DIV/0!"}},{"$f":"'Data Entry'!$BC$3","v":{"$error":"#DIV/0!"}},{"$f":"G83*(3/4)","v":{"$error":"#DIV/0!"}}]
[]
[null,null,"Mast Tops","Orig. Length","Orig. Width","Length","Width","Hole Length","Hole Width"]
[null,null,"Main",{"$f":"'Data Entry'!$GM$5","v":0},{"$f":"'Data Entry'!$GI$5","v":0},{"$f":"'Data Entry'!$GM$3","v":{"$error":"#DIV/0!"}},{"$f":"'Data Entry'!$GI$3","v":{"$error":"#DIV/0!"}},{"$f":"'Data Entry'!$GQ$3","v":{"$error":"#DIV/0!"}},{"$f":"'Data Entry'!$GU$3","v":{"$error":"#DIV/0!"}}]
[null,null,"Fore",{"$f":"'Data Entry'!$GN$5","v":0},{"$f":"'Data Entry'!$GJ$5","v":0},{"$f":"'Data Entry'!$GN$3","v":{"$error":"#DIV/0!"}},{"$f":"'Data Entry'!$GJ$3","v":{"$error":"#DIV/0!"}},{"$f":"'Data Entry'!$GR$3","v":{"$error":"#DIV/0!"}},{"$f":"'Data Entry'!$GV$3","v":{"$error":"#DIV/0!"}}]
[null,null,"Mizzen",{"$f":"'Data Entry'!$GO$5","v":0},{"$f":"'Data Entry'!$GK$5","v":0},{"$f":"'Data Entry'!$GO$3","v":{"$error":"#DIV/0!"}},{"$f":"'Data Entry'!$GK$3","v":{"$error":"#DIV/0!"}},{"$f":"'Data Entry'!$GS$3","v":{"$error":"#DIV/0!"}},{"$f":"'Data Entry'!$GW$3","v":{"$error":"#DIV/0!"}}]
[null,null,"Sprit",{"$f":"'Data Entry'!$GP$5","v":0},{"$f":"'Data Entry'!$GL$5","v":0},{"$f":"'Data Entry'!$GP$3","v":{"$error":"#DIV/0!"}},{"$f":"'Data Entry'!$GL$3","v":{"$error":"#DIV/0!"}},{"$f":"'Data Entry'!$GT$3","v":{"$error":"#DIV/0!"}},{"$f":"'Data Entry'!$GX$3","v":{"$error":"#DIV/0!"}}]
[]
[]
[]
[]
[]
[]
[]
[]
[]
[]
[]
[]
[]
[]
[]
[]
[]
[]
[]
[]
[]
[]
[]
[]
[]
[]
[]
[]
[]
[]
[null,null,"Inch Entry","Original Dimensions (Feet)",null,"Scaled Dimensions (millimetres)"]
[null,null,"Mast","Length","Diameter","Length","Diameter","Taper at Head","Head Length","Hounds Length","Bibs Length","Bibs Width"]
[null,null,"Mainmast",{"$f":"'Data Entry'!$Z$5","v":0},{"$f":"'Data Entry'!$AP$5","v":0},{"$f":"'Data Entry'!$Z$4","v":{"$error":"#DIV/0!"}},{"$f":"'Data Entry'!$AP$4","v":{"$error":"#DIV/0!"}},{"$f":"'Data Entry'!$DH$4","v":{"$error":"#DIV/0!"}},{"$f":"'Data Entry'!$DL$4","v":{"$error":"#DIV/0!"}},{"$f":"I122*(2/3)","v":{"$error":"#DIV/0!"}},{"$f":"J122*(4/5)","v":{"$error":"#DIV/0!"}},{"$f":"K122*(2/5)","v":{"$error":"#DIV/0!"}}]
[null,null,"Main Topmast",{"$f":"'Data Entry'!$AA$5","v":0},{"$f":"'Data Entry'!$AQ$5","v":0},{"$f":"'Data Entry'!$AA$4","v":{"$error":"#DIV/0!"}},{"$f":"'Data Entry'!$AQ$4","v":{"$error":"#DIV/0!"}},{"$f":"G123*(7/10)","v":{"$error":"#DIV/0!"}},{"$f":"'Data Entry'!$DM$4","v":{"$error":"#DIV/0!"}},{"$f":"'Data Entry'!$DU$4","v":{"$error":"#DIV/0!"}}]
[null,null,"Main Topgallant Mast",{"$f":"'Data Entry'!$AB$5","v":0},{"$f":"'Data Entry'!$AR$5","v":0},{"$f":"'Data Entry'!$AB$4","v":{"$error":"#DIV/0!"}},{"$f":"'Data Entry'!$AR$4","v":{"$error":"#DIV/0!"}},{"$f":"G124*(10/13)","v":{"$error":"#DIV/0!"}},{"$f":"'Data Entry'!$DN$4","v":{"$error":"#DIV/0!"}},{"$f":"'Data Entry'!$DV$4","v":{"$error":"#DIV/0!"}}]
[null,null,"Main Royal Mast",{"$f":"'Data Entry'!$AC$5","v":0},{"$f":"'Data Entry'!$AS$5","v":0},{"$f":"'Data Entry'!$AC$4","v":{"$error":"#DIV/0!"}},{"$f":"'Data Entry'!$AS$4","v":{"$error":"#DIV/0!"}},{"$f":"G124*(1/2)","v":{"$error":"#DIV/0!"}}]
[]
[null,null,"Foremast",{"$f":"'Data Entry'!$AD$5","v":0},{"$f":"'Data Entry'!$AT$5","v":0},{"$f":"'Data Entry'!$AD$4","v":{"$error":"#DIV/0!"}},{"$f":"'Data Entry'!$AT$4","v":{"$error":"#DIV/0!"}},{"$f":"'Data Entry'!$DI$4","v":{"$error":"#DIV/0!"}},{"$f":"'Data Entry'!$DO$4","v":{"$error":"#DIV/0!"}},{"$f":"I127*(2/3)","v":{"$error":"#DIV/0!"}},{"$f":"J127*(4/5)","v":{"$error":"#DIV/0!"}},{"$f":"K127*(2/5)","v":{"$error":"#DIV/0!"}}]
[null,null,"Fore Topmast",{"$f":"'Data Entry'!$AE$5","v":0},{"$f":"'Data Entry'!$AU$5","v":0},{"$f":"'Data Entry'!$AE$4","v":{"$error":"#DIV/0!"}},{"$f":"'Data Entry'!$AU$4","v":{"$error":"#DIV/0!"}},{"$f":"G128*(7/10)","v":{"$error":"#DIV/0!"}},{"$f":"'Data Entry'!$DP$4","v":{"$error":"#DIV/0!"}},{"$f":"'Data Entry'!$DW$4","v":{"$error":"#DIV/0!"}}]
[null,null,"Fore Topgallant Mast",{"$f":"'Data Entry'!$AF$5","v":0},{"$f":"'Data Entry'!$AV$5","v":0},{"$f":"'Data Entry'!$AF$4","v":{"$error":"#DIV/0!"}},{"$f":"'Data Entry'!$AV$4","v":{"$error":"#DIV/0!"}},{"$f":"G129*(10/13)","v":{"$error":"#DIV/0!"}},{"$f":"'Data Entry'!$DQ$4","v":{"$error":"#DIV/0!"}},{"$f":"'Data Entry'!$DX$4","v":{"$error":"#DIV/0!"}}]
[null,null,"Fore Royal Mast",{"$f":"'Data Entry'!$AG$5","v":0},{"$f":"'Data Entry'!$AW$5","v":0},{"$f":"'Data Entry'!$AG$4","v":{"$error":"#DIV/0!"}},{"$f":"'Data Entry'!$AW$4","v":{"$error":"#DIV/0!"}},{"$f":"G129*(1/2)","v":{"$error":"#DIV/0!"}}]
[]
[null,null,"Mizzenmast",{"$f":"'Data Entry'!$AH$5","v":0},{"$f":"'Data Entry'!$AX$5","v":0},{"$f":"'Data Entry'!$AH$4","v":{"$error":"#DIV/0!"}},{"$f":"'Data Entry'!$AX$4","v":{"$error":"#DIV/0!"}},{"$f":"'Data Entry'!$DJ$4","v":{"$error":"#DIV/0!"}},{"$f":"'Data Entry'!$DR$4","v":{"$error":"#DIV/0!"}},{"$f":"'Data Entry'!$DY$4","v":{"$error":"#DIV/0!"}},{"$f":"J132*(4/5)","v":{"$error":"#DIV/0!"}},{"$f":"K132*(2/5)","v":{"$error":"#DIV/0!"}}]
[null,null,"Mizzen Topmast",{"$f":"'Data Entry'!$AI$5","v":0},{"$f":"'Data Entry'!$AY$5","v":0},{"$f":"'Data Entry'!$AI$4","v":{"$error":"#DIV/0!"}},{"$f":"'Data Entry'!$AY$4","v":{"$error":"#DIV/0!"}},{"$f":"G133*(7/10)","v":{"$error":"#DIV/0!"}},{"$f":"'Data Entry'!$DS$4","v":{"$error":"#DIV/0!"}},{"$f":"'Data Entry'!$DZ$4","v":{"$error":"#DIV/0!"}}]
[null,null,"Mizzen Topgallant Mast",{"$f":"'Data Entry'!$AJ$5","v":0},{"$f":"'Data Entry'!$AZ$5","v":0},{"$f":"'Data Entry'!$AJ$4","v":{"$error":"#DIV/0!"}},{"$f":"'Data Entry'!$AZ$4","v":{"$error":"#DIV/0!"}},{"$f":"G134*(10/13)","v":{"$error":"#DIV/0!"}},{"$f":"'Data Entry'!$DT$4","v":{"$error":"#DIV/0!"}},{"$f":"'Data Entry'!$EA$4","v":{"$error":"#DIV/0!"}}]
[null,null,"Mizzen Royal Mast",{"$f":"'Data Entry'!$AK$5","v":0},{"$f":"'Data Entry'!$BA$5","v":0},{"$f":"'Data Entry'!$AK$4","v":{"$error":"#DIV/0!"}},{"$f":"'Data Entry'!$BA$4","v":{"$error":"#DIV/0!"}},{"$f":"G134*(1/2)","v":{"$error":"#DIV/0!"}}]
[]
[null,null,"Bowsprit",{"$f":"'Data Entry'!$AL$5","v":0},{"$f":"'Data Entry'!$BB$5","v":0},{"$f":"'Data Entry'!$AL$4","v":{"$error":"#DIV/0!"}},{"$f":"'Data Entry'!$BB$4","v":{"$error":"#DIV/0!"}},{"$f":"'Data Entry'!$DK$4","v":{"$error":"#DIV/0!"}}]
[null,null,"Jib Boom",{"$f":"'Data Entry'!$AN$5","v":0},{"$f":"'Data Entry'!$BD$5","v":0},{"$f":"'Data Entry'!$AN$4","v":{"$error":"#DIV/0!"}},{"$f":"'Data Entry'!$BD$4","v":{"$error":"#DIV/0!"}},{"$f":"G138*(2/3)","v":{"$error":"#DIV/0!"}}]
[null,null,"Flying Jib Boom",{"$f":"'Data Entry'!$AO$5","v":0},{"$f":"'Data Entry'!$BE$5","v":0},{"$f":"'Data Entry'!$AO$4","v":{"$error":"#DIV/0!"}},{"$f":"'Data Entry'!$BE$4","v":{"$error":"#DIV/0!"}},{"$f":"G139*(2/3)","v":{"$error":"#DIV/0!"}}]
[null,null,"Sprit Topmast",{"$f":"'Data Entry'!$AM$5","v":0},{"$f":"'Data Entry'!$BC$5","v":0},{"$f":"'Data Entry'!$AM$4","v":{"$error":"#DIV/0!"}},{"$f":"'Data Entry'!$BC$4","v":{"$error":"#DIV/0!"}},{"$f":"G140*(3/4)","v":{"$error":"#DIV/0!"}}]
[]
[null,null,"Mast Tops","Orig. Length","Orig. Width","Length","Width","Hole Length","Hole Width"]
[null,null,"Main",{"$f":"'Data Entry'!$GM$5","v":0},{"$f":"'Data Entry'!$GI$5","v":0},{"$f":"'Data Entry'!$GM$4","v":{"$error":"#DIV/0!"}},{"$f":"'Data Entry'!$GI$4","v":{"$error":"#DIV/0!"}},{"$f":"'Data Entry'!$GQ$4","v":{"$error":"#DIV/0!"}},{"$f":"'Data Entry'!$GU$4","v":{"$error":"#DIV/0!"}}]
[null,null,"Fore",{"$f":"'Data Entry'!$GN$5","v":0},{"$f":"'Data Entry'!$GJ$5","v":0},{"$f":"'Data Entry'!$GN$4","v":{"$error":"#DIV/0!"}},{"$f":"'Data Entry'!$GJ$4","v":{"$error":"#DIV/0!"}},{"$f":"'Data Entry'!$GR$4","v":{"$error":"#DIV/0!"}},{"$f":"'Data Entry'!$GV$4","v":{"$error":"#DIV/0!"}}]
[null,null,"Mizzen",{"$f":"'Data Entry'!$GO$5","v":0},{"$f":"'Data Entry'!$GK$5","v":0},{"$f":"'Data Entry'!$GO$4","v":{"$error":"#DIV/0!"}},{"$f":"'Data Entry'!$GK$4","v":{"$error":"#DIV/0!"}},{"$f":"'Data Entry'!$GS$4","v":{"$error":"#DIV/0!"}},{"$f":"'Data Entry'!$GW$4","v":{"$error":"#DIV/0!"}}]
[null,null,"Sprit",{"$f":"'Data Entry'!$GP$5","v":0},{"$f":"'Data Entry'!$GL$5","v":0},{"$f":"'Data Entry'!$GP$4","v":{"$error":"#DIV/0!"}},{"$f":"'Data Entry'!$GL$4","v":{"$error":"#DIV/0!"}},{"$f":"'Data Entry'!$GT$4","v":{"$error":"#DIV/0!"}},{"$f":"'Data Entry'!$GX$4","v":{"$error":"#DIV/0!"}}]
[]
[]
[]
[]
[]
[]
[]
[]
[]
[]
[]
[]
[]
[]
[]
[]
[]
[]
[]
[]
[]
[]
[]
[]
[]
[]
[]
[]
[]
[]
[null,null,"Metric Entry","Original Dimensions (Metres)",null,"Scaled Dimensions (inches)"]
[null,null,"Mast","Length","Diameter","Length","Diameter","Taper at Head","Head Length","Hounds Length","Bibs Length","Bibs Width"]
[null,null,"Mainmast",{"$f":"'Data Entry'!$Z$7","v":0},{"$f":"'Data Entry'!$AP$7","v":0},{"$f":"'Data Entry'!$Z$3","v":{"$error":"#DIV/0!"}},{"$f":"'Data Entry'!$AP$3","v":{"$error":"#DIV/0!"}},{"$f":"'Data Entry'!$DH$3","v":{"$error":"#DIV/0!"}},{"$f":"'Data Entry'!$DL$3","v":{"$error":"#DIV/0!"}},{"$f":"I179*(2/3)","v":{"$error":"#DIV/0!"}},{"$f":"J179*(4/5)","v":{"$error":"#DIV/0!"}},{"$f":"K179*(2/5)","v":{"$error":"#DIV/0!"}}]
[null,null,"Main Topmast",{"$f":"'Data Entry'!$AA$7","v":0},{"$f":"'Data Entry'!$AQ$7","v":0},{"$f":"'Data Entry'!$AA$3","v":{"$error":"#DIV/0!"}},{"$f":"'Data Entry'!$AQ$3","v":{"$error":"#DIV/0!"}},{"$f":"G180*(7/10)","v":{"$error":"#DIV/0!"}},{"$f":"'Data Entry'!$DM$3","v":{"$error":"#DIV/0!"}},{"$f":"'Data Entry'!$DU$3","v":{"$error":"#DIV/0!"}}]
[null,null,"Main Topgallant Mast",{"$f":"'Data Entry'!$AB$7","v":0},{"$f":"'Data Entry'!$AR$7","v":0},{"$f":"'Data Entry'!$AB$3","v":{"$error":"#DIV/0!"}},{"$f":"'Data Entry'!$AR$3","v":{"$error":"#DIV/0!"}},{"$f":"G181*(10/13)","v":{"$error":"#DIV/0!"}},{"$f":"'Data Entry'!$DN$3","v":{"$error":"#DIV/0!"}},{"$f":"'Data Entry'!$DV$3","v":{"$error":"#DIV/0!"}}]
[null,null,"Main Royal Mast",{"$f":"'Data Entry'!$AC$7","v":0},{"$f":"'Data Entry'!$AS$7","v":0},{"$f":"'Data Entry'!$AC$3","v":{"$error":"#DIV/0!"}},{"$f":"'Data Entry'!$AS$3","v":{"$error":"#DIV/0!"}},{"$f":"G181*(1/2)","v":{"$error":"#DIV/0!"}}]
[]
[null,null,"Foremast",{"$f":"'Data Entry'!$AD$7","v":0},{"$f":"'Data Entry'!$AT$7","v":0},{"$f":"'Data Entry'!$AD$3","v":{"$error":"#DIV/0!"}},{"$f":"'Data Entry'!$AT$3","v":{"$error":"#DIV/0!"}},{"$f":"'Data Entry'!$DI$3","v":{"$error":"#DIV/0!"}},{"$f":"'Data Entry'!$DO$3","v":{"$error":"#DIV/0!"}},{"$f":"I184*(2/3)","v":{"$error":"#DIV/0!"}},{"$f":"J184*(4/5)","v":{"$error":"#DIV/0!"}},{"$f":"K184*(2/5)","v":{"$error":"#DIV/0!"}}]
[null,null,"Fore Topmast",{"$f":"'Data Entry'!$AE$7","v":0},{"$f":"'Data Entry'!$AU$7","v":0},{"$f":"'Data Entry'!$AE$3","v":{"$error":"#DIV/0!"}},{"$f":"'Data Entry'!$AU$3","v":{"$error":"#DIV/0!"}},{"$f":"G185*(7/10)","v":{"$error":"#DIV/0!"}},{"$f":"'Data Entry'!$DP$3","v":{"$error":"#DIV/0!"}},{"$f":"'Data Entry'!$DW$3","v":{"$error":"#DIV/0!"}}]
[null,null,"Fore Topgallant Mast",{"$f":"'Data Entry'!$AF$7","v":0},{"$f":"'Data Entry'!$AV$7","v":0},{"$f":"'Data Entry'!$AF$3","v":{"$error":"#DIV/0!"}},{"$f":"'Data Entry'!$AV$3","v":{"$error":"#DIV/0!"}},{"$f":"G186*(10/13)","v":{"$error":"#DIV/0!"}},{"$f":"'Data Entry'!$DQ$3","v":{"$error":"#DIV/0!"}},{"$f":"'Data Entry'!$DX$3","v":{"$error":"#DIV/0!"}}]
[null,null,"Fore Royal Mast",{"$f":"'Data Entry'!$AG$7","v":0},{"$f":"'Data Entry'!$AW$7","v":0},{"$f":"'Data Entry'!$AG$3","v":{"$error":"#DIV/0!"}},{"$f":"'Data Entry'!$AW$3","v":{"$error":"#DIV/0!"}},{"$f":"G186*(1/2)","v":{"$error":"#DIV/0!"}}]
[]
[null,null,"Mizzenmast",{"$f":"'Data Entry'!$AH$7","v":0},{"$f":"'Data Entry'!$AX$7","v":0},{"$f":"'Data Entry'!$AH$3","v":{"$error":"#DIV/0!"}},{"$f":"'Data Entry'!$AX$3","v":{"$error":"#DIV/0!"}},{"$f":"'Data Entry'!$DJ$3","v":{"$error":"#DIV/0!"}},{"$f":"'Data Entry'!$DR$3","v":{"$error":"#DIV/0!"}},{"$f":"'Data Entry'!$DY$3","v":{"$error":"#DIV/0!"}},{"$f":"J189*(4/5)","v":{"$error":"#DIV/0!"}},{"$f":"K189*(2/5)","v":{"$error":"#DIV/0!"}}]
[null,null,"Mizzen Topmast",{"$f":"'Data Entry'!$AI$7","v":0},{"$f":"'Data Entry'!$AY$7","v":0},{"$f":"'Data Entry'!$AI$3","v":{"$error":"#DIV/0!"}},{"$f":"'Data Entry'!$AY$3","v":{"$error":"#DIV/0!"}},{"$f":"G190*(7/10)","v":{"$error":"#DIV/0!"}},{"$f":"'Data Entry'!$DS$3","v":{"$error":"#DIV/0!"}},{"$f":"'Data Entry'!$DZ$3","v":{"$error":"#DIV/0!"}}]
[null,null,"Mizzen Topgallant Mast",{"$f":"'Data Entry'!$AJ$7","v":0},{"$f":"'Data Entry'!$AZ$7","v":0},{"$f":"'Data Entry'!$AJ$3","v":{"$error":"#DIV/0!"}},{"$f":"'Data Entry'!$AZ$3","v":{"$error":"#DIV/0!"}},{"$f":"G191*(10/13)","v":{"$error":"#DIV/0!"}},{"$f":"'Data Entry'!$DT$3","v":{"$error":"#DIV/0!"}},{"$f":"'Data Entry'!$EA$3","v":{"$error":"#DIV/0!"}}]
[null,null,"Mizzen Royal Mast",{"$f":"'Data Entry'!$AK$7","v":0},{"$f":"'Data Entry'!$BA$7","v":0},{"$f":"'Data Entry'!$AK$3","v":{"$error":"#DIV/0!"}},{"$f":"'Data Entry'!$BA$3","v":{"$error":"#DIV/0!"}},{"$f":"G191*(1/2)","v":{"$error":"#DIV/0!"}}]
[]
[null,null,"Bowsprit",{"$f":"'Data Entry'!$AL$7","v":0},{"$f":"'Data Entry'!$BB$7","v":0},{"$f":"'Data Entry'!$AL$3","v":{"$error":"#DIV/0!"}},{"$f":"'Data Entry'!$BB$3","v":{"$error":"#DIV/0!"}},{"$f":"'Data Entry'!$DK$3","v":{"$error":"#DIV/0!"}}]
[null,null,"Jib Boom",{"$f":"'Data Entry'!$AN$7","v":0},{"$f":"'Data Entry'!$BD$7","v":0},{"$f":"'Data Entry'!$AN$3","v":{"$error":"#DIV/0!"}},{"$f":"'Data Entry'!$BD$3","v":{"$error":"#DIV/0!"}},{"$f":"G195*(2/3)","v":{"$error":"#DIV/0!"}}]
[null,null,"Flying Jib Boom",{"$f":"'Data Entry'!$AO$7","v":0},{"$f":"'Data Entry'!$BE$7","v":0},{"$f":"'Data Entry'!$AO$3","v":{"$error":"#DIV/0!"}},{"$f":"'Data Entry'!$BE$3","v":{"$error":"#DIV/0!"}},{"$f":"G196*(2/3)","v":{"$error":"#DIV/0!"}}]
[null,null,"Sprit Topmast",{"$f":"'Data Entry'!$AM$7","v":0},{"$f":"'Data Entry'!$BC$7","v":0},{"$f":"'Data Entry'!$AM$3","v":{"$error":"#DIV/0!"}},{"$f":"'Data Entry'!$BC$3","v":{"$error":"#DIV/0!"}},{"$f":"G197*(3/4)","v":{"$error":"#DIV/0!"}}]
[]
[null,null,"Mast Tops","Orig. Length","Orig. Width","Length","Width","Hole Length","Hole Width"]
[null,null,"Main",{"$f":"'Data Entry'!$GM$7","v":0},{"$f":"'Data Entry'!$GI$7","v":0},{"$f":"'Data Entry'!$GM$3","v":{"$error":"#DIV/0!"}},{"$f":"'Data Entry'!$GI$3","v":{"$error":"#DIV/0!"}},{"$f":"'Data Entry'!$GQ$3","v":{"$error":"#DIV/0!"}},{"$f":"'Data Entry'!$GU$3","v":{"$error":"#DIV/0!"}}]
[null,null,"Fore",{"$f":"'Data Entry'!$GN$7","v":0},{"$f":"'Data Entry'!$GJ$7","v":0},{"$f":"'Data Entry'!$GN$3","v":{"$error":"#DIV/0!"}},{"$f":"'Data Entry'!$GJ$3","v":{"$error":"#DIV/0!"}},{"$f":"'Data Entry'!$GR$3","v":{"$error":"#DIV/0!"}},{"$f":"'Data Entry'!$GV$3","v":{"$error":"#DIV/0!"}}]
[null,null,"Mizzen",{"$f":"'Data Entry'!$GO$7","v":0},{"$f":"'Data Entry'!$GK$7","v":0},{"$f":"'Data Entry'!$GO$3","v":{"$error":"#DIV/0!"}},{"$f":"'Data Entry'!$GK$3","v":{"$error":"#DIV/0!"}},{"$f":"'Data Entry'!$GS$3","v":{"$error":"#DIV/0!"}},{"$f":"'Data Entry'!$GW$3","v":{"$error":"#DIV/0!"}}]
[null,null,"Sprit",{"$f":"'Data Entry'!$GP$7","v":0},{"$f":"'Data Entry'!$GL$7","v":0},{"$f":"'Data Entry'!$GP$3","v":{"$error":"#DIV/0!"}},{"$f":"'Data Entry'!$GL$3","v":{"$error":"#DIV/0!"}},{"$f":"'Data Entry'!$GT$3","v":{"$error":"#DIV/0!"}},{"$f":"'Data Entry'!$GX$3","v":{"$error":"#DIV/0!"}}]

{"sheet":"Yards","index":5,"n_rows":211,"n_cols":10,"rows_kept":211,"cut":false,"hidden":false,"merged":[[173,3,173,4],[173,5,173,9],[5,3,5,4],[5,5,5,9],[61,3,61,4],[61,5,61,9],[117,3,117,4],[117,5,117,9]]}
[]
[]
[]
[]
[]
[null,null,"Metric Entry","Original Dimensions (Metres)",null,"Scaled Dimensions (millimetres)"]
[null,null,"Yard","Length","Diameter","Length","Diameter","Taper Diameter","Midsection Type","Midsection Length"]
[null,null,"Main Yard",{"$f":"'Data Entry'!$BF$7","v":0},{"$f":"'Data Entry'!$CG$7","v":0},{"$f":"'Data Entry'!$BF$4","v":{"$error":"#DIV/0!"}},{"$f":"'Data Entry'!$CG$4","v":{"$error":"#DIV/0!"}},{"$f":"'Data Entry'!$EB$4","v":{"$error":"#DIV/0!"}},{"$f":"'Data Entry'!$FE$4","v":"Round"},{"$f":"'Data Entry'!$FS$4","v":{"$error":"#DIV/0!"}}]
[null,null,"(Main Yard Midsection Length Aft)","\"","\"","\"","\"","\"","\"",{"$f":"'Data Entry'!$FT$4","v":{"$error":"#DIV/0!"}}]
[null,null,"Main Topsail Yard",{"$f":"'Data Entry'!$BG$7","v":0},{"$f":"'Data Entry'!$CH$7","v":0},{"$f":"'Data Entry'!$BG$4","v":{"$error":"#DIV/0!"}},{"$f":"'Data Entry'!$CH$4","v":{"$error":"#DIV/0!"}},{"$f":"'Data Entry'!$EC$4","v":{"$error":"#DIV/0!"}},{"$f":"'Data Entry'!$FF$4","v":"Round"},{"$f":"'Data Entry'!$FU$4","v":{"$error":"#DIV/0!"}}]
[null,null,"Main Topgallant Yard",{"$f":"'Data Entry'!$BH$7","v":0},{"$f":"'Data Entry'!$CI$7","v":0},{"$f":"'Data Entry'!$BH$4","v":{"$error":"#DIV/0!"}},{"$f":"'Data Entry'!$CI$4","v":{"$error":"#DIV/0!"}},{"$f":"'Data Entry'!$ED$4","v":{"$error":"#DIV/0!"}},{"$f":"'Data Entry'!$FG$4","v":"Round"},{"$f":"'Data Entry'!$FV$4","v":{"$error":"#DIV/0!"}}]
[null,null,"Main Royal Yard",{"$f":"'Data Entry'!$BI$7","v":0},{"$f":"'Data Entry'!$CJ$7","v":0},{"$f":"'Data Entry'!$BI$4","v":{"$error":"#DIV/0!"}},{"$f":"'Data Entry'!$CJ$4","v":{"$error":"#DIV/0!"}},{"$f":"'Data Entry'!$EE$4","v":{"$error":"#DIV/0!"}},{"$f":"'Data Entry'!$FH$4","v":"Round"},{"$f":"'Data Entry'!$FW$4","v":{"$error":"#DIV/0!"}}]
[]
[null,null,"Fore Yard",{"$f":"'Data Entry'!$BJ$7","v":0},{"$f":"'Data Entry'!$CK$7","v":0},{"$f":"'Data Entry'!$BJ$4","v":{"$error":"#DIV/0!"}},{"$f":"'Data Entry'!$CK$4","v":{"$error":"#DIV/0!"}},{"$f":"'Data Entry'!$EF$4","v":{"$error":"#DIV/0!"}},{"$f":"'Data Entry'!$FI$4","v":"Round"},{"$f":"'Data Entry'!$FX$4","v":{"$error":"#DIV/0!"}}]
[null,null,"(Fore Yard Midsection Length Aft)","\"","\"","\"","\"","\"","\"",{"$f":"'Data Entry'!$FY$4","v":{"$error":"#DIV/0!"}}]
[null,null,"Fore Topsail Yard",{"$f":"'Data Entry'!$BK$7","v":0},{"$f":"'Data Entry'!$CL$7","v":0},{"$f":"'Data Entry'!$BK$4","v":{"$error":"#DIV/0!"}},{"$f":"'Data Entry'!$CL$4","v":{"$error":"#DIV/0!"}},{"$f":"'Data Entry'!$EG$4","v":{"$error":"#DIV/0!"}},{"$f":"'Data Entry'!$FJ$4","v":"Round"},{"$f":"'Data Entry'!$FZ$4","v":{"$error":"#DIV/0!"}}]
[null,null,"Fore Topgallant Yard",{"$f":"'Data Entry'!$BL$7","v":0},{"$f":"'Data Entry'!$CM$7","v":0},{"$f":"'Data Entry'!$BL$4","v":{"$error":"#DIV/0!"}},{"$f":"'Data Entry'!$CM$4","v":{"$error":"#DIV/0!"}},{"$f":"'Data Entry'!$EH$4","v":{"$error":"#DIV/0!"}},{"$f":"'Data Entry'!$FK$4","v":"Round"},{"$f":"'Data Entry'!$GA$4","v":{"$error":"#DIV/0!"}}]
[null,null,"Fore Royal Yard",{"$f":"'Data Entry'!$BM$7","v":0},{"$f":"'Data Entry'!$CN$7","v":0},{"$f":"'Data Entry'!$BM$4","v":{"$error":"#DIV/0!"}},{"$f":"'Data Entry'!$CN$4","v":{"$error":"#DIV/0!"}},{"$f":"'Data Entry'!$EI$4","v":{"$error":"#DIV/0!"}},{"$f":"'Data Entry'!$FL$4","v":"Round"}]
[]
[null,null,"Crossjack",{"$f":"'Data Entry'!$BN$7","v":0},{"$f":"'Data Entry'!$CO$7","v":0},{"$f":"'Data Entry'!$BN$4","v":{"$error":"#DIV/0!"}},{"$f":"'Data Entry'!$CO$4","v":{"$error":"#DIV/0!"}},{"$f":"'Data Entry'!$EJ$4","v":{"$error":"#DIV/0!"}},{"$f":"'Data Entry'!$FM$4","v":"Round"},{"$f":"'Data Entry'!$GC$4","v":{"$error":"#DIV/0!"}}]
[null,null,"Mizzen Topsail Yard",{"$f":"'Data Entry'!$BO$7","v":0},{"$f":"'Data Entry'!$CP$7","v":0},{"$f":"'Data Entry'!$BO$4","v":{"$error":"#DIV/0!"}},{"$f":"'Data Entry'!$CP$4","v":{"$error":"#DIV/0!"}},{"$f":"'Data Entry'!$EK$4","v":{"$error":"#DIV/0!"}},{"$f":"'Data Entry'!$FN$4","v":"Round"},{"$f":"'Data Entry'!$GD$4","v":{"$error":"#DIV/0!"}}]
[null,null,"Mizzen Topgallant Yard",{"$f":"'Data Entry'!$BP$7","v":0},{"$f":"'Data Entry'!$CQ$7","v":0},{"$f":"'Data Entry'!$BP$4","v":{"$error":"#DIV/0!"}},{"$f":"'Data Entry'!$CQ$4","v":{"$error":"#DIV/0!"}},{"$f":"'Data Entry'!$EL$4","v":{"$error":"#DIV/0!"}},{"$f":"'Data Entry'!$FO$4","v":"Round"},{"$f":"'Data Entry'!$GE$4","v":{"$error":"#DIV/0!"}}]
[null,null,"Mizzen Royal Yard",{"$f":"'Data Entry'!$BQ$7","v":0},{"$f":"'Data Entry'!$CR$7","v":0},{"$f":"'Data Entry'!$BQ$4","v":{"$error":"#DIV/0!"}},{"$f":"'Data Entry'!$CR$4","v":{"$error":"#DIV/0!"}},{"$f":"'Data Entry'!$EM$4","v":{"$error":"#DIV/0!"}},{"$f":"'Data Entry'!$FP$4","v":"Round"},{"$f":"'Data Entry'!$GF$4","v":{"$error":"#DIV/0!"}}]
[]
[null,null,"Spritsail Yard",{"$f":"'Data Entry'!$BW$7","v":0},{"$f":"'Data Entry'!$CX$7","v":0},{"$f":"'Data Entry'!$BW$4","v":{"$error":"#DIV/0!"}},{"$f":"'Data Entry'!$CX$4","v":{"$error":"#DIV/0!"}},{"$f":"'Data Entry'!$EU$4","v":{"$error":"#DIV/0!"}},{"$f":"'Data Entry'!$FQ$4","v":"Round"},{"$f":"'Data Entry'!$GG$4","v":{"$error":"#DIV/0!"}}]
[null,null,"Sprit Topsail Yard",{"$f":"'Data Entry'!$BX$7","v":0},{"$f":"'Data Entry'!$CY$7","v":0},{"$f":"'Data Entry'!$BX$4","v":{"$error":"#DIV/0!"}},{"$f":"'Data Entry'!$CY$4","v":{"$error":"#DIV/0!"}},{"$f":"'Data Entry'!$EV$4","v":{"$error":"#DIV/0!"}},{"$f":"'Data Entry'!$FR$4","v":"Round"},{"$f":"'Data Entry'!$GH$4","v":{"$error":"#DIV/0!"}}]
[]
[null,null,"Mizzen Yard (Lower Taper)",{"$f":"'Data Entry'!$BR$7","v":0},{"$f":"'Data Entry'!$CS$7","v":0},{"$f":"'Data Entry'!$BR$4","v":{"$error":"#DIV/0!"}},{"$f":"'Data Entry'!$CS$4","v":{"$error":"#DIV/0!"}},{"$f":"'Data Entry'!$EN$4","v":{"$error":"#DIV/0!"}},"Round"]
[null,null,"Mizzen Yard (Upper Taper)","\"","\"","\"","\"",{"$f":"'Data Entry'!$EO$4","v":{"$error":"#DIV/0!"}},"Round"]
[null,null,"Spanker Gaff",{"$f":"'Data Entry'!$BS$7","v":0},{"$f":"'Data Entry'!$CT$7","v":0},{"$f":"'Data Entry'!$BS$4","v":{"$error":"#DIV/0!"}},{"$f":"'Data Entry'!$CT$4","v":{"$error":"#DIV/0!"}},{"$f":"'Data Entry'!$EP$4","v":{"$error":"#DIV/0!"}},"Round"]
[null,null,"Trysail Gaff",{"$f":"'Data Entry'!$BT$7","v":0},{"$f":"'Data Entry'!$CU$7","v":0},{"$f":"'Data Entry'!$BT$4","v":{"$error":"#DIV/0!"}},{"$f":"'Data Entry'!$CU$4","v":{"$error":"#DIV/0!"}},{"$f":"'Data Entry'!$EQ$4","v":{"$error":"#DIV/0!"}},"Round"]
[null,null,"Driver Boom (Outer Taper)",{"$f":"'Data Entry'!$BU$7","v":0},{"$f":"'Data Entry'!$CV$7","v":0},{"$f":"'Data Entry'!$BU$4","v":{"$error":"#DIV/0!"}},{"$f":"'Data Entry'!$CV$4","v":{"$error":"#DIV/0!"}},{"$f":"'Data Entry'!$ES$4","v":{"$error":"#DIV/0!"}},"Round"]
[null,null,"Driver Boom (Inner Taper)","\"","\"","\"","\"",{"$f":"'Data Entry'!$ER$4","v":{"$error":"#DIV/0!"}},"Round"]
[null,null,"Driver Yard",{"$f":"'Data Entry'!$BV$7","v":0},{"$f":"'Data Entry'!$CW$7","v":0},{"$f":"'Data Entry'!$BV$4","v":{"$error":"#DIV/0!"}},{"$f":"'Data Entry'!$CW$4","v":{"$error":"#DIV/0!"}},{"$f":"'Data Entry'!$ET$4","v":{"$error":"#DIV/0!"}},"Round"]
[]
[null,null,"Main Lower Stunsail Booms",{"$f":"'Data Entry'!$BY$7","v":0},{"$f":"'Data Entry'!$CZ$7","v":0},{"$f":"'Data Entry'!$BY$4","v":{"$error":"#DIV/0!"}},{"$f":"'Data Entry'!$CZ$4","v":{"$error":"#DIV/0!"}},{"$f":"'Data Entry'!$EW$4","v":{"$error":"#DIV/0!"}},"Round"]
[null,null,"Main Topsail Stunsail Booms",{"$f":"'Data Entry'!$BZ$7","v":0},{"$f":"'Data Entry'!$DA$7","v":0},{"$f":"'Data Entry'!$BZ$4","v":{"$error":"#DIV/0!"}},{"$f":"'Data Entry'!$DA$4","v":{"$error":"#DIV/0!"}},{"$f":"'Data Entry'!$EX$4","v":{"$error":"#DIV/0!"}},"Round"]
[null,null,"Fore Lower Stunsail Booms",{"$f":"'Data Entry'!$CA$7","v":0},{"$f":"'Data Entry'!$DB$7","v":0},{"$f":"'Data Entry'!$CA$4","v":{"$error":"#DIV/0!"}},{"$f":"'Data Entry'!$DB$4","v":{"$error":"#DIV/0!"}},{"$f":"'Data Entry'!$EY$4","v":{"$error":"#DIV/0!"}},"Round"]
[null,null,"Fore Topsail Stunsail Booms",{"$f":"'Data Entry'!$CB$7","v":0},{"$f":"'Data Entry'!$DC$7","v":0},{"$f":"'Data Entry'!$CB$4","v":{"$error":"#DIV/0!"}},{"$f":"'Data Entry'!$DC$4","v":{"$error":"#DIV/0!"}},{"$f":"'Data Entry'!$EZ$4","v":{"$error":"#DIV/0!"}},"Round"]
[null,null,"Main Lower Stunsail Yards",{"$f":"'Data Entry'!$CC$7","v":0},{"$f":"'Data Entry'!$DD$7","v":0},{"$f":"'Data Entry'!$CC$4","v":{"$error":"#DIV/0!"}},{"$f":"'Data Entry'!$DD$4","v":{"$error":"#DIV/0!"}},{"$f":"'Data Entry'!$FA$4","v":{"$error":"#DIV/0!"}},"Round"]
[null,null,"Main Topsail Stunsail Yards",{"$f":"'Data Entry'!$CD$7","v":0},{"$f":"'Data Entry'!$DE$7","v":0},{"$f":"'Data Entry'!$CD$4","v":{"$error":"#DIV/0!"}},{"$f":"'Data Entry'!$DE$4","v":{"$error":"#DIV/0!"}},{"$f":"'Data Entry'!$FB$4","v":{"$error":"#DIV/0!"}},"Round"]
[null,null,"Fore Lower Stunsail Yards",{"$f":"'Data Entry'!$CE$7","v":0},{"$f":"'Data Entry'!$DF$7","v":0},{"$f":"'Data Entry'!$CE$4","v":{"$error":"#DIV/0!"}},{"$f":"'Data Entry'!$DF$4","v":{"$error":"#DIV/0!"}},{"$f":"'Data Entry'!$FC$4","v":{"$error":"#DIV/0!"}},"Round"]
[null,null,"Fore Topsail Stunsail Yards",{"$f":"'Data Entry'!$CF$7","v":0},{"$f":"'Data Entry'!$DG$7","v":0},{"$f":"'Data Entry'!$CF$4","v":{"$error":"#DIV/0!"}},{"$f":"'Data Entry'!$DG$4","v":{"$error":"#DIV/0!"}},{"$f":"'Data Entry'!$FD$4","v":{"$error":"#DIV/0!"}},"Round"]
[]
[]
[]
[]
[]
[]
[]
[]
[]
[]
[]
[]
[]
[]
[]
[]
[]
[]
[null,null,"Inch Entry","Original Dimensions (Feet)",null,"Scaled Dimensions (inches)"]
[null,null,"Yard","Length","Diameter","Length","Diameter","Taper Diameter","Midsection Type","Midsection Length"]
[null,null,"Main Yard",{"$f":"'Data Entry'!$BF$5","v":0},{"$f":"'Data Entry'!$CG$5","v":0},{"$f":"'Data Entry'!$BF$3","v":{"$error":"#DIV/0!"}},{"$f":"'Data Entry'!$CG$3","v":{"$error":"#DIV/0!"}},{"$f":"'Data Entry'!$EB$3","v":{"$error":"#DIV/0!"}},{"$f":"'Data Entry'!$FE$4","v":"Round"},{"$f":"'Data Entry'!$FS$3","v":{"$error":"#DIV/0!"}}]
[null,null,"(Main Yard Midsection Length Aft)","\"","\"","\"","\"","\"","\"",{"$f":"'Data Entry'!$FT$3","v":{"$error":"#DIV/0!"}}]
[null,null,"Main Topsail Yard",{"$f":"'Data Entry'!$BG$5","v":0},{"$f":"'Data Entry'!$CH$5","v":0},{"$f":"'Data Entry'!$BG$3","v":{"$error":"#DIV/0!"}},{"$f":"'Data Entry'!$CH$3","v":{"$error":"#DIV/0!"}},{"$f":"'Data Entry'!$EC$3","v":{"$error":"#DIV/0!"}},{"$f":"'Data Entry'!$FF$4","v":"Round"},{"$f":"'Data Entry'!$FU$3","v":{"$error":"#DIV/0!"}}]
[null,null,"Main Topgallant Yard",{"$f":"'Data Entry'!$BH$5","v":0},{"$f":"'Data Entry'!$CI$5","v":0},{"$f":"'Data Entry'!$BH$3","v":{"$error":"#DIV/0!"}},{"$f":"'Data Entry'!$CI$3","v":{"$error":"#DIV/0!"}},{"$f":"'Data Entry'!$ED$3","v":{"$error":"#DIV/0!"}},{"$f":"'Data Entry'!$FG$4","v":"Round"},{"$f":"'Data Entry'!$FV$3","v":{"$error":"#DIV/0!"}}]
[null,null,"Main Royal Yard",{"$f":"'Data Entry'!$BI$5","v":0},{"$f":"'Data Entry'!$CJ$5","v":0},{"$f":"'Data Entry'!$BI$3","v":{"$error":"#DIV/0!"}},{"$f":"'Data Entry'!$CJ$3","v":{"$error":"#DIV/0!"}},{"$f":"'Data Entry'!$EE$3","v":{"$error":"#DIV/0!"}},{"$f":"'Data Entry'!$FH$4","v":"Round"},{"$f":"'Data Entry'!$FW$3","v":{"$error":"#DIV/0!"}}]
[]
[null,null,"Fore Yard",{"$f":"'Data Entry'!$BJ$5","v":0},{"$f":"'Data Entry'!$CK$5","v":0},{"$f":"'Data Entry'!$BJ$3","v":{"$error":"#DIV/0!"}},{"$f":"'Data Entry'!$CK$3","v":{"$error":"#DIV/0!"}},{"$f":"'Data Entry'!$EF$3","v":{"$error":"#DIV/0!"}},{"$f":"'Data Entry'!$FI$4","v":"Round"},{"$f":"'Data Entry'!$FX$3","v":{"$error":"#DIV/0!"}}]
[null,null,"(Fore Yard Midsection Length Aft)","\"","\"","\"","\"","\"","\"",{"$f":"'Data Entry'!$FY$3","v":{"$error":"#DIV/0!"}}]
[null,null,"Fore Topsail Yard",{"$f":"'Data Entry'!$BK$5","v":0},{"$f":"'Data Entry'!$CL$5","v":0},{"$f":"'Data Entry'!$BK$3","v":{"$error":"#DIV/0!"}},{"$f":"'Data Entry'!$CL$3","v":{"$error":"#DIV/0!"}},{"$f":"'Data Entry'!$EG$3","v":{"$error":"#DIV/0!"}},{"$f":"'Data Entry'!$FJ$4","v":"Round"},{"$f":"'Data Entry'!$FZ$3","v":{"$error":"#DIV/0!"}}]
[null,null,"Fore Topgallant Yard",{"$f":"'Data Entry'!$BL$5","v":0},{"$f":"'Data Entry'!$CM$5","v":0},{"$f":"'Data Entry'!$BL$3","v":{"$error":"#DIV/0!"}},{"$f":"'Data Entry'!$CM$3","v":{"$error":"#DIV/0!"}},{"$f":"'Data Entry'!$EH$3","v":{"$error":"#DIV/0!"}},{"$f":"'Data Entry'!$FK$4","v":"Round"},{"$f":"'Data Entry'!$GA$3","v":{"$error":"#DIV/0!"}}]
[null,null,"Fore Royal Yard",{"$f":"'Data Entry'!$BM$5","v":0},{"$f":"'Data Entry'!$CN$5","v":0},{"$f":"'Data Entry'!$BM$3","v":{"$error":"#DIV/0!"}},{"$f":"'Data Entry'!$CN$3","v":{"$error":"#DIV/0!"}},{"$f":"'Data Entry'!$EI$3","v":{"$error":"#DIV/0!"}},{"$f":"'Data Entry'!$FL$4","v":"Round"}]
[]
[null,null,"Crossjack",{"$f":"'Data Entry'!$BN$5","v":0},{"$f":"'Data Entry'!$CO$5","v":0},{"$f":"'Data Entry'!$BN$3","v":{"$error":"#DIV/0!"}},{"$f":"'Data Entry'!$CO$3","v":{"$error":"#DIV/0!"}},{"$f":"'Data Entry'!$EJ$3","v":{"$error":"#DIV/0!"}},{"$f":"'Data Entry'!$FM$4","v":"Round"},{"$f":"'Data Entry'!$GC$3","v":{"$error":"#DIV/0!"}}]
[null,null,"Mizzen Topsail Yard",{"$f":"'Data Entry'!$BO$5","v":0},{"$f":"'Data Entry'!$CP$5","v":0},{"$f":"'Data Entry'!$BO$3","v":{"$error":"#DIV/0!"}},{"$f":"'Data Entry'!$CP$3","v":{"$error":"#DIV/0!"}},{"$f":"'Data Entry'!$EK$3","v":{"$error":"#DIV/0!"}},{"$f":"'Data Entry'!$FN$4","v":"Round"},{"$f":"'Data Entry'!$GD$3","v":{"$error":"#DIV/0!"}}]
[null,null,"Mizzen Topgallant Yard",{"$f":"'Data Entry'!$BP$5","v":0},{"$f":"'Data Entry'!$CQ$5","v":0},{"$f":"'Data Entry'!$BP$3","v":{"$error":"#DIV/0!"}},{"$f":"'Data Entry'!$CQ$3","v":{"$error":"#DIV/0!"}},{"$f":"'Data Entry'!$EL$3","v":{"$error":"#DIV/0!"}},{"$f":"'Data Entry'!$FO$4","v":"Round"},{"$f":"'Data Entry'!$GE$3","v":{"$error":"#DIV/0!"}}]
[null,null,"Mizzen Royal Yard",{"$f":"'Data Entry'!$BQ$5","v":0},{"$f":"'Data Entry'!$CR$5","v":0},{"$f":"'Data Entry'!$BQ$3","v":{"$error":"#DIV/0!"}},{"$f":"'Data Entry'!$CR$3","v":{"$error":"#DIV/0!"}},{"$f":"'Data Entry'!$EM$3","v":{"$error":"#DIV/0!"}},{"$f":"'Data Entry'!$FP$4","v":"Round"},{"$f":"'Data Entry'!$GF$3","v":{"$error":"#DIV/0!"}}]
[]
[null,null,"Spritsail Yard",{"$f":"'Data Entry'!$BW$5","v":0},{"$f":"'Data Entry'!$CX$5","v":0},{"$f":"'Data Entry'!$BW$3","v":{"$error":"#DIV/0!"}},{"$f":"'Data Entry'!$CX$3","v":{"$error":"#DIV/0!"}},{"$f":"'Data Entry'!$EU$3","v":{"$error":"#DIV/0!"}},{"$f":"'Data Entry'!$FQ$4","v":"Round"},{"$f":"'Data Entry'!$GG$3","v":{"$error":"#DIV/0!"}}]
[null,null,"Sprit Topsail Yard",{"$f":"'Data Entry'!$BX$5","v":0},{"$f":"'Data Entry'!$CY$5","v":0},{"$f":"'Data Entry'!$BX$3","v":{"$error":"#DIV/0!"}},{"$f":"'Data Entry'!$CY$3","v":{"$error":"#DIV/0!"}},{"$f":"'Data Entry'!$EV$3","v":{"$error":"#DIV/0!"}},{"$f":"'Data Entry'!$FR$4","v":"Round"},{"$f":"'Data Entry'!$GH$3","v":{"$error":"#DIV/0!"}}]
[]
[null,null,"Mizzen Yard (Lower Taper)",{"$f":"'Data Entry'!$BR$5","v":0},{"$f":"'Data Entry'!$CS$5","v":0},{"$f":"'Data Entry'!$BR$3","v":{"$error":"#DIV/0!"}},{"$f":"'Data Entry'!$CS$3","v":{"$error":"#DIV/0!"}},{"$f":"'Data Entry'!$EN$3","v":{"$error":"#DIV/0!"}},"Round"]
[null,null,"Mizzen Yard (Upper Taper)","\"","\"","\"","\"",{"$f":"'Data Entry'!$EO$3","v":{"$error":"#DIV/0!"}},"Round"]
[null,null,"Spanker Gaff",{"$f":"'Data Entry'!$BS$5","v":0},{"$f":"'Data Entry'!$CT$5","v":0},{"$f":"'Data Entry'!$BS$3","v":{"$error":"#DIV/0!"}},{"$f":"'Data Entry'!$CT$3","v":{"$error":"#DIV/0!"}},{"$f":"'Data Entry'!$EP$3","v":{"$error":"#DIV/0!"}},"Round"]
[null,null,"Trysail Gaff",{"$f":"'Data Entry'!$BT$5","v":0},{"$f":"'Data Entry'!$CU$5","v":0},{"$f":"'Data Entry'!$BT$3","v":{"$error":"#DIV/0!"}},{"$f":"'Data Entry'!$CU$3","v":{"$error":"#DIV/0!"}},{"$f":"'Data Entry'!$EQ$3","v":{"$error":"#DIV/0!"}},"Round"]
[null,null,"Driver Boom (Outer Taper)",{"$f":"'Data Entry'!$BU$5","v":0},{"$f":"'Data Entry'!$CV$5","v":0},{"$f":"'Data Entry'!$BU$3","v":{"$error":"#DIV/0!"}},{"$f":"'Data Entry'!$CV$3","v":{"$error":"#DIV/0!"}},{"$f":"'Data Entry'!$ES$3","v":{"$error":"#DIV/0!"}},"Round"]
[null,null,"Driver Boom (Inner Taper)","\"","\"","\"","\"",{"$f":"'Data Entry'!$ER$3","v":{"$error":"#DIV/0!"}},"Round"]
[null,null,"Driver Yard",{"$f":"'Data Entry'!$BV$5","v":0},{"$f":"'Data Entry'!$CW$5","v":0},{"$f":"'Data Entry'!$BV$3","v":{"$error":"#DIV/0!"}},{"$f":"'Data Entry'!$CW$3","v":{"$error":"#DIV/0!"}},{"$f":"'Data Entry'!$ET$3","v":{"$error":"#DIV/0!"}},"Round"]
[]
[null,null,"Main Lower Stunsail Booms",{"$f":"'Data Entry'!$BY$5","v":0},{"$f":"'Data Entry'!$CZ$5","v":0},{"$f":"'Data Entry'!$BY$3","v":{"$error":"#DIV/0!"}},{"$f":"'Data Entry'!$CZ$3","v":{"$error":"#DIV/0!"}},{"$f":"'Data Entry'!$EW$3","v":{"$error":"#DIV/0!"}},"Round"]
[null,null,"Main Topsail Stunsail Booms",{"$f":"'Data Entry'!$BZ$5","v":0},{"$f":"'Data Entry'!$DA$5","v":0},{"$f":"'Data Entry'!$BZ$3","v":{"$error":"#DIV/0!"}},{"$f":"'Data Entry'!$DA$3","v":{"$error":"#DIV/0!"}},{"$f":"'Data Entry'!$EX$3","v":{"$error":"#DIV/0!"}},"Round"]
[null,null,"Fore Lower Stunsail Booms",{"$f":"'Data Entry'!$CA$5","v":0},{"$f":"'Data Entry'!$DB$5","v":0},{"$f":"'Data Entry'!$CA$3","v":{"$error":"#DIV/0!"}},{"$f":"'Data Entry'!$DB$3","v":{"$error":"#DIV/0!"}},{"$f":"'Data Entry'!$EY$3","v":{"$error":"#DIV/0!"}},"Round"]
[null,null,"Fore Topsail Stunsail Booms",{"$f":"'Data Entry'!$CB$5","v":0},{"$f":"'Data Entry'!$DC$5","v":0},{"$f":"'Data Entry'!$CB$3","v":{"$error":"#DIV/0!"}},{"$f":"'Data Entry'!$DC$3","v":{"$error":"#DIV/0!"}},{"$f":"'Data Entry'!$EZ$3","v":{"$error":"#DIV/0!"}},"Round"]
[null,null,"Main Lower Stunsail Yards",{"$f":"'Data Entry'!$CC$5","v":0},{"$f":"'Data Entry'!$DD$5","v":0},{"$f":"'Data Entry'!$CC$3","v":{"$error":"#DIV/0!"}},{"$f":"'Data Entry'!$DD$3","v":{"$error":"#DIV/0!"}},{"$f":"'Data Entry'!$FA$3","v":{"$error":"#DIV/0!"}},"Round"]
[null,null,"Main Topsail Stunsail Yards",{"$f":"'Data Entry'!$CD$5","v":0},{"$f":"'Data Entry'!$DE$5","v":0},{"$f":"'Data Entry'!$CD$3","v":{"$error":"#DIV/0!"}},{"$f":"'Data Entry'!$DE$3","v":{"$error":"#DIV/0!"}},{"$f":"'Data Entry'!$FB$3","v":{"$error":"#DIV/0!"}},"Round"]
[null,null,"Fore Lower Stunsail Yards",{"$f":"'Data Entry'!$CE$5","v":0},{"$f":"'Data Entry'!$DF$5","v":0},{"$f":"'Data Entry'!$CE$3","v":{"$error":"#DIV/0!"}},{"$f":"'Data Entry'!$DF$3","v":{"$error":"#DIV/0!"}},{"$f":"'Data Entry'!$FC$3","v":{"$error":"#DIV/0!"}},"Round"]
[null,null,"Fore Topsail Stunsail Yards",{"$f":"'Data Entry'!$CF$5","v":0},{"$f":"'Data Entry'!$DG$5","v":0},{"$f":"'Data Entry'!$CF$3","v":{"$error":"#DIV/0!"}},{"$f":"'Data Entry'!$DG$3","v":{"$error":"#DIV/0!"}},{"$f":"'Data Entry'!$FD$3","v":{"$error":"#DIV/0!"}},"Round"]
[]
[]
[]
[]
[]
[]
[]
[]
[]
[]
[]
[]
[]
[]
[]
[]
[]
[]
[null,null,"Inch Entry","Original Dimensions (Feet)",null,"Scaled Dimensions (millimetres)"]
[null,null,"Yard","Length","Diameter","Length","Diameter","Taper Diameter","Midsection Type","Midsection Length"]
[null,null,"Main Yard",{"$f":"'Data Entry'!$BF$5","v":0},{"$f":"'Data Entry'!$CG$5","v":0},{"$f":"'Data Entry'!$BF$4","v":{"$error":"#DIV/0!"}},{"$f":"'Data Entry'!$CG$4","v":{"$error":"#DIV/0!"}},{"$f":"'Data Entry'!$EB$4","v":{"$error":"#DIV/0!"}},{"$f":"'Data Entry'!$FE$4","v":"Round"},{"$f":"'Data Entry'!$FS$4","v":{"$error":"#DIV/0!"}}]
[null,null,"(Main Yard Midsection Length Aft)","\"","\"","\"","\"","\"","\"",{"$f":"'Data Entry'!$FT$4","v":{"$error":"#DIV/0!"}}]
[null,null,"Main Topsail Yard",{"$f":"'Data Entry'!$BG$5","v":0},{"$f":"'Data Entry'!$CH$5","v":0},{"$f":"'Data Entry'!$BG$4","v":{"$error":"#DIV/0!"}},{"$f":"'Data Entry'!$CH$4","v":{"$error":"#DIV/0!"}},{"$f":"'Data Entry'!$EC$4","v":{"$error":"#DIV/0!"}},{"$f":"'Data Entry'!$FF$4","v":"Round"},{"$f":"'Data Entry'!$FU$4","v":{"$error":"#DIV/0!"}}]
[null,null,"Main Topgallant Yard",{"$f":"'Data Entry'!$BH$5","v":0},{"$f":"'Data Entry'!$CI$5","v":0},{"$f":"'Data Entry'!$BH$4","v":{"$error":"#DIV/0!"}},{"$f":"'Data Entry'!$CI$4","v":{"$error":"#DIV/0!"}},{"$f":"'Data Entry'!$ED$4","v":{"$error":"#DIV/0!"}},{"$f":"'Data Entry'!$FG$4","v":"Round"},{"$f":"'Data Entry'!$FV$4","v":{"$error":"#DIV/0!"}}]
[null,null,"Main Royal Yard",{"$f":"'Data Entry'!$BI$5","v":0},{"$f":"'Data Entry'!$CJ$5","v":0},{"$f":"'Data Entry'!$BI$4","v":{"$error":"#DIV/0!"}},{"$f":"'Data Entry'!$CJ$4","v":{"$error":"#DIV/0!"}},{"$f":"'Data Entry'!$EE$4","v":{"$error":"#DIV/0!"}},{"$f":"'Data Entry'!$FH$4","v":"Round"},{"$f":"'Data Entry'!$FW$4","v":{"$error":"#DIV/0!"}}]
[]
[null,null,"Fore Yard",{"$f":"'Data Entry'!$BJ$5","v":0},{"$f":"'Data Entry'!$CK$5","v":0},{"$f":"'Data Entry'!$BJ$4","v":{"$error":"#DIV/0!"}},{"$f":"'Data Entry'!$CK$4","v":{"$error":"#DIV/0!"}},{"$f":"'Data Entry'!$EF$4","v":{"$error":"#DIV/0!"}},{"$f":"'Data Entry'!$FI$4","v":"Round"},{"$f":"'Data Entry'!$FX$4","v":{"$error":"#DIV/0!"}}]
[null,null,"(Fore Yard Midsection Length Aft)","\"","\"","\"","\"","\"","\"",{"$f":"'Data Entry'!$FY$4","v":{"$error":"#DIV/0!"}}]
[null,null,"Fore Topsail Yard",{"$f":"'Data Entry'!$BK$5","v":0},{"$f":"'Data Entry'!$CL$5","v":0},{"$f":"'Data Entry'!$BK$4","v":{"$error":"#DIV/0!"}},{"$f":"'Data Entry'!$CL$4","v":{"$error":"#DIV/0!"}},{"$f":"'Data Entry'!$EG$4","v":{"$error":"#DIV/0!"}},{"$f":"'Data Entry'!$FJ$4","v":"Round"},{"$f":"'Data Entry'!$FZ$4","v":{"$error":"#DIV/0!"}}]
[null,null,"Fore Topgallant Yard",{"$f":"'Data Entry'!$BL$5","v":0},{"$f":"'Data Entry'!$CM$5","v":0},{"$f":"'Data Entry'!$BL$4","v":{"$error":"#DIV/0!"}},{"$f":"'Data Entry'!$CM$4","v":{"$error":"#DIV/0!"}},{"$f":"'Data Entry'!$EH$4","v":{"$error":"#DIV/0!"}},{"$f":"'Data Entry'!$FK$4","v":"Round"},{"$f":"'Data Entry'!$GA$4","v":{"$error":"#DIV/0!"}}]
[null,null,"Fore Royal Yard",{"$f":"'Data Entry'!$BM$5","v":0},{"$f":"'Data Entry'!$CN$5","v":0},{"$f":"'Data Entry'!$BM$4","v":{"$error":"#DIV/0!"}},{"$f":"'Data Entry'!$CN$4","v":{"$error":"#DIV/0!"}},{"$f":"'Data Entry'!$EI$4","v":{"$error":"#DIV/0!"}},{"$f":"'Data Entry'!$FL$4","v":"Round"}]
[]
[null,null,"Crossjack",{"$f":"'Data Entry'!$BN$5","v":0},{"$f":"'Data Entry'!$CO$5","v":0},{"$f":"'Data Entry'!$BN$4","v":{"$error":"#DIV/0!"}},{"$f":"'Data Entry'!$CO$4","v":{"$error":"#DIV/0!"}},{"$f":"'Data Entry'!$EJ$4","v":{"$error":"#DIV/0!"}},{"$f":"'Data Entry'!$FM$4","v":"Round"},{"$f":"'Data Entry'!$GC$4","v":{"$error":"#DIV/0!"}}]
[null,null,"Mizzen Topsail Yard",{"$f":"'Data Entry'!$BO$5","v":0},{"$f":"'Data Entry'!$CP$5","v":0},{"$f":"'Data Entry'!$BO$4","v":{"$error":"#DIV/0!"}},{"$f":"'Data Entry'!$CP$4","v":{"$error":"#DIV/0!"}},{"$f":"'Data Entry'!$EK$4","v":{"$error":"#DIV/0!"}},{"$f":"'Data Entry'!$FN$4","v":"Round"},{"$f":"'Data Entry'!$GD$4","v":{"$error":"#DIV/0!"}}]
[null,null,"Mizzen Topgallant Yard",{"$f":"'Data Entry'!$BP$5","v":0},{"$f":"'Data Entry'!$CQ$5","v":0},{"$f":"'Data Entry'!$BP$4","v":{"$error":"#DIV/0!"}},{"$f":"'Data Entry'!$CQ$4","v":{"$error":"#DIV/0!"}},{"$f":"'Data Entry'!$EL$4","v":{"$error":"#DIV/0!"}},{"$f":"'Data Entry'!$FO$4","v":"Round"},{"$f":"'Data Entry'!$GE$4","v":{"$error":"#DIV/0!"}}]
[null,null,"Mizzen Royal Yard",{"$f":"'Data Entry'!$BQ$5","v":0},{"$f":"'Data Entry'!$CR$5","v":0},{"$f":"'Data Entry'!$BQ$4","v":{"$error":"#DIV/0!"}},{"$f":"'Data Entry'!$CR$4","v":{"$error":"#DIV/0!"}},{"$f":"'Data Entry'!$EM$4","v":{"$error":"#DIV/0!"}},{"$f":"'Data Entry'!$FP$4","v":"Round"},{"$f":"'Data Entry'!$GF$4","v":{"$error":"#DIV/0!"}}]
[]
[null,null,"Spritsail Yard",{"$f":"'Data Entry'!$BW$5","v":0},{"$f":"'Data Entry'!$CX$5","v":0},{"$f":"'Data Entry'!$BW$4","v":{"$error":"#DIV/0!"}},{"$f":"'Data Entry'!$CX$4","v":{"$error":"#DIV/0!"}},{"$f":"'Data Entry'!$EU$4","v":{"$error":"#DIV/0!"}},{"$f":"'Data Entry'!$FQ$4","v":"Round"},{"$f":"'Data Entry'!$GG$4","v":{"$error":"#DIV/0!"}}]
[null,null,"Sprit Topsail Yard",{"$f":"'Data Entry'!$BX$5","v":0},{"$f":"'Data Entry'!$CY$5","v":0},{"$f":"'Data Entry'!$BX$4","v":{"$error":"#DIV/0!"}},{"$f":"'Data Entry'!$CY$4","v":{"$error":"#DIV/0!"}},{"$f":"'Data Entry'!$EV$4","v":{"$error":"#DIV/0!"}},{"$f":"'Data Entry'!$FR$4","v":"Round"},{"$f":"'Data Entry'!$GH$4","v":{"$error":"#DIV/0!"}}]
[]
[null,null,"Mizzen Yard (Lower Taper)",{"$f":"'Data Entry'!$BR$5","v":0},{"$f":"'Data Entry'!$CS$5","v":0},{"$f":"'Data Entry'!$BR$4","v":{"$error":"#DIV/0!"}},{"$f":"'Data Entry'!$CS$4","v":{"$error":"#DIV/0!"}},{"$f":"'Data Entry'!$EN$4","v":{"$error":"#DIV/0!"}},"Round"]
[null,null,"Mizzen Yard (Upper Taper)","\"","\"","\"","\"",{"$f":"'Data Entry'!$EO$4","v":{"$error":"#DIV/0!"}},"Round"]
[null,null,"Spanker Gaff",{"$f":"'Data Entry'!$BS$5","v":0},{"$f":"'Data Entry'!$CT$5","v":0},{"$f":"'Data Entry'!$BS$4","v":{"$error":"#DIV/0!"}},{"$f":"'Data Entry'!$CT$4","v":{"$error":"#DIV/0!"}},{"$f":"'Data Entry'!$EP$4","v":{"$error":"#DIV/0!"}},"Round"]
[null,null,"Trysail Gaff",{"$f":"'Data Entry'!$BT$5","v":0},{"$f":"'Data Entry'!$CU$5","v":0},{"$f":"'Data Entry'!$BT$4","v":{"$error":"#DIV/0!"}},{"$f":"'Data Entry'!$CU$4","v":{"$error":"#DIV/0!"}},{"$f":"'Data Entry'!$EQ$4","v":{"$error":"#DIV/0!"}},"Round"]
[null,null,"Driver Boom (Outer Taper)",{"$f":"'Data Entry'!$BU$5","v":0},{"$f":"'Data Entry'!$CV$5","v":0},{"$f":"'Data Entry'!$BU$4","v":{"$error":"#DIV/0!"}},{"$f":"'Data Entry'!$CV$4","v":{"$error":"#DIV/0!"}},{"$f":"'Data Entry'!$ES$4","v":{"$error":"#DIV/0!"}},"Round"]
[null,null,"Driver Boom (Inner Taper)","\"","\"","\"","\"",{"$f":"'Data Entry'!$ER$4","v":{"$error":"#DIV/0!"}},"Round"]
[null,null,"Driver Yard",{"$f":"'Data Entry'!$BV$5","v":0},{"$f":"'Data Entry'!$CW$5","v":0},{"$f":"'Data Entry'!$BV$4","v":{"$error":"#DIV/0!"}},{"$f":"'Data Entry'!$CW$4","v":{"$error":"#DIV/0!"}},{"$f":"'Data Entry'!$ET$4","v":{"$error":"#DIV/0!"}},"Round"]
[]
[null,null,"Main Lower Stunsail Booms",{"$f":"'Data Entry'!$BY$5","v":0},{"$f":"'Data Entry'!$CZ$5","v":0},{"$f":"'Data Entry'!$BY$4","v":{"$error":"#DIV/0!"}},{"$f":"'Data Entry'!$CZ$4","v":{"$error":"#DIV/0!"}},{"$f":"'Data Entry'!$EW$4","v":{"$error":"#DIV/0!"}},"Round"]
[null,null,"Main Topsail Stunsail Booms",{"$f":"'Data Entry'!$BZ$5","v":0},{"$f":"'Data Entry'!$DA$5","v":0},{"$f":"'Data Entry'!$BZ$4","v":{"$error":"#DIV/0!"}},{"$f":"'Data Entry'!$DA$4","v":{"$error":"#DIV/0!"}},{"$f":"'Data Entry'!$EX$4","v":{"$error":"#DIV/0!"}},"Round"]
[null,null,"Fore Lower Stunsail Booms",{"$f":"'Data Entry'!$CA$5","v":0},{"$f":"'Data Entry'!$DB$5","v":0},{"$f":"'Data Entry'!$CA$4","v":{"$error":"#DIV/0!"}},{"$f":"'Data Entry'!$DB$4","v":{"$error":"#DIV/0!"}},{"$f":"'Data Entry'!$EY$4","v":{"$error":"#DIV/0!"}},"Round"]
[null,null,"Fore Topsail Stunsail Booms",{"$f":"'Data Entry'!$CB$5","v":0},{"$f":"'Data Entry'!$DC$5","v":0},{"$f":"'Data Entry'!$CB$4","v":{"$error":"#DIV/0!"}},{"$f":"'Data Entry'!$DC$4","v":{"$error":"#DIV/0!"}},{"$f":"'Data Entry'!$EZ$4","v":{"$error":"#DIV/0!"}},"Round"]
[null,null,"Main Lower Stunsail Yards",{"$f":"'Data Entry'!$CC$5","v":0},{"$f":"'Data Entry'!$DD$5","v":0},{"$f":"'Data Entry'!$CC$4","v":{"$error":"#DIV/0!"}},{"$f":"'Data Entry'!$DD$4","v":{"$error":"#DIV/0!"}},{"$f":"'Data Entry'!$FA$4","v":{"$error":"#DIV/0!"}},"Round"]
[null,null,"Main Topsail Stunsail Yards",{"$f":"'Data Entry'!$CD$5","v":0},{"$f":"'Data Entry'!$DE$5","v":0},{"$f":"'Data Entry'!$CD$4","v":{"$error":"#DIV/0!"}},{"$f":"'Data Entry'!$DE$4","v":{"$error":"#DIV/0!"}},{"$f":"'Data Entry'!$FB$4","v":{"$error":"#DIV/0!"}},"Round"]
[null,null,"Fore Lower Stunsail Yards",{"$f":"'Data Entry'!$CE$5","v":0},{"$f":"'Data Entry'!$DF$5","v":0},{"$f":"'Data Entry'!$CE$4","v":{"$error":"#DIV/0!"}},{"$f":"'Data Entry'!$DF$4","v":{"$error":"#DIV/0!"}},{"$f":"'Data Entry'!$FC$4","v":{"$error":"#DIV/0!"}},"Round"]
[null,null,"Fore Topsail Stunsail Yards",{"$f":"'Data Entry'!$CF$5","v":0},{"$f":"'Data Entry'!$DG$5","v":0},{"$f":"'Data Entry'!$CF$4","v":{"$error":"#DIV/0!"}},{"$f":"'Data Entry'!$DG$4","v":{"$error":"#DIV/0!"}},{"$f":"'Data Entry'!$FD$4","v":{"$error":"#DIV/0!"}},"Round"]
[]
[]
[]
[]
[]
[]
[]
[]
[]
[]
[]
[]
[]
[]
[]
[]
[]
[]
[null,null,"Metric Entry","Original Dimensions (Metres)",null,"Scaled Dimensions (inches)"]
[null,null,"Yard","Length","Diameter","Length","Diameter","Taper Diameter","Midsection Type","Midsection Length"]
[null,null,"Main Yard",{"$f":"'Data Entry'!$BF$7","v":0},{"$f":"'Data Entry'!$CG$7","v":0},{"$f":"'Data Entry'!$BF$3","v":{"$error":"#DIV/0!"}},{"$f":"'Data Entry'!$CG$4","v":{"$error":"#DIV/0!"}},{"$f":"'Data Entry'!$EB$4","v":{"$error":"#DIV/0!"}},{"$f":"'Data Entry'!$FE$4","v":"Round"},{"$f":"'Data Entry'!$FS$4","v":{"$error":"#DIV/0!"}}]
[null,null,"(Main Yard Midsection Length Aft)","\"","\"","\"","\"","\"","\"",{"$f":"'Data Entry'!$FT$4","v":{"$error":"#DIV/0!"}}]
[null,null,"Main Topsail Yard",{"$f":"'Data Entry'!$BG$7","v":0},{"$f":"'Data Entry'!$CH$7","v":0},{"$f":"'Data Entry'!$BG$3","v":{"$error":"#DIV/0!"}},{"$f":"'Data Entry'!$CH$4","v":{"$error":"#DIV/0!"}},{"$f":"'Data Entry'!$EC$4","v":{"$error":"#DIV/0!"}},{"$f":"'Data Entry'!$FF$4","v":"Round"},{"$f":"'Data Entry'!$FU$4","v":{"$error":"#DIV/0!"}}]
[null,null,"Main Topgallant Yard",{"$f":"'Data Entry'!$BH$7","v":0},{"$f":"'Data Entry'!$CI$7","v":0},{"$f":"'Data Entry'!$BH$3","v":{"$error":"#DIV/0!"}},{"$f":"'Data Entry'!$CI$4","v":{"$error":"#DIV/0!"}},{"$f":"'Data Entry'!$ED$4","v":{"$error":"#DIV/0!"}},{"$f":"'Data Entry'!$FG$4","v":"Round"},{"$f":"'Data Entry'!$FV$4","v":{"$error":"#DIV/0!"}}]
[null,null,"Main Royal Yard",{"$f":"'Data Entry'!$BI$7","v":0},{"$f":"'Data Entry'!$CJ$7","v":0},{"$f":"'Data Entry'!$BI$3","v":{"$error":"#DIV/0!"}},{"$f":"'Data Entry'!$CJ$4","v":{"$error":"#DIV/0!"}},{"$f":"'Data Entry'!$EE$4","v":{"$error":"#DIV/0!"}},{"$f":"'Data Entry'!$FH$4","v":"Round"},{"$f":"'Data Entry'!$FW$4","v":{"$error":"#DIV/0!"}}]
[]
[null,null,"Fore Yard",{"$f":"'Data Entry'!$BJ$7","v":0},{"$f":"'Data Entry'!$CK$7","v":0},{"$f":"'Data Entry'!$BJ$3","v":{"$error":"#DIV/0!"}},{"$f":"'Data Entry'!$CK$4","v":{"$error":"#DIV/0!"}},{"$f":"'Data Entry'!$EF$4","v":{"$error":"#DIV/0!"}},{"$f":"'Data Entry'!$FI$4","v":"Round"},{"$f":"'Data Entry'!$FX$4","v":{"$error":"#DIV/0!"}}]
[null,null,"(Fore Yard Midsection Length Aft)","\"","\"","\"","\"","\"","\"",{"$f":"'Data Entry'!$FY$4","v":{"$error":"#DIV/0!"}}]
[null,null,"Fore Topsail Yard",{"$f":"'Data Entry'!$BK$7","v":0},{"$f":"'Data Entry'!$CL$7","v":0},{"$f":"'Data Entry'!$BK$3","v":{"$error":"#DIV/0!"}},{"$f":"'Data Entry'!$CL$4","v":{"$error":"#DIV/0!"}},{"$f":"'Data Entry'!$EG$4","v":{"$error":"#DIV/0!"}},{"$f":"'Data Entry'!$FJ$4","v":"Round"},{"$f":"'Data Entry'!$FZ$4","v":{"$error":"#DIV/0!"}}]
[null,null,"Fore Topgallant Yard",{"$f":"'Data Entry'!$BL$7","v":0},{"$f":"'Data Entry'!$CM$7","v":0},{"$f":"'Data Entry'!$BL$3","v":{"$error":"#DIV/0!"}},{"$f":"'Data Entry'!$CM$4","v":{"$error":"#DIV/0!"}},{"$f":"'Data Entry'!$EH$4","v":{"$error":"#DIV/0!"}},{"$f":"'Data Entry'!$FK$4","v":"Round"},{"$f":"'Data Entry'!$GA$4","v":{"$error":"#DIV/0!"}}]
[null,null,"Fore Royal Yard",{"$f":"'Data Entry'!$BM$7","v":0},{"$f":"'Data Entry'!$CN$7","v":0},{"$f":"'Data Entry'!$BM$3","v":{"$error":"#DIV/0!"}},{"$f":"'Data Entry'!$CN$4","v":{"$error":"#DIV/0!"}},{"$f":"'Data Entry'!$EI$4","v":{"$error":"#DIV/0!"}},{"$f":"'Data Entry'!$FL$4","v":"Round"}]
[]
[null,null,"Crossjack",{"$f":"'Data Entry'!$BN$7","v":0},{"$f":"'Data Entry'!$CO$7","v":0},{"$f":"'Data Entry'!$BN$3","v":{"$error":"#DIV/0!"}},{"$f":"'Data Entry'!$CO$4","v":{"$error":"#DIV/0!"}},{"$f":"'Data Entry'!$EJ$4","v":{"$error":"#DIV/0!"}},{"$f":"'Data Entry'!$FM$4","v":"Round"},{"$f":"'Data Entry'!$GC$4","v":{"$error":"#DIV/0!"}}]
[null,null,"Mizzen Topsail Yard",{"$f":"'Data Entry'!$BO$7","v":0},{"$f":"'Data Entry'!$CP$7","v":0},{"$f":"'Data Entry'!$BO$3","v":{"$error":"#DIV/0!"}},{"$f":"'Data Entry'!$CP$4","v":{"$error":"#DIV/0!"}},{"$f":"'Data Entry'!$EK$4","v":{"$error":"#DIV/0!"}},{"$f":"'Data Entry'!$FN$4","v":"Round"},{"$f":"'Data Entry'!$GD$4","v":{"$error":"#DIV/0!"}}]
[null,null,"Mizzen Topgallant Yard",{"$f":"'Data Entry'!$BP$7","v":0},{"$f":"'Data Entry'!$CQ$7","v":0},{"$f":"'Data Entry'!$BP$3","v":{"$error":"#DIV/0!"}},{"$f":"'Data Entry'!$CQ$4","v":{"$error":"#DIV/0!"}},{"$f":"'Data Entry'!$EL$4","v":{"$error":"#DIV/0!"}},{"$f":"'Data Entry'!$FO$4","v":"Round"},{"$f":"'Data Entry'!$GE$4","v":{"$error":"#DIV/0!"}}]
[null,null,"Mizzen Royal Yard",{"$f":"'Data Entry'!$BQ$7","v":0},{"$f":"'Data Entry'!$CR$7","v":0},{"$f":"'Data Entry'!$BQ$3","v":{"$error":"#DIV/0!"}},{"$f":"'Data Entry'!$CR$4","v":{"$error":"#DIV/0!"}},{"$f":"'Data Entry'!$EM$4","v":{"$error":"#DIV/0!"}},{"$f":"'Data Entry'!$FP$4","v":"Round"},{"$f":"'Data Entry'!$GF$4","v":{"$error":"#DIV/0!"}}]
[]
[null,null,"Spritsail Yard",{"$f":"'Data Entry'!$BW$7","v":0},{"$f":"'Data Entry'!$CX$7","v":0},{"$f":"'Data Entry'!$BW$3","v":{"$error":"#DIV/0!"}},{"$f":"'Data Entry'!$CX$4","v":{"$error":"#DIV/0!"}},{"$f":"'Data Entry'!$EU$4","v":{"$error":"#DIV/0!"}},{"$f":"'Data Entry'!$FQ$4","v":"Round"},{"$f":"'Data Entry'!$GG$4","v":{"$error":"#DIV/0!"}}]
[null,null,"Sprit Topsail Yard",{"$f":"'Data Entry'!$BX$7","v":0},{"$f":"'Data Entry'!$CY$7","v":0},{"$f":"'Data Entry'!$BX$3","v":{"$error":"#DIV/0!"}},{"$f":"'Data Entry'!$CY$4","v":{"$error":"#DIV/0!"}},{"$f":"'Data Entry'!$EV$4","v":{"$error":"#DIV/0!"}},{"$f":"'Data Entry'!$FR$4","v":"Round"},{"$f":"'Data Entry'!$GH$4","v":{"$error":"#DIV/0!"}}]
[]
[null,null,"Mizzen Yard (Lower Taper)",{"$f":"'Data Entry'!$BR$7","v":0},{"$f":"'Data Entry'!$CS$7","v":0},{"$f":"'Data Entry'!$BR$3","v":{"$error":"#DIV/0!"}},{"$f":"'Data Entry'!$CS$4","v":{"$error":"#DIV/0!"}},{"$f":"'Data Entry'!$EN$4","v":{"$error":"#DIV/0!"}},"Round"]
[null,null,"Mizzen Yard (Upper Taper)","\"","\"","\"","\"",{"$f":"'Data Entry'!$EO$4","v":{"$error":"#DIV/0!"}},"Round"]
[null,null,"Spanker Gaff",{"$f":"'Data Entry'!$BS$7","v":0},{"$f":"'Data Entry'!$CT$7","v":0},{"$f":"'Data Entry'!$BS$3","v":{"$error":"#DIV/0!"}},{"$f":"'Data Entry'!$CT$4","v":{"$error":"#DIV/0!"}},{"$f":"'Data Entry'!$EP$4","v":{"$error":"#DIV/0!"}},"Round"]
[null,null,"Trysail Gaff",{"$f":"'Data Entry'!$BT$7","v":0},{"$f":"'Data Entry'!$CU$7","v":0},{"$f":"'Data Entry'!$BT$3","v":{"$error":"#DIV/0!"}},{"$f":"'Data Entry'!$CU$4","v":{"$error":"#DIV/0!"}},{"$f":"'Data Entry'!$EQ$4","v":{"$error":"#DIV/0!"}},"Round"]
[null,null,"Driver Boom (Outer Taper)",{"$f":"'Data Entry'!$BU$7","v":0},{"$f":"'Data Entry'!$CV$7","v":0},{"$f":"'Data Entry'!$BU$3","v":{"$error":"#DIV/0!"}},{"$f":"'Data Entry'!$CV$4","v":{"$error":"#DIV/0!"}},{"$f":"'Data Entry'!$ES$4","v":{"$error":"#DIV/0!"}},"Round"]
[null,null,"Driver Boom (Inner Taper)","\"","\"","\"","\"",{"$f":"'Data Entry'!$ER$4","v":{"$error":"#DIV/0!"}},"Round"]
[null,null,"Driver Yard",{"$f":"'Data Entry'!$BV$7","v":0},{"$f":"'Data Entry'!$CW$7","v":0},{"$f":"'Data Entry'!$BV$3","v":{"$error":"#DIV/0!"}},{"$f":"'Data Entry'!$CW$4","v":{"$error":"#DIV/0!"}},{"$f":"'Data Entry'!$ET$4","v":{"$error":"#DIV/0!"}},"Round"]
[]
[null,null,"Main Lower Stunsail Booms",{"$f":"'Data Entry'!$BY$7","v":0},{"$f":"'Data Entry'!$CZ$7","v":0},{"$f":"'Data Entry'!$BY$3","v":{"$error":"#DIV/0!"}},{"$f":"'Data Entry'!$CZ$4","v":{"$error":"#DIV/0!"}},{"$f":"'Data Entry'!$EW$4","v":{"$error":"#DIV/0!"}},"Round"]
[null,null,"Main Topsail Stunsail Booms",{"$f":"'Data Entry'!$BZ$7","v":0},{"$f":"'Data Entry'!$DA$7","v":0},{"$f":"'Data Entry'!$BZ$3","v":{"$error":"#DIV/0!"}},{"$f":"'Data Entry'!$DA$4","v":{"$error":"#DIV/0!"}},{"$f":"'Data Entry'!$EX$4","v":{"$error":"#DIV/0!"}},"Round"]
[null,null,"Fore Lower Stunsail Booms",{"$f":"'Data Entry'!$CA$7","v":0},{"$f":"'Data Entry'!$DB$7","v":0},{"$f":"'Data Entry'!$CA$3","v":{"$error":"#DIV/0!"}},{"$f":"'Data Entry'!$DB$4","v":{"$error":"#DIV/0!"}},{"$f":"'Data Entry'!$EY$4","v":{"$error":"#DIV/0!"}},"Round"]
[null,null,"Fore Topsail Stunsail Booms",{"$f":"'Data Entry'!$CB$7","v":0},{"$f":"'Data Entry'!$DC$7","v":0},{"$f":"'Data Entry'!$CB$3","v":{"$error":"#DIV/0!"}},{"$f":"'Data Entry'!$DC$4","v":{"$error":"#DIV/0!"}},{"$f":"'Data Entry'!$EZ$4","v":{"$error":"#DIV/0!"}},"Round"]
[null,null,"Main Lower Stunsail Yards",{"$f":"'Data Entry'!$CC$7","v":0},{"$f":"'Data Entry'!$DD$7","v":0},{"$f":"'Data Entry'!$CC$3","v":{"$error":"#DIV/0!"}},{"$f":"'Data Entry'!$DD$4","v":{"$error":"#DIV/0!"}},{"$f":"'Data Entry'!$FA$4","v":{"$error":"#DIV/0!"}},"Round"]
[null,null,"Main Topsail Stunsail Yards",{"$f":"'Data Entry'!$CD$7","v":0},{"$f":"'Data Entry'!$DE$7","v":0},{"$f":"'Data Entry'!$CD$3","v":{"$error":"#DIV/0!"}},{"$f":"'Data Entry'!$DE$4","v":{"$error":"#DIV/0!"}},{"$f":"'Data Entry'!$FB$4","v":{"$error":"#DIV/0!"}},"Round"]
[null,null,"Fore Lower Stunsail Yards",{"$f":"'Data Entry'!$CE$7","v":0},{"$f":"'Data Entry'!$DF$7","v":0},{"$f":"'Data Entry'!$CE$3","v":{"$error":"#DIV/0!"}},{"$f":"'Data Entry'!$DF$4","v":{"$error":"#DIV/0!"}},{"$f":"'Data Entry'!$FC$4","v":{"$error":"#DIV/0!"}},"Round"]
[null,null,"Fore Topsail Stunsail Yards",{"$f":"'Data Entry'!$CF$7","v":0},{"$f":"'Data Entry'!$DG$7","v":0},{"$f":"'Data Entry'!$CF$3","v":{"$error":"#DIV/0!"}},{"$f":"'Data Entry'!$DG$4","v":{"$error":"#DIV/0!"}},{"$f":"'Data Entry'!$FD$4","v":{"$error":"#DIV/0!"}},"Round"]

{"sheet":"Standing","index":6,"n_rows":60,"n_cols":45,"rows_kept":60,"cut":false,"hidden":false,"merged":[[6,20,7,20],[6,21,6,22],[6,38,7,38],[6,39,6,40],[6,41,6,42],[6,23,6,24],[6,29,7,29],[6,30,6,31],[6,32,6,33],[6,14,6,15],[6,3,6,4],[6,5,6,6],[6,2,7,2],[6,11,7,11],[6,12,6,13]]}
[]
[]
[]
[]
[]
[]
[null,null,"Bowsprit","Original Size (Inches)",null,"Original Size (Millimeters)",null,"Scale Size - Inches","Scale Size - mm",null,null,"Foremast","Original Size (Inches)",null,"Original Size (Millimeters)",null,"Scale Size - Inches","Scale Size - mm",null,null,"Mainmast","Original Size (Inches)",null,"Original Size (Millimeters)",null,"Scale Size - Inches","Scale Size - mm",null,null,"Mizzenmast","Original Size (Inches)",null,"Original Size (Millimeters)",null,"Scale Size - Inches","Scale Size - mm",null,null,"Miscellaneous","Original Size (Inches)",null,"Original Size (Millimetres)",null,"Scale Size - Inches","Scale Size - mm"]
[null,null,null,"Circ.","Dia.","Circ.","Dia.","Dia.","Dia.",null,null,null,"Circ.","Dia.","Circ.","Dia.","Dia.","Dia.",null,null,null,"Circ.","Dia.","Circ.","Dia.","Dia.","Dia.",null,null,null,"Circ.","Dia.","Circ.","Dia.","Dia.","Dia.",null,null,null,"Circ.","Dia.","Circ.","Dia.","Dia.","Dia."]
[null,null,"Bobstay",{"$f":"E9*(22/7)","v":0},{"$f":"'Running Calcs'!X5","v":0},{"$f":"G9*(22/7)","v":0},{"$f":"'Running Calcs'!X6","v":0},{"$f":"'Running Calcs'!X3","v":{"$error":"#DIV/0!"}},{"$f":"'Running Calcs'!X4","v":{"$error":"#DIV/0!"}},null,null,"Fore Pendants",{"$f":"N9*(22/7)","v":0},{"$f":"N28","v":0},{"$f":"P9*(22/7)","v":0},{"$f":"P28","v":0},{"$f":"Q28","v":{"$error":"#DIV/0!"}},{"$f":"R28","v":{"$error":"#DIV/0!"}},null,null,"Main Pendants",{"$f":"W9*(22/7)","v":0},{"$f":"W28","v":0},{"$f":"Y9*(22/7)","v":0},{"$f":"Y28","v":0},{"$f":"Z28","v":{"$error":"#DIV/0!"}},{"$f":"AA28","v":{"$error":"#DIV/0!"}},null,null,"Mizzen Lower Burton Pendants",{"$f":"AF9*(22/7)","v":0},{"$f":"AF11*0.66","v":0},{"$f":"AH9*(22/7)","v":0},{"$f":"AH11*0.66","v":0},{"$f":"AI11*0.66","v":{"$error":"#DIV/0!"}},{"$f":"AJ11*0.66","v":{"$error":"#DIV/0!"}},null,null,"Garnet Pendant",{"$f":"AO9*(22/7)","v":0},{"$f":"W9*0.9","v":0},{"$f":"AQ9*(22/7)","v":0},{"$f":"Y9*0.9","v":0},{"$f":"Z9*0.9","v":{"$error":"#DIV/0!"}},{"$f":"AA9*0.9","v":{"$error":"#DIV/0!"}}]
[null,null,"Bobstay Collar",0,{"$f":"E9","v":0},0,{"$f":"G9","v":0},{"$f":"H9","v":{"$error":"#DIV/0!"}},{"$f":"I9","v":{"$error":"#DIV/0!"}},null,null,"Fore Pendant Runners",0,{"$f":"N9*0.66","v":0},0,{"$f":"P9*0.66","v":0},{"$error":"#DIV/0!"},{"$error":"#DIV/0!"},null,null,"Main Pendant Runners",0,{"$f":"W9*0.66","v":0},0,{"$f":"Y9*0.66","v":0},{"$error":"#DIV/0!"},{"$error":"#DIV/0!"},null,null,"Mizzen Lower Burton Pendant Falls",0,{"$f":"AF9*0.66","v":0},0,{"$f":"AH9*0.66","v":0},{"$f":"AI9*0.66","v":{"$error":"#DIV/0!"}},{"$f":"AJ9*0.66","v":{"$error":"#DIV/0!"}},null,null,"Garnet Pendant Runner",0,{"$f":"AO9*0.8","v":0},0,{"$f":"AQ9*0.8","v":0},{"$f":"AR9*0.8","v":{"$error":"#DIV/0!"}},{"$f":"AS9*0.8","v":{"$error":"#DIV/0!"}}]
[null,null,"Gammoning",0,{"$f":"N12*0.44","v":0},0,{"$f":"P12*0.44","v":0},{"$f":"Q12*0.44","v":{"$error":"#DIV/0!"}},{"$f":"R12*0.44","v":{"$error":"#DIV/0!"}},null,null,"Fore Pendant Falls",0,{"$f":"N10*0.66","v":0},0,0,{"$error":"#DIV/0!"},{"$error":"#DIV/0!"},null,null,"Main Pendant Falls",0,{"$f":"W10*0.66","v":0},0,0,{"$error":"#DIV/0!"},{"$error":"#DIV/0!"},null,null,"Mizzen Stay",0,{"$f":"'Running Calcs'!L5","v":0},0,{"$f":"'Running Calcs'!L6","v":0},{"$f":"'Running Calcs'!L3","v":{"$error":"#DIV/0!"}},{"$f":"'Running Calcs'!L4","v":{"$error":"#DIV/0!"}},null,null,"Garnet Pendant Guy",0,{"$f":"AO10*0.66","v":0},0,{"$f":"AQ10*0.66","v":0},{"$f":"AR10*0.66","v":{"$error":"#DIV/0!"}},{"$f":"AS10*0.66","v":{"$error":"#DIV/0!"}}]
[null,null,"Bowsprit Shrouds",0,{"$f":"E11","v":0},0,{"$f":"G11","v":0},{"$f":"H11","v":{"$error":"#DIV/0!"}},{"$f":"I11","v":{"$error":"#DIV/0!"}},null,null,"Fore Stay",0,{"$f":"'Running Calcs'!H5","v":0},0,{"$f":"'Running Calcs'!H6","v":0},{"$f":"'Running Calcs'!H3","v":{"$error":"#DIV/0!"}},{"$f":"'Running Calcs'!H4","v":{"$error":"#DIV/0!"}},null,null,"Main Stay",0,{"$f":"'Running Calcs'!D5","v":0},0,{"$f":"'Running Calcs'!D6","v":0},{"$f":"'Running Calcs'!D3","v":{"$error":"#DIV/0!"}},{"$f":"'Running Calcs'!D4","v":{"$error":"#DIV/0!"}},null,null,"Mizzen Stay Collar",0,{"$f":"AF11*0.8","v":0},0,{"$f":"AH11*0.8","v":0},{"$f":"AI11*0.8","v":{"$error":"#DIV/0!"}},{"$f":"AJ11*0.8","v":{"$error":"#DIV/0!"}},null,null,"Garnet Pendant Falls",0,{"$f":"AO10*0.66","v":0},0,{"$f":"AQ10*0.66","v":0},{"$f":"AR10*0.66","v":{"$error":"#DIV/0!"}},{"$f":"AS10*0.66","v":{"$error":"#DIV/0!"}}]
[null,null,"Bowsprit Shroud Collar",0,{"$f":"E12*0.8","v":0},0,{"$f":"G12*0.8","v":0},{"$f":"H12*0.8","v":{"$error":"#DIV/0!"}},{"$f":"I12*0.8","v":{"$error":"#DIV/0!"}},null,null,"Fore Stay Collar",0,{"$f":"'Running Calcs'!Q5","v":0},0,{"$f":"'Running Calcs'!Q6","v":0},{"$f":"'Running Calcs'!Q3","v":{"$error":"#DIV/0!"}},{"$f":"'Running Calcs'!Q4","v":{"$error":"#DIV/0!"}},null,null,"Main Stay Collar",0,{"$f":"'Running Calcs'!P5","v":0},0,{"$f":"'Running Calcs'!P6","v":0},{"$f":"'Running Calcs'!P3","v":{"$error":"#DIV/0!"}},{"$f":"'Running Calcs'!P4","v":{"$error":"#DIV/0!"}},null,null,"Mizzen Stay Lanyard & Tackle",0,{"$f":"AF11*0.33","v":0},0,{"$f":"AH11*0.33","v":0},{"$f":"AI11*0.33","v":{"$error":"#DIV/0!"}},{"$f":"AJ11*0.33","v":{"$error":"#DIV/0!"}},null,null,"Stay Tackle Pendant",0,{"$f":"W12*0.35","v":0},0,{"$f":"Y12*0.35","v":0},{"$f":"Z12*0.35","v":{"$error":"#DIV/0!"}},{"$f":"AA12*0.35","v":{"$error":"#DIV/0!"}}]
[null,null,"Bowsprit Shroud Lanyards",0,{"$f":"E13/2","v":0},0,{"$f":"G13/2","v":0},{"$f":"H13/2","v":{"$error":"#DIV/0!"}},{"$f":"I13/2","v":{"$error":"#DIV/0!"}},null,null,"Fore Stay Lanyard & Tackle",0,{"$f":"N12*0.33","v":0},0,{"$f":"P12*0.33","v":0},{"$f":"Q12*0.33","v":{"$error":"#DIV/0!"}},{"$f":"R12*0.33","v":{"$error":"#DIV/0!"}},null,null,"Main Stay Lanyard & Tackle",0,{"$f":"W12*0.33","v":0},0,{"$f":"Y12*0.33","v":0},{"$f":"Z12*0.33","v":{"$error":"#DIV/0!"}},{"$f":"AA12*0.33","v":{"$error":"#DIV/0!"}},null,null,"Mizzen Preventer Stay",0,{"$f":"AF11","v":0},0,{"$f":"AH11","v":0},{"$f":"AI11","v":{"$error":"#DIV/0!"}},{"$f":"AJ11","v":{"$error":"#DIV/0!"}},null,null,"Fore Hatch Stay Tackle",3,{"$f":"3/(22/7)","v":0.95454545454545459},{"$error":"#DIV/0!"},{"$f":"AS14*scale","v":{"$error":"#DIV/0!"}},{"$f":"(AO14*12)/scale","v":{"$error":"#DIV/0!"}},{"$f":"AR14*(25.4/12)","v":{"$error":"#DIV/0!"}}]
[null,null,"Bowsprit Horse",{"$f":"E15*(22/7)","v":0},{"$f":"E11*0.6","v":0},{"$f":"G15*(22/7)","v":0},{"$f":"G11*0.6","v":0},{"$f":"H11*0.6","v":{"$error":"#DIV/0!"}},{"$f":"I11*0.6","v":{"$error":"#DIV/0!"}},null,null,"Fore Preventer Stay",0,{"$f":"'Running Calcs'!S5","v":0},0,{"$f":"'Running Calcs'!S6","v":0},{"$f":"'Running Calcs'!S3","v":{"$error":"#DIV/0!"}},{"$f":"'Running Calcs'!S4","v":{"$error":"#DIV/0!"}},null,null,"Main Preventer Stay",0,{"$f":"'Running Calcs'!R5","v":0},0,{"$f":"'Running Calcs'!R6","v":0},{"$f":"'Running Calcs'!R3","v":{"$error":"#DIV/0!"}},{"$f":"'Running Calcs'!R4","v":{"$error":"#DIV/0!"}},null,null,"Mizzen Preventer Stay Collar",0,{"$f":"AF14*0.8","v":0},0,{"$f":"AH14*0.8","v":0},{"$f":"AI14*0.8","v":{"$error":"#DIV/0!"}},{"$f":"AJ14*0.8","v":{"$error":"#DIV/0!"}},null,null,"Winding Tackle Pendant",0,{"$f":"W15","v":0},0,{"$f":"Y15","v":0},{"$f":"Z15","v":{"$error":"#DIV/0!"}},{"$f":"AA15","v":{"$error":"#DIV/0!"}}]
[null,null,"Jib Boom Guy Pendants",0,{"$f":"E9/2","v":0},0,{"$f":"G9/2","v":0},{"$f":"H9/2","v":{"$error":"#DIV/0!"}},{"$f":"I9/2","v":{"$error":"#DIV/0!"}},null,null,"Fore Preventer Stay Collar",0,{"$f":"'Running Calcs'!U5","v":0},0,{"$f":"'Running Calcs'!U6","v":0},{"$f":"'Running Calcs'!U3","v":{"$error":"#DIV/0!"}},{"$f":"'Running Calcs'!U4","v":{"$error":"#DIV/0!"}},null,null,"Main Preventer Stay Collar",0,{"$f":"'Running Calcs'!T5","v":0},0,{"$f":"'Running Calcs'!T6","v":0},{"$f":"'Running Calcs'!T3","v":{"$error":"#DIV/0!"}},{"$f":"'Running Calcs'!T4","v":{"$error":"#DIV/0!"}},null,null,"Mizzen Preventer Stay Lanyard & Tackle",0,{"$f":"AF14/2","v":0},0,{"$f":"AH14/2","v":0},{"$error":"#DIV/0!"},{"$error":"#DIV/0!"},null,null,"Winding Tackle Pendant Fall",0,{"$f":"AO15/2","v":0},0,{"$f":"AQ15/2","v":0},{"$f":"AR15/2","v":{"$error":"#DIV/0!"}},{"$f":"AS15/2","v":{"$error":"#DIV/0!"}}]
[null,null,"Jib Boom Guy Pendant Falls",0,{"$f":"E16*0.66","v":0},0,{"$f":"G16*0.66","v":0},{"$f":"H16*0.66","v":{"$error":"#DIV/0!"}},{"$f":"I16*0.66","v":{"$error":"#DIV/0!"}},null,null,"Fore Preventer Stay Lanyard & Tackle",0,{"$f":"N15*0.33","v":0},0,{"$f":"P15*0.33","v":0},{"$f":"Q15*0.33","v":{"$error":"#DIV/0!"}},{"$f":"R15*0.33","v":{"$error":"#DIV/0!"}},null,null,"Main Preventer Stay Lanyard & Tackle",0,{"$f":"W15*0.33","v":0},0,{"$f":"Y15*0.33","v":0},{"$f":"Z15*0.33","v":{"$error":"#DIV/0!"}},{"$f":"AA15*0.33","v":{"$error":"#DIV/0!"}},null,null,"Mizzen Upper Burton Pendants",{"$error":"#DIV/0!"},{"$f":"AF34*0.75","v":{"$error":"#DIV/0!"}},0,0,{"$error":"#DIV/0!"},{"$error":"#DIV/0!"}]
[null,null,"Jib Boom Horse",0,{"$f":"E9/2","v":0},0,{"$f":"G9/2","v":0},{"$f":"H9/2","v":{"$error":"#DIV/0!"}},{"$f":"I9/2","v":{"$error":"#DIV/0!"}},null,null,"Fore Topmast Stay",0,{"$f":"N12/2","v":0},0,{"$f":"P12/2","v":0},{"$f":"Q12/2","v":{"$error":"#DIV/0!"}},{"$f":"R12/2","v":{"$error":"#DIV/0!"}},null,null,"Main Topmast Stay",0,{"$f":"W12/2","v":0},0,{"$f":"Y12/2","v":0},{"$f":"Z12/2","v":{"$error":"#DIV/0!"}},{"$f":"AA12/2","v":{"$error":"#DIV/0!"}},null,null,"Mizzen Upper Burton Pendant Falls",{"$error":"#DIV/0!"},{"$f":"AF17/2","v":{"$error":"#DIV/0!"}},0,{"$f":"AH17/2","v":0},{"$f":"AI17/2","v":{"$error":"#DIV/0!"}},{"$f":"AJ17/2","v":{"$error":"#DIV/0!"}}]
[null,null,"Martingale Stay",0,{"$f":"N18*0.75","v":0},0,{"$f":"P18*0.75","v":0},{"$f":"Q18*0.75","v":{"$error":"#DIV/0!"}},{"$f":"R18*0.75","v":{"$error":"#DIV/0!"}},null,null,"Fore Topmast Stay Collar",0,{"$f":"N13/2","v":0},0,{"$f":"P13/2","v":0},{"$f":"Q18*0.8","v":{"$error":"#DIV/0!"}},{"$f":"R18*0.8","v":{"$error":"#DIV/0!"}},null,null,"Main Topmast Stay Collar",0,{"$f":"W13/2","v":0},0,{"$f":"Y13/2","v":0},{"$f":"Z18*0.75","v":{"$error":"#DIV/0!"}},{"$f":"AA18*0.75","v":{"$error":"#DIV/0!"}},null,null,"Mizzen Topmast Stay",{"$error":"#DIV/0!"},{"$f":"(AI19*scale)","v":{"$error":"#DIV/0!"}},{"$error":"#DIV/0!"},{"$f":"AJ19*scale","v":{"$error":"#DIV/0!"}},{"$f":"AI11/2","v":{"$error":"#DIV/0!"}},{"$f":"AJ11/2","v":{"$error":"#DIV/0!"}}]
[null,null,"Martingale Backstay",0,{"$f":"E19/2","v":0},0,{"$f":"G19/2","v":0},{"$f":"H19/2","v":{"$error":"#DIV/0!"}},{"$f":"I19/2","v":{"$error":"#DIV/0!"}},null,null,"Fore Topmast Stay Lanyard & Tackle",0,{"$f":"N18/2","v":0},0,{"$f":"P18/2","v":0},{"$f":"Q18/2","v":{"$error":"#DIV/0!"}},{"$f":"R18/2","v":{"$error":"#DIV/0!"}},null,null,"Main Topmast Stay Lanyard & Tackle",0,{"$f":"W18/2","v":0},0,{"$f":"Y18/2","v":0},{"$f":"Z18/2","v":{"$error":"#DIV/0!"}},{"$f":"AA18/2","v":{"$error":"#DIV/0!"}},null,null,"Mizzen Topmast Stay Collar",{"$error":"#DIV/0!"},{"$f":"(AI20*scale)","v":{"$error":"#DIV/0!"}},{"$error":"#DIV/0!"},{"$f":"AJ20*scale","v":{"$error":"#DIV/0!"}},{"$f":"AI19*0.75","v":{"$error":"#DIV/0!"}},{"$f":"AJ19*0.75","v":{"$error":"#DIV/0!"}}]
[null,null,"Flying Martingale Stay",0,{"$f":"E23","v":0},0,{"$f":"G23","v":0},{"$f":"H23","v":{"$error":"#DIV/0!"}},{"$f":"I23","v":{"$error":"#DIV/0!"}},null,null,"Fore Topmast Preventer Stay",0,{"$f":"N18*0.75","v":0},0,{"$f":"P18*0.75","v":0},{"$f":"Q18*0.75","v":{"$error":"#DIV/0!"}},{"$f":"R18*0.75","v":{"$error":"#DIV/0!"}},null,null,"Main Topmast Preventer Stay",0,{"$f":"W18*0.75","v":0},0,{"$f":"Y18*0.75","v":0},{"$f":"Z18*0.75","v":{"$error":"#DIV/0!"}},{"$f":"AA18*0.75","v":{"$error":"#DIV/0!"}},null,null,"Mizzen Topmast Stay Lanyard & Tackle",{"$error":"#DIV/0!"},{"$f":"AF19/2","v":{"$error":"#DIV/0!"}},{"$error":"#DIV/0!"},{"$f":"AH19/2","v":{"$error":"#DIV/0!"}},{"$f":"AI19/2","v":{"$error":"#DIV/0!"}},{"$f":"AJ19/2","v":{"$error":"#DIV/0!"}}]
[null,null,"Heel Lashing",0,{"$f":"E14","v":0},0,{"$f":"G14","v":0},{"$f":"H14","v":{"$error":"#DIV/0!"}},{"$f":"I14","v":{"$error":"#DIV/0!"}},null,null,"Fore Topmast Preventer Stay Collar",0,{"$f":"N18*0.8","v":0},0,{"$f":"P18*0.8","v":0},{"$f":"Q18*0.8","v":{"$error":"#DIV/0!"}},{"$f":"R18*0.8","v":{"$error":"#DIV/0!"}},null,null,"Main Topmast Preventer Stay Collar",0,{"$f":"W21*0.75","v":0},0,{"$f":"Y21*0.75","v":0},{"$f":"Z21*0.75","v":{"$error":"#DIV/0!"}},{"$f":"AA21*0.75","v":{"$error":"#DIV/0!"}},null,null,"Mizzen Topmast Preventer Stay",{"$error":"#DIV/0!"},{"$f":"AF19*0.75","v":{"$error":"#DIV/0!"}},{"$error":"#DIV/0!"},{"$f":"AH19*0.75","v":{"$error":"#DIV/0!"}},{"$f":"AI19*0.75","v":{"$error":"#DIV/0!"}},{"$f":"AJ19*0.75","v":{"$error":"#DIV/0!"}}]
[null,null,"Flying Jib Guys",0,{"$f":"E19*0.33","v":0},0,{"$f":"G19*0.33","v":0},{"$f":"H19*0.33","v":{"$error":"#DIV/0!"}},{"$f":"I19*0.33","v":{"$error":"#DIV/0!"}},null,null,"Fore Topmast Preventer Stay Lanyard & Tackle",0,{"$f":"N21/2","v":0},0,{"$f":"P21/2","v":0},{"$f":"Q21/2","v":{"$error":"#DIV/0!"}},{"$f":"R21/2","v":{"$error":"#DIV/0!"}},null,null,"Main Topmast Preventer Stay Lanyard & Tackle",0,{"$f":"W21/2","v":0},0,{"$f":"Y21/2","v":0},{"$f":"Z21/2","v":{"$error":"#DIV/0!"}},{"$f":"AA21/2","v":{"$error":"#DIV/0!"}},null,null,"Mizzen Topmast Preventer Stay Collar",{"$error":"#DIV/0!"},{"$f":"AF22*0.75","v":{"$error":"#DIV/0!"}},{"$error":"#DIV/0!"},{"$f":"AH22*0.75","v":{"$error":"#DIV/0!"}},{"$f":"AI22*0.75","v":{"$error":"#DIV/0!"}},{"$f":"AJ22*0.75","v":{"$error":"#DIV/0!"}}]
[null,null,"Flying Jib Boom Horse",0,{"$f":"E18","v":0},0,{"$f":"G18","v":0},{"$f":"H18","v":{"$error":"#DIV/0!"}},{"$f":"I18","v":{"$error":"#DIV/0!"}},null,null,"Fore Topgallant Stay",{"$error":"#DIV/0!"},{"$f":"(Q24*scale)","v":{"$error":"#DIV/0!"}},{"$error":"#DIV/0!"},{"$f":"R24*scale","v":{"$error":"#DIV/0!"}},{"$f":"Q18/2","v":{"$error":"#DIV/0!"}},{"$f":"R18/2","v":{"$error":"#DIV/0!"}},null,null,"Main Topgallant Stay",{"$error":"#DIV/0!"},{"$f":"(Z24*scale)","v":{"$error":"#DIV/0!"}},{"$error":"#DIV/0!"},{"$f":"AA24*scale","v":{"$error":"#DIV/0!"}},{"$f":"Z18/2","v":{"$error":"#DIV/0!"}},{"$f":"AA18/2","v":{"$error":"#DIV/0!"}},null,null,"Mizzen Topmast Preventer Stay Lanyard & Tackle",{"$error":"#DIV/0!"},{"$f":"AF22/2","v":{"$error":"#DIV/0!"}},{"$error":"#DIV/0!"},{"$f":"AH22/2","v":{"$error":"#DIV/0!"}},{"$f":"AI22/2","v":{"$error":"#DIV/0!"}},{"$f":"AJ22/2","v":{"$error":"#DIV/0!"}}]
[null,null,"Sprit Topmast Shrouds",{"$error":"#DIV/0!"},{"$f":"AF34","v":{"$error":"#DIV/0!"}},{"$error":"#DIV/0!"},{"$f":"AH34","v":{"$error":"#DIV/0!"}},{"$f":"AI34","v":{"$error":"#DIV/0!"}},{"$f":"AJ34","v":{"$error":"#DIV/0!"}},null,null,"Fore Topgallant Stay Lanyard & Tackle",{"$error":"#DIV/0!"},{"$f":"N24/2","v":{"$error":"#DIV/0!"}},{"$error":"#DIV/0!"},{"$f":"P24/2","v":{"$error":"#DIV/0!"}},{"$f":"Q24/2","v":{"$error":"#DIV/0!"}},{"$f":"R24/2","v":{"$error":"#DIV/0!"}},null,null,"Main Topgallant Stay Lanyard & Tackle",{"$error":"#DIV/0!"},{"$f":"W24/2","v":{"$error":"#DIV/0!"}},{"$error":"#DIV/0!"},{"$f":"Y24/2","v":{"$error":"#DIV/0!"}},{"$f":"Z24/2","v":{"$error":"#DIV/0!"}},{"$f":"AA24/2","v":{"$error":"#DIV/0!"}},null,null,"Mizzen Topgallant Stay",{"$error":"#DIV/0!"},{"$f":"(AI25*scale)","v":{"$error":"#DIV/0!"}},{"$error":"#DIV/0!"},{"$f":"AJ25*scale","v":{"$error":"#DIV/0!"}},{"$f":"AI19/2","v":{"$error":"#DIV/0!"}},{"$f":"AJ19/2","v":{"$error":"#DIV/0!"}}]
[null,null,"Sprit Topmast Futtock Shrouds",{"$error":"#DIV/0!"},{"$f":"W37","v":{"$error":"#DIV/0!"}},{"$error":"#DIV/0!"},{"$f":"Y37","v":{"$error":"#DIV/0!"}},{"$f":"Z37","v":{"$error":"#DIV/0!"}},{"$f":"AA37","v":{"$error":"#DIV/0!"}},null,null,"Fore Royal Stay",{"$error":"#DIV/0!"},{"$f":"(Q26*scale)","v":{"$error":"#DIV/0!"}},{"$error":"#DIV/0!"},{"$f":"R26*scale","v":{"$error":"#DIV/0!"}},{"$f":"Q24/2","v":{"$error":"#DIV/0!"}},{"$f":"R24/2","v":{"$error":"#DIV/0!"}},null,null,"Main Royal Stay",{"$error":"#DIV/0!"},{"$f":"(Z26*scale)","v":{"$error":"#DIV/0!"}},{"$error":"#DIV/0!"},{"$f":"AA26*scale","v":{"$error":"#DIV/0!"}},{"$f":"Z24/2","v":{"$error":"#DIV/0!"}},{"$f":"AA24/2","v":{"$error":"#DIV/0!"}},null,null,"Mizzen Topgallant Stay Lanyard & Tackle",{"$error":"#DIV/0!"},{"$f":"AF25/2","v":{"$error":"#DIV/0!"}},{"$error":"#DIV/0!"},{"$f":"AH25/2","v":{"$error":"#DIV/0!"}},{"$f":"AI25/2","v":{"$error":"#DIV/0!"}},{"$f":"AJ25/2","v":{"$error":"#DIV/0!"}}]
[null,null,"Sprit Topmast Backstay Pendants",{"$error":"#DIV/0!"},{"$f":"E25","v":{"$error":"#DIV/0!"}},{"$error":"#DIV/0!"},{"$f":"G25","v":{"$error":"#DIV/0!"}},{"$error":"#DIV/0!"},{"$error":"#DIV/0!"},null,null,"Fore Royal Stay Lanyard & Tackle",{"$error":"#DIV/0!"},{"$f":"N26/2","v":{"$error":"#DIV/0!"}},{"$error":"#DIV/0!"},{"$f":"P26/2","v":{"$error":"#DIV/0!"}},{"$f":"Q26/2","v":{"$error":"#DIV/0!"}},{"$f":"R26/2","v":{"$error":"#DIV/0!"}},null,null,"Main Royal Stay Lanyard & Tackle",{"$error":"#DIV/0!"},{"$f":"W26/2","v":{"$error":"#DIV/0!"}},{"$error":"#DIV/0!"},{"$f":"Y26/2","v":{"$error":"#DIV/0!"}},{"$f":"Z26/2","v":{"$error":"#DIV/0!"}},{"$f":"AA26/2","v":{"$error":"#DIV/0!"}},null,null,"Mizzen Royal Stay",{"$error":"#DIV/0!"},{"$f":"(AI27*scale)","v":{"$error":"#DIV/0!"}},{"$error":"#DIV/0!"},{"$f":"AJ27*scale","v":{"$error":"#DIV/0!"}},{"$f":"AI25/2","v":{"$error":"#DIV/0!"}},{"$f":"AJ25/2","v":{"$error":"#DIV/0!"}}]
[null,null,"Sprit Topmast Crane Lines",{"$error":"#DIV/0!"},{"$f":"E25","v":{"$error":"#DIV/0!"}},{"$error":"#DIV/0!"},{"$error":"#DIV/0!"},{"$error":"#DIV/0!"},{"$error":"#DIV/0!"},null,null,"Fore Shroud",0,{"$f":"N12*0.6","v":0},0,{"$f":"P12*0.6","v":0},{"$f":"Q12*0.6","v":{"$error":"#DIV/0!"}},{"$f":"R12*0.6","v":{"$error":"#DIV/0!"}},null,null,"Main Shroud",0,{"$f":"W12*0.6","v":0},0,{"$f":"Y12*0.6","v":0},{"$f":"Z12*0.6","v":{"$error":"#DIV/0!"}},{"$f":"AA12*0.6","v":{"$error":"#DIV/0!"}},null,null,"Mizzen Royal Stay Lanyard & Tackle",{"$error":"#DIV/0!"},{"$f":"AF27/2","v":{"$error":"#DIV/0!"}},{"$error":"#DIV/0!"},{"$f":"AH27/2","v":{"$error":"#DIV/0!"}},{"$f":"AI27/2","v":{"$error":"#DIV/0!"}},{"$f":"AJ27/2","v":{"$error":"#DIV/0!"}}]
[null,null,"Sprit Topmast Crowfeet",{"$f":"E29*(22/7)","v":{"$error":"#DIV/0!"}},{"$f":"E25*0.8","v":{"$error":"#DIV/0!"}},{"$f":"G29*(22/7)","v":{"$error":"#DIV/0!"}},{"$f":"G25*0.8","v":{"$error":"#DIV/0!"}},{"$f":"H25*0.8","v":{"$error":"#DIV/0!"}},{"$f":"I25*0.8","v":{"$error":"#DIV/0!"}},null,null,"Fore Shroud Lanyards",0,{"$f":"N28/2","v":0},0,{"$f":"P28/2","v":0},{"$f":"Q28/2","v":{"$error":"#DIV/0!"}},{"$f":"R28/2","v":{"$error":"#DIV/0!"}},null,null,"Main Shroud Lanyards",0,{"$f":"W28/2","v":0},0,{"$f":"Y28/2","v":0},{"$f":"Z28/2","v":{"$error":"#DIV/0!"}},{"$f":"AA28/2","v":{"$error":"#DIV/0!"}},null,null,"Mizzen Shroud",0,{"$f":"AF11*0.8","v":0},0,{"$f":"AH11*0.8","v":0},{"$f":"AI11*0.8","v":{"$error":"#DIV/0!"}},{"$f":"AJ11*0.8","v":{"$error":"#DIV/0!"}}]
[null,null,"Sprit Topmast Halliards",{"$f":"E30*(22/7)","v":{"$error":"#DIV/0!"}},{"$f":"E29","v":{"$error":"#DIV/0!"}},{"$f":"G30*(22/7)","v":{"$error":"#DIV/0!"}},{"$f":"G29","v":{"$error":"#DIV/0!"}},{"$f":"H29","v":{"$error":"#DIV/0!"}},{"$f":"I29","v":{"$error":"#DIV/0!"}},null,null,"Fore Futtock Shrouds",0,{"$f":"N35","v":0},0,{"$f":"P35","v":0},{"$f":"Q35","v":{"$error":"#DIV/0!"}},{"$f":"R35","v":{"$error":"#DIV/0!"}},null,null,"Main Futtock Shrouds",0,{"$f":"W35","v":0},0,{"$f":"Y35","v":0},{"$f":"Z35","v":{"$error":"#DIV/0!"}},{"$f":"AA35","v":{"$error":"#DIV/0!"}},null,null,"Mizzen Shroud Lanyards",0,{"$f":"AF29/2","v":0},0,{"$f":"AH29/2","v":0},{"$f":"AI29/2","v":{"$error":"#DIV/0!"}},{"$f":"AJ29/2","v":{"$error":"#DIV/0!"}}]
[null,null,null,null,null,null,null,null,null,null,null,"Fore Ratlines",1.5,{"$f":"1.5/(22/7)","v":0.47727272727272729},{"$error":"#DIV/0!"},{"$f":"R31*scale","v":{"$error":"#DIV/0!"}},{"$f":"(N31*12)/scale","v":{"$error":"#DIV/0!"}},{"$f":"Q31*(25.4/12)","v":{"$error":"#DIV/0!"}},null,null,"Main Ratlines",1.5,{"$f":"1.5/(22/7)","v":0.47727272727272729},{"$error":"#DIV/0!"},{"$f":"AA31*scale","v":{"$error":"#DIV/0!"}},{"$f":"(W31*12)/scale","v":{"$error":"#DIV/0!"}},{"$f":"Z31*(25.4/12)","v":{"$error":"#DIV/0!"}},null,null,"Mizzen Futtock Shrouds",{"$error":"#DIV/0!"},{"$f":"AF34","v":{"$error":"#DIV/0!"}},{"$error":"#DIV/0!"},{"$f":"AH34","v":{"$error":"#DIV/0!"}},{"$f":"AI34","v":{"$error":"#DIV/0!"}},{"$f":"AJ34","v":{"$error":"#DIV/0!"}}]
[null,null,null,null,null,null,null,null,null,null,null,"Fore Lower Catharpins",0,{"$f":"W$28/4","v":0},0,{"$f":"Y$28/4","v":0},{"$f":"Z$28/4","v":{"$error":"#DIV/0!"}},{"$f":"AA$28/4","v":{"$error":"#DIV/0!"}},null,null,"Main Lower Catharpins",0,{"$f":"W$28/4","v":0},0,{"$f":"Y$28/4","v":0},{"$f":"Z$28/4","v":{"$error":"#DIV/0!"}},{"$f":"AA$28/4","v":{"$error":"#DIV/0!"}},null,null,"Mizzen Ratlines",1.5,{"$f":"1.5/(22/7)","v":0.47727272727272729},{"$error":"#DIV/0!"},{"$f":"AJ32*scale","v":{"$error":"#DIV/0!"}},{"$f":"(AF32*12)/scale","v":{"$error":"#DIV/0!"}},{"$f":"AI32*(25.4/12)","v":{"$error":"#DIV/0!"}}]
[null,null,null,null,null,null,null,null,null,null,null,"Fore Topmast Burton Pendants",0,{"$f":"'Running Calcs'!W5","v":0},0,{"$f":"'Running Calcs'!W6","v":0},{"$f":"'Running Calcs'!W3","v":{"$error":"#DIV/0!"}},{"$f":"'Running Calcs'!W4","v":{"$error":"#DIV/0!"}},null,null,"Main Topmast Burton Pendants",0,{"$f":"W35*0.75","v":0},0,{"$f":"Y35*0.75","v":0},{"$f":"Z35*0.75","v":{"$error":"#DIV/0!"}},{"$f":"AA35*0.75","v":{"$error":"#DIV/0!"}},null,null,"Mizzen Lower Catharpins",0,{"$f":"W$28/4","v":0},0,{"$f":"Y$28/4","v":0},{"$f":"Z$28/4","v":{"$error":"#DIV/0!"}},{"$f":"AA$28/4","v":{"$error":"#DIV/0!"}}]
[null,null,null,null,null,null,null,null,null,null,null,"Fore Topmast Burton Pendant Falls",0,{"$f":"N35*0.33","v":0},0,{"$f":"P35*0.33","v":0},{"$f":"Q35*0.33","v":{"$error":"#DIV/0!"}},{"$f":"R35*0.33","v":{"$error":"#DIV/0!"}},null,null,"Main Topmast Burton Pendant Falls",0,{"$f":"W35*0.33","v":0},0,{"$f":"Y35*0.33","v":0},{"$f":"Z35*0.33","v":{"$error":"#DIV/0!"}},{"$f":"AA35*0.33","v":{"$error":"#DIV/0!"}},null,null,"Mizzen Topmast Shrouds",{"$error":"#DIV/0!"},{"$f":"AF19","v":{"$error":"#DIV/0!"}},{"$error":"#DIV/0!"},{"$f":"AH19","v":{"$error":"#DIV/0!"}},{"$f":"AI19","v":{"$error":"#DIV/0!"}},{"$f":"AJ19","v":{"$error":"#DIV/0!"}}]
[null,null,null,null,null,null,null,null,null,null,null,"Fore Topmast Shrouds",0,{"$f":"N28*0.66","v":0},0,{"$f":"P28*0.66","v":0},{"$f":"Q28*0.66","v":{"$error":"#DIV/0!"}},{"$f":"R28*0.66","v":{"$error":"#DIV/0!"}},null,null,"Main Topmast Shrouds",0,{"$f":"W28*0.66","v":0},0,{"$f":"Y28*0.66","v":0},{"$f":"Z28*0.66","v":{"$error":"#DIV/0!"}},{"$f":"AA28*0.66","v":{"$error":"#DIV/0!"}},null,null,"Mizzen Topmast Shroud Lanyards",{"$error":"#DIV/0!"},{"$f":"AF34/2","v":{"$error":"#DIV/0!"}},{"$error":"#DIV/0!"},{"$f":"AH34/2","v":{"$error":"#DIV/0!"}},{"$f":"AI34/2","v":{"$error":"#DIV/0!"}},{"$f":"AJ34/2","v":{"$error":"#DIV/0!"}}]
[null,null,null,null,null,null,null,null,null,null,null,"Fore Topmast Shroud Lanyards",0,{"$f":"N35/2","v":0},0,{"$f":"P35/2","v":0},{"$f":"Q35/2","v":{"$error":"#DIV/0!"}},{"$f":"R35/2","v":{"$error":"#DIV/0!"}},null,null,"Main Topmast Shroud Lanyards",0,{"$f":"W35/2","v":0},0,{"$f":"Y35/2","v":0},{"$f":"Z35/2","v":{"$error":"#DIV/0!"}},{"$f":"AA35/2","v":{"$error":"#DIV/0!"}},null,null,"Mizzen Topmast Futtock Shrouds",{"$error":"#DIV/0!"},{"$f":"AF39","v":{"$error":"#DIV/0!"}},{"$error":"#DIV/0!"},{"$f":"AH39","v":{"$error":"#DIV/0!"}},{"$f":"AI39","v":{"$error":"#DIV/0!"}},{"$f":"AJ39","v":{"$error":"#DIV/0!"}}]
[null,null,null,null,null,null,null,null,null,null,null,"Fore Topmast Futtock Shrouds",{"$error":"#DIV/0!"},{"$f":"N40","v":{"$error":"#DIV/0!"}},{"$error":"#DIV/0!"},{"$f":"P40","v":{"$error":"#DIV/0!"}},{"$f":"Q40","v":{"$error":"#DIV/0!"}},{"$f":"R40","v":{"$error":"#DIV/0!"}},null,null,"Main Topmast Futtock Shrouds",{"$error":"#DIV/0!"},{"$f":"W40","v":{"$error":"#DIV/0!"}},{"$error":"#DIV/0!"},{"$f":"Y40","v":{"$error":"#DIV/0!"}},{"$f":"Z40","v":{"$error":"#DIV/0!"}},{"$f":"AA40","v":{"$error":"#DIV/0!"}},null,null,"Mizzen Topmast Ratlines",1.5,{"$f":"1.5/(22/7)","v":0.47727272727272729},{"$error":"#DIV/0!"},{"$f":"AJ37*scale","v":{"$error":"#DIV/0!"}},{"$f":"(AF37*12)/scale","v":{"$error":"#DIV/0!"}},{"$f":"AI37*(25.4/12)","v":{"$error":"#DIV/0!"}}]
[null,null,null,null,null,null,null,null,null,null,null,"Fore Upper Catharpins",0,{"$f":"W$28/4","v":0},0,{"$f":"Y$28/4","v":0},{"$f":"Z$28/4","v":{"$error":"#DIV/0!"}},{"$f":"AA$28/4","v":{"$error":"#DIV/0!"}},null,null,"Main Topmast Ratlines",1.5,{"$f":"1.5/(22/7)","v":0.47727272727272729},{"$error":"#DIV/0!"},{"$f":"AA38*scale","v":{"$error":"#DIV/0!"}},{"$f":"(W38*12)/scale","v":{"$error":"#DIV/0!"}},{"$f":"Z38*(25.4/12)","v":{"$error":"#DIV/0!"}},null,null,"Mizzen Upper Catharpins",0,{"$f":"W$28/4","v":0},0,{"$f":"Y$28/4","v":0},{"$f":"Z$28/4","v":{"$error":"#DIV/0!"}},{"$f":"AA$28/4","v":{"$error":"#DIV/0!"}}]
[null,null,null,null,null,null,null,null,null,null,null,"Fore Topmast Ratlines",1.5,{"$f":"1.5/(22/7)","v":0.47727272727272729},{"$error":"#DIV/0!"},{"$f":"R39*scale","v":{"$error":"#DIV/0!"}},{"$f":"(N39*12)/scale","v":{"$error":"#DIV/0!"}},{"$f":"Q39*(25.4/12)","v":{"$error":"#DIV/0!"}},null,null,"Main Upper Catharpins",0,{"$f":"W$28/4","v":0},0,{"$f":"Y$28/4","v":0},{"$f":"Z$28/4","v":{"$error":"#DIV/0!"}},{"$f":"AA$28/4","v":{"$error":"#DIV/0!"}},null,null,"Mizzen Topgallant Shrouds",{"$error":"#DIV/0!"},{"$f":"AF25","v":{"$error":"#DIV/0!"}},{"$error":"#DIV/0!"},{"$f":"AH25","v":{"$error":"#DIV/0!"}},{"$f":"AI25","v":{"$error":"#DIV/0!"}},{"$f":"AJ25","v":{"$error":"#DIV/0!"}}]
[null,null,null,null,null,null,null,null,null,null,null,"Fore Topgallant Shrouds",{"$error":"#DIV/0!"},{"$f":"N24","v":{"$error":"#DIV/0!"}},{"$error":"#DIV/0!"},{"$f":"P24","v":{"$error":"#DIV/0!"}},{"$f":"Q24","v":{"$error":"#DIV/0!"}},{"$f":"R24","v":{"$error":"#DIV/0!"}},null,null,"Main Topgallant Shrouds",{"$error":"#DIV/0!"},{"$f":"W24","v":{"$error":"#DIV/0!"}},{"$error":"#DIV/0!"},{"$f":"Y24","v":{"$error":"#DIV/0!"}},{"$f":"Z24","v":{"$error":"#DIV/0!"}},{"$f":"AA24","v":{"$error":"#DIV/0!"}},null,null,"Mizzen Topgallant Shroud Lanyards",{"$error":"#DIV/0!"},{"$f":"AF39/2","v":{"$error":"#DIV/0!"}},{"$error":"#DIV/0!"},{"$f":"AH39/2","v":{"$error":"#DIV/0!"}},{"$f":"AI39/2","v":{"$error":"#DIV/0!"}},{"$f":"AJ39/2","v":{"$error":"#DIV/0!"}}]
[null,null,null,null,null,null,null,null,null,null,null,"Fore Topgallant Shroud Lanyards",{"$f":"N41*(22/7)","v":{"$error":"#DIV/0!"}},{"$f":"N40/2","v":{"$error":"#DIV/0!"}},{"$f":"P41*(22/7)","v":{"$error":"#DIV/0!"}},{"$f":"P40/2","v":{"$error":"#DIV/0!"}},{"$f":"Q40/2","v":{"$error":"#DIV/0!"}},{"$f":"R40/2","v":{"$error":"#DIV/0!"}},null,null,"Main Topgallant Shroud Lanyards",{"$f":"W41*(22/7)","v":{"$error":"#DIV/0!"}},{"$f":"W40/2","v":{"$error":"#DIV/0!"}},{"$f":"Y41*(22/7)","v":{"$error":"#DIV/0!"}},{"$f":"Y40/2","v":{"$error":"#DIV/0!"}},{"$f":"Z40/2","v":{"$error":"#DIV/0!"}},{"$f":"AA40/2","v":{"$error":"#DIV/0!"}},null,null,"Mizzen Topgallant Futtock Shrouds",{"$error":"#DIV/0!"},{"$f":"AF39","v":{"$error":"#DIV/0!"}},{"$error":"#DIV/0!"},{"$f":"AH39","v":{"$error":"#DIV/0!"}},{"$f":"AI39","v":{"$error":"#DIV/0!"}},{"$f":"AJ39","v":{"$error":"#DIV/0!"}}]
[null,null,null,null,null,null,null,null,null,null,null,"Fore Topgallant Futtock Shrouds",{"$error":"#DIV/0!"},{"$f":"N40","v":{"$error":"#DIV/0!"}},{"$error":"#DIV/0!"},{"$f":"P40","v":{"$error":"#DIV/0!"}},{"$f":"Q40","v":{"$error":"#DIV/0!"}},{"$f":"R40","v":{"$error":"#DIV/0!"}},null,null,"Main Topgallant Futtock Shrouds",{"$error":"#DIV/0!"},{"$f":"W40","v":{"$error":"#DIV/0!"}},{"$error":"#DIV/0!"},{"$f":"Y40","v":{"$error":"#DIV/0!"}},{"$f":"Z40","v":{"$error":"#DIV/0!"}},{"$f":"AA40","v":{"$error":"#DIV/0!"}},null,null,"Mizzen Topgallant Ratlines",1.5,{"$f":"1/(22/7)","v":0.31818181818181818},{"$error":"#DIV/0!"},{"$f":"AJ42*scale","v":{"$error":"#DIV/0!"}},{"$f":"(AF42*12)/scale","v":{"$error":"#DIV/0!"}},{"$f":"AI42*(25.4/12)","v":{"$error":"#DIV/0!"}}]
[null,null,null,null,null,null,null,null,null,null,null,"Fore Topgallant Ratlines",1.5,{"$f":"1/(22/7)","v":0.31818181818181818},{"$error":"#DIV/0!"},{"$f":"R43*scale","v":{"$error":"#DIV/0!"}},{"$f":"(N43*12)/scale","v":{"$error":"#DIV/0!"}},{"$f":"Q43*(25.4/12)","v":{"$error":"#DIV/0!"}},null,null,"Main Topgallant Ratlines",1.5,{"$f":"1/(22/7)","v":0.31818181818181818},{"$error":"#DIV/0!"},{"$f":"AA43*scale","v":{"$error":"#DIV/0!"}},{"$f":"(W43*12)/scale","v":{"$error":"#DIV/0!"}},{"$f":"Z43*(25.4/12)","v":{"$error":"#DIV/0!"}},null,null,"Mizzen Standing Backstays",0,{"$f":"AF29","v":0},0,{"$f":"AH29","v":0},{"$f":"AI29","v":{"$error":"#DIV/0!"}},{"$f":"AJ29","v":{"$error":"#DIV/0!"}}]
[null,null,null,null,null,null,null,null,null,null,null,"Fore Standing Backstays",0,{"$f":"N28","v":0},0,{"$f":"P28","v":0},{"$f":"Q28","v":{"$error":"#DIV/0!"}},{"$f":"R28","v":{"$error":"#DIV/0!"}},null,null,"Main Standing Backstays",0,{"$f":"W28","v":0},0,{"$f":"Y28","v":0},{"$f":"Z28","v":{"$error":"#DIV/0!"}},{"$f":"AA28","v":{"$error":"#DIV/0!"}},null,null,"Mizzen Standing Backstay Lanyards",0,{"$f":"AF43/2","v":0},0,{"$f":"AH43/2","v":0},{"$f":"AI43/2","v":{"$error":"#DIV/0!"}},{"$f":"AJ43/2","v":{"$error":"#DIV/0!"}}]
[null,null,null,null,null,null,null,null,null,null,null,"Fore Standing Backstay Lanyards",0,{"$f":"N44/2","v":0},0,{"$f":"P44/2","v":0},{"$f":"Q44/2","v":{"$error":"#DIV/0!"}},{"$f":"R44/2","v":{"$error":"#DIV/0!"}},null,null,"Main Standing Backstay Lanyards",0,{"$f":"W44/2","v":0},0,{"$f":"Y44/2","v":0},{"$f":"Z44/2","v":{"$error":"#DIV/0!"}},{"$f":"AA44/2","v":{"$error":"#DIV/0!"}},null,null,"Mizzen Shifting Backstays",{"$error":"#DIV/0!"},{"$f":"AF34*0.7","v":{"$error":"#DIV/0!"}},{"$error":"#DIV/0!"},{"$f":"AH34*0.7","v":{"$error":"#DIV/0!"}},{"$f":"AI34*0.7","v":{"$error":"#DIV/0!"}},{"$f":"AJ34*0.7","v":{"$error":"#DIV/0!"}}]
[null,null,null,null,null,null,null,null,null,null,null,"Fore Breast Backstays",0,{"$f":"N44","v":0},0,{"$f":"P44","v":0},{"$f":"Q44","v":{"$error":"#DIV/0!"}},{"$f":"R44","v":{"$error":"#DIV/0!"}},null,null,"Main Breast Backstays",0,{"$f":"W44","v":0},0,{"$f":"Y44","v":0},{"$f":"Z44","v":{"$error":"#DIV/0!"}},{"$f":"AA44","v":{"$error":"#DIV/0!"}},null,null,"Mizzen Shifting Backstay Falls",{"$error":"#DIV/0!"},{"$f":"AF34*0.45","v":{"$error":"#DIV/0!"}},{"$error":"#DIV/0!"},{"$f":"AH34*0.45","v":{"$error":"#DIV/0!"}},{"$f":"AI34*0.45","v":{"$error":"#DIV/0!"}},{"$f":"AJ34*0.45","v":{"$error":"#DIV/0!"}}]
[null,null,null,null,null,null,null,null,null,null,null,"Fore Breast Backstay Lanyards",0,{"$f":"N46/2","v":0},0,{"$f":"P46/2","v":0},{"$f":"Q46/2","v":{"$error":"#DIV/0!"}},{"$f":"R46/2","v":{"$error":"#DIV/0!"}},null,null,"Main Breast Backstay Lanyards",0,{"$f":"W46/2","v":0},0,{"$f":"Y46/2","v":0},{"$f":"Z46/2","v":{"$error":"#DIV/0!"}},{"$f":"AA46/2","v":{"$error":"#DIV/0!"}},null,null,"Mizzen Topgallant Backstays",{"$error":"#DIV/0!"},{"$f":"AF39","v":{"$error":"#DIV/0!"}},{"$error":"#DIV/0!"},{"$f":"AH39","v":{"$error":"#DIV/0!"}},{"$f":"AI39","v":{"$error":"#DIV/0!"}},{"$f":"AJ39","v":{"$error":"#DIV/0!"}}]
[null,null,null,null,null,null,null,null,null,null,null,"Fore Running Breast Backstays",0,{"$f":"N35*0.7","v":0},0,{"$f":"P35*0.7","v":0},{"$f":"Q35*0.7","v":{"$error":"#DIV/0!"}},{"$f":"R35*0.7","v":{"$error":"#DIV/0!"}},null,null,"Main Running Breast Backstays",0,{"$f":"W35*0.7","v":0},0,{"$f":"Y35*0.7","v":0},{"$f":"Z35*0.7","v":{"$error":"#DIV/0!"}},{"$f":"AA35*0.7","v":{"$error":"#DIV/0!"}},null,null,"Mizzen Topgallant Backstay Lanyards",{"$error":"#DIV/0!"},{"$f":"AF47/2","v":{"$error":"#DIV/0!"}},{"$error":"#DIV/0!"},{"$f":"AH47/2","v":{"$error":"#DIV/0!"}},{"$f":"AI47/2","v":{"$error":"#DIV/0!"}},{"$f":"AJ47/2","v":{"$error":"#DIV/0!"}}]
[null,null,null,null,null,null,null,null,null,null,null,"Fore Running Breast Backstay Falls",0,{"$f":"N35*0.45","v":0},0,{"$f":"P35*0.45","v":0},{"$f":"Q35*0.45","v":{"$error":"#DIV/0!"}},{"$f":"R35*0.45","v":{"$error":"#DIV/0!"}},null,null,"Main Running Breast Backstay Falls",0,{"$f":"W35*0.45","v":0},0,{"$f":"Y35*0.45","v":0},{"$f":"Z35*0.45","v":{"$error":"#DIV/0!"}},{"$f":"AA35*0.45","v":{"$error":"#DIV/0!"}},null,null,"Mizzen Royal Backstays",{"$error":"#DIV/0!"},{"$f":"AF27","v":{"$error":"#DIV/0!"}},{"$error":"#DIV/0!"},{"$f":"AH27","v":{"$error":"#DIV/0!"}},{"$f":"AI27","v":{"$error":"#DIV/0!"}},{"$f":"AJ27","v":{"$error":"#DIV/0!"}}]
[null,null,null,null,null,null,null,null,null,null,null,"Fore Shifting Backstays",0,{"$f":"N48","v":0},0,{"$f":"P48","v":0},{"$error":"#DIV/0!"},{"$error":"#DIV/0!"},null,null,"Main Shifting Backstays",0,{"$f":"W48","v":0},0,{"$f":"Y48","v":0},{"$error":"#DIV/0!"},{"$error":"#DIV/0!"},null,null,"Mizzen Royal Backstay Lanyards",{"$error":"#DIV/0!"},{"$f":"AF49/2","v":{"$error":"#DIV/0!"}},{"$error":"#DIV/0!"},{"$f":"AH49/2","v":{"$error":"#DIV/0!"}},{"$f":"AI49/2","v":{"$error":"#DIV/0!"}},{"$f":"AJ49/2","v":{"$error":"#DIV/0!"}}]
[null,null,null,null,null,null,null,null,null,null,null,"Fore Shifting Backstay Falls",0,{"$f":"N49","v":0},0,0,{"$error":"#DIV/0!"},{"$error":"#DIV/0!"},null,null,"Main Shifting Backstay Falls",0,{"$f":"W49","v":0},0,0,{"$error":"#DIV/0!"},{"$error":"#DIV/0!"},null,null,"Mizzen Top Rope Pendant",{"$error":"#DIV/0!"},{"$f":"AF19","v":{"$error":"#DIV/0!"}},{"$error":"#DIV/0!"},{"$f":"AH19","v":{"$error":"#DIV/0!"}},{"$f":"AI19","v":{"$error":"#DIV/0!"}},{"$f":"AJ19","v":{"$error":"#DIV/0!"}}]
[null,null,null,null,null,null,null,null,null,null,null,"Fore Topgallant Backstays",{"$error":"#DIV/0!"},{"$f":"N40","v":{"$error":"#DIV/0!"}},{"$error":"#DIV/0!"},{"$f":"P40","v":{"$error":"#DIV/0!"}},{"$f":"Q40","v":{"$error":"#DIV/0!"}},{"$f":"R40","v":{"$error":"#DIV/0!"}},null,null,"Main Topgallant Backstays",{"$error":"#DIV/0!"},{"$f":"W40","v":{"$error":"#DIV/0!"}},{"$error":"#DIV/0!"},{"$f":"Y40","v":{"$error":"#DIV/0!"}},{"$f":"Z40","v":{"$error":"#DIV/0!"}},{"$f":"AA40","v":{"$error":"#DIV/0!"}},null,null,"Mizzen Top Rope Pendant Fall",{"$error":"#DIV/0!"},{"$f":"AF51/2","v":{"$error":"#DIV/0!"}},{"$error":"#DIV/0!"},{"$f":"AH51/2","v":{"$error":"#DIV/0!"}},{"$f":"AI51/2","v":{"$error":"#DIV/0!"}},{"$f":"AJ51/2","v":{"$error":"#DIV/0!"}}]
[null,null,null,null,null,null,null,null,null,null,null,"Fore Topgallant Backstay Lanyards",{"$error":"#DIV/0!"},{"$f":"N52/2","v":{"$error":"#DIV/0!"}},{"$error":"#DIV/0!"},{"$f":"P52/2","v":{"$error":"#DIV/0!"}},{"$f":"Q52/2","v":{"$error":"#DIV/0!"}},{"$f":"R52/2","v":{"$error":"#DIV/0!"}},null,null,"Main Topgallant Backstay Lanyards",{"$error":"#DIV/0!"},{"$f":"W52/2","v":{"$error":"#DIV/0!"}},{"$error":"#DIV/0!"},{"$f":"Y52/2","v":{"$error":"#DIV/0!"}},{"$f":"Z52/2","v":{"$error":"#DIV/0!"}},{"$f":"AA52/2","v":{"$error":"#DIV/0!"}},null,null,"Mizzen Wooldings",0,{"$f":"W12*0.2","v":0},0,{"$f":"Y12*0.2","v":0},{"$f":"Z12*0.2","v":{"$error":"#DIV/0!"}},{"$f":"AA12*0.2","v":{"$error":"#DIV/0!"}}]
[null,null,null,null,null,null,null,null,null,null,null,"Fore Royal Backstays",{"$error":"#DIV/0!"},{"$f":"N26","v":{"$error":"#DIV/0!"}},{"$error":"#DIV/0!"},{"$f":"P26","v":{"$error":"#DIV/0!"}},{"$f":"Q26","v":{"$error":"#DIV/0!"}},{"$f":"R26","v":{"$error":"#DIV/0!"}},null,null,"Main Royal Backstays",{"$error":"#DIV/0!"},{"$f":"W26","v":{"$error":"#DIV/0!"}},{"$error":"#DIV/0!"},{"$f":"Y26","v":{"$error":"#DIV/0!"}},{"$f":"Z26","v":{"$error":"#DIV/0!"}},{"$f":"AA26","v":{"$error":"#DIV/0!"}},null,null,"Mizzen Euphroe Falls and Crowfeet",1.5,{"$f":"1.5/(22/7)","v":0.47727272727272729},{"$error":"#DIV/0!"},{"$f":"AJ54*scale","v":{"$error":"#DIV/0!"}},{"$f":"(AF54*12)/scale","v":{"$error":"#DIV/0!"}},{"$f":"AI54*(25.4/12)","v":{"$error":"#DIV/0!"}}]
[null,null,null,null,null,null,null,null,null,null,null,"Fore Royal Backstay Lanyards",{"$error":"#DIV/0!"},{"$f":"N54/2","v":{"$error":"#DIV/0!"}},{"$error":"#DIV/0!"},{"$f":"P54/2","v":{"$error":"#DIV/0!"}},{"$f":"Q54/2","v":{"$error":"#DIV/0!"}},{"$f":"R54/2","v":{"$error":"#DIV/0!"}},null,null,"Main Royal Backstay Lanyards",{"$error":"#DIV/0!"},{"$f":"W54/2","v":{"$error":"#DIV/0!"}},{"$error":"#DIV/0!"},{"$f":"Y54/2","v":{"$error":"#DIV/0!"}},{"$f":"Z54/2","v":{"$error":"#DIV/0!"}},{"$f":"AA54/2","v":{"$error":"#DIV/0!"}},null,null,"Mizzen Stay Snaking",1.5,{"$f":"1.5/(22/7)","v":0.47727272727272729},{"$error":"#DIV/0!"},{"$f":"AJ55*scale","v":{"$error":"#DIV/0!"}},{"$f":"(AF55*12)/scale","v":{"$error":"#DIV/0!"}},{"$f":"AI55*(25.4/12)","v":{"$error":"#DIV/0!"}}]
[null,null,null,null,null,null,null,null,null,null,null,"Fore Top Rope Pendant",0,{"$f":"N18","v":0},0,{"$f":"P18","v":0},{"$f":"Q18","v":{"$error":"#DIV/0!"}},{"$f":"R18","v":{"$error":"#DIV/0!"}},null,null,"Main Top Rope Pendant",0,{"$f":"W18","v":0},0,{"$f":"Y18","v":0},{"$f":"Z18","v":{"$error":"#DIV/0!"}},{"$f":"AA18","v":{"$error":"#DIV/0!"}}]
[null,null,null,null,null,null,null,null,null,null,null,"Fore Top Rope Pendant Fall",0,{"$f":"N56/2","v":0},0,{"$f":"P56/2","v":0},{"$f":"Q56/2","v":{"$error":"#DIV/0!"}},{"$f":"R56/2","v":{"$error":"#DIV/0!"}},null,null,"Main Top Rope Pendant Fall",0,{"$f":"W56/2","v":0},0,{"$f":"Y56/2","v":0},{"$f":"Z56/2","v":{"$error":"#DIV/0!"}},{"$f":"AA56/2","v":{"$error":"#DIV/0!"}}]
[null,null,null,null,null,null,null,null,null,null,null,"Fore Wooldings",0,{"$f":"W12*0.2","v":0},0,{"$f":"Y12*0.2","v":0},{"$f":"Z12*0.2","v":{"$error":"#DIV/0!"}},{"$f":"AA12*0.2","v":{"$error":"#DIV/0!"}},null,null,"Main Wooldings",0,{"$f":"W12*0.2","v":0},0,{"$f":"Y12*0.2","v":0},{"$f":"Z12*0.2","v":{"$error":"#DIV/0!"}},{"$f":"AA12*0.2","v":{"$error":"#DIV/0!"}}]
[null,null,null,null,null,null,null,null,null,null,null,"Fore Euphroe Falls and Crowfeet",1.5,{"$f":"1.5/(22/7)","v":0.47727272727272729},{"$error":"#DIV/0!"},{"$f":"R59*scale","v":{"$error":"#DIV/0!"}},{"$f":"(N59*12)/scale","v":{"$error":"#DIV/0!"}},{"$f":"Q59*(25.4/12)","v":{"$error":"#DIV/0!"}},null,null,"Main Euphroe Falls and Crowfeet",1.5,{"$f":"1.5/(22/7)","v":0.47727272727272729},{"$error":"#DIV/0!"},{"$f":"AA59*scale","v":{"$error":"#DIV/0!"}},{"$f":"(W59*12)/scale","v":{"$error":"#DIV/0!"}},{"$f":"Z59*(25.4/12)","v":{"$error":"#DIV/0!"}}]
[null,null,null,null,null,null,null,null,null,null,null,"Fore Stay Snaking",1.5,{"$f":"1.5/(22/7)","v":0.47727272727272729},{"$error":"#DIV/0!"},{"$f":"R60*scale","v":{"$error":"#DIV/0!"}},{"$f":"(N60*12)/scale","v":{"$error":"#DIV/0!"}},{"$f":"Q60*(25.4/12)","v":{"$error":"#DIV/0!"}},null,null,"Main Stay Snaking",1.5,{"$f":"1.5/(22/7)","v":0.47727272727272729},{"$error":"#DIV/0!"},{"$f":"AA60*scale","v":{"$error":"#DIV/0!"}},{"$f":"(W60*12)/scale","v":{"$error":"#DIV/0!"}},{"$f":"Z60*(25.4/12)","v":{"$error":"#DIV/0!"}}]

{"sheet":"Running","index":7,"n_rows":59,"n_cols":181,"rows_kept":59,"cut":false,"hidden":false,"merged":[[5,133,5,134],[5,121,6,121],[5,122,5,123],[5,124,5,125],[5,160,5,161],[5,149,5,150],[5,151,5,152],[5,157,6,157],[5,158,5,159],[5,131,5,132],[5,112,6,112],[5,113,5,114],[5,115,5,116],[5,106,5,107],[5,130,6,130],[5,85,6,85],[5,86,5,87],[5,88,5,89],[5,94,6,94],[5,104,5,105],[5,95,5,96],[5,97,5,98],[5,103,6,103],[5,79,5,80],[5,49,6,49],[5,50,5,51],[5,52,5,53],[5,58,6,58],[5,59,5,60],[5,61,5,62],[5,67,6,67],[5,68,5,69],[5,70,5,71],[5,76,6,76],[5,77,5,78],[5,43,5,44],[5,4,6,4],[5,5,5,6],[5,7,5,8],[23,139,24,139],[5,13,6,13],[5,14,5,15],[5,16,5,17],[5,22,6,22],[5,23,5,24],[5,25,5,26],[5,31,6,31],[5,32,5,33],[5,34,5,35],[5,40,6,40],[5,41,5,42],[2,178,2,179],[4,176,4,178],[20,176,20,178],[5,139,6,139],[5,140,5,141],[5,142,5,143],[5,148,6,148],[5,166,6,166],[5,167,5,168],[5,169,5,170]]}
[]
[]
[null,null,null,null,null,null,null,null,null,null,null,null,null,null,null,null,null,null,null,null,null,null,null,null,null,null,null,null,null,null,null,null,null,null,null,null,null,null,null,null,null,null,null,null,null,null,null,null,null,null,null,null,null,null,null,null,null,null,null,null,null,null,null,null,null,null,null,null,null,null,null,null,null,null,null,null,null,null,null,null,null,null,null,null,null,null,null,null,null,null,null,null,null,null,null,null,null,null,null,null,null,null,null,null,null,null,null,null,null,null,null,null,null,null,null,null,null,null,null,null,null,null,null,null,null,null,null,null,null,null,null,null,null,null,null,null,null,null,null,null,null,null,null,null,null,null,null,null,null,null,null,null,null,null,null,null,null,null,null,null,null,null,null,null,null,null,null,null,null,null,null,null,null,null,null,null,null,null,"Block Calculator"]
[]
[null,null,null,null,null,null,null,null,null,null,null,null,null,null,null,null,null,null,null,null,null,null,null,null,null,null,null,null,null,null,null,null,null,null,null,null,null,null,null,null,null,null,null,null,null,null,null,null,null,null,null,null,null,null,null,null,null,null,null,null,null,null,null,null,null,null,null,null,null,null,null,null,null,null,null,null,null,null,null,null,null,null,null,null,null,null,null,null,null,null,null,null,null,null,null,null,null,null,null,null,null,null,null,null,null,null,null,null,null,null,null,null,null,null,null,null,null,null,null,null,null,null,null,null,null,null,null,null,null,null,null,null,null,null,null,null,null,null,null,null,null,null,null,null,null,null,null,null,null,null,null,null,null,null,null,null,null,null,null,null,null,null,null,null,null,null,null,null,null,null,null,null,null,null,null,null,"For below Enter Scale Rope Size Reeving THROUGH BLOCK :",null,null,0.5]
[null,null,null,null,"Spritsail Yard","Original Size (Inches)",null,"Original Size (Millimeters)",null,"Scale Size - Inches","Scale Size - mm",null,null,"Sprit Topsail Yard","Original Size (Inches)",null,"Original Size (Millimeters)",null,"Scale Size - Inches","Scale Size - mm",null,null,"Spreader","Original Size (Inches)",null,"Original Size (Millimeters)",null,"Scale Size - Inches","Scale Size - mm",null,null,"Fore Yard","Original Size (Inches)",null,"Original Size (Millimeters)",null,"Scale Size - Inches","Scale Size - mm",null,null,"Main Yard","Original Size (Inches)",null,"Original Size (Millimeters)",null,"Scale Size - Inches","Scale Size - mm",null,null,"Crossjack","Original Size (Inches)",null,"Original Size (Millimeters)",null,"Scale Size - Inches","Scale Size - mm",null,null,"Fore Topsail Yard","Original Size (Inches)",null,"Original Size (Millimeters)",null,"Scale Size - Inches","Scale Size - mm",null,null,"Main Topsail Yard","Original Size (Inches)",null,"Original Size (Millimeters)",null,"Scale Size - Inches","Scale Size - mm",null,null,"Mizzen Topsail Yard","Original Size (Inches)",null,"Original Size (Millimeters)",null,"Scale Size - Inches","Scale Size - mm",null,null,"Fore Topgallant Yard","Original Size (Inches)",null,"Original Size (Millimeters)",null,"Scale Size - Inches","Scale Size - mm",null,null,"Main Topgallant Yard","Original Size (Inches)",null,"Original Size (Millimeters)",null,"Scale Size - Inches","Scale Size - mm",null,null,"Mizzen Topgallant Yard","Original Size (Inches)",null,"Original Size (Millimeters)",null,"Scale Size - Inches","Scale Size - mm",null,null,"Fore Royal Yard","Original Size (Inches)",null,"Original Size (Millimeters)",null,"Scale Size - Inches","Scale Size - mm",null,null,"Main Royal Yard","Original Size (Inches)",null,"Original Size (Millimeters)",null,"Scale Size - Inches","Scale Size - mm",null,null,"Mizzen Royal Yard","Original Size (Inches)",null,"Original Size (Millimeters)",null,"Scale Size - Inches","Scale Size - mm",null,null,"Mizzen Yard","Original Size (Inches)",null,"Original Size (Millimeters)",null,"Scale Size - Inches","Scale Size - mm",null,null,"Mizzen Boom and Gaff","Original Size (Inches)",null,"Original Size (Millimeters)",null,"Scale Size - Inches","Scale Size - mm",null,null,"Fore Trysail","Original Size (Inches)",null,"Original Size (Millimeters)",null,"Scale Size - Inches","Scale Size - mm",null,null,"Main Trysail","Original Size (Inches)",null,"Original Size (Millimeters)",null,"Scale Size - Inches","Scale Size - mm"]
[null,null,null,null,null,"Circ.","Dia.","Circ.","Dia.","Dia.","Dia.",null,null,null,"Circ.","Dia.","Circ.","Dia.","Dia.","Dia.",null,null,null,"Circ.","Dia.","Circ.","Dia.","Dia.","Dia.",null,null,null,"Circ.","Dia.","Circ.","Dia.","Dia.","Dia.",null,null,null,"Circ.","Dia.","Circ.","Dia.","Dia.","Dia.",null,null,null,"Circ.","Dia.","Circ.","Dia.","Dia.","Dia.",null,null,null,"Circ.","Dia.","Circ.","Dia.","Dia.","Dia.",null,null,null,"Circ.","Dia.","Circ.","Dia.","Dia.","Dia.",null,null,null,"Circ.","Dia.","Circ.","Dia.","Dia.","Dia.",null,null,null,"Circ.","Dia.","Circ.","Dia.","Dia.","Dia.",null,null,null,"Circ.","Dia.","Circ.","Dia.","Dia.","Dia.",null,null,null,"Circ.","Dia.","Circ.","Dia.","Dia.","Dia.",null,null,null,"Circ.","Dia.","Circ.","Dia.","Dia.","Dia.",null,null,null,"Circ.","Dia.","Circ.","Dia.","Dia.","Dia.",null,null,null,"Circ.","Dia.","Circ.","Dia.","Dia.","Dia.",null,null,null,"Circ.","Dia.","Circ.","Dia.","Dia.","Dia.",null,null,null,"Circ.","Dia.","Circ.","Dia.","Dia.","Dia.",null,null,null,"Circ.","Dia.","Circ.","Dia.","Dia.","Dia.",null,null,null,"Circ.","Dia.","Circ.","Dia.","Dia.","Dia.",null,null,null,null,null,null,"Width","Length"]
[null,null,null,null,"Parrel Rope",{"$f":"G8*(22/7)","v":0},{"$f":"$C$14*0.3","v":0},{"$f":"I8*(22/7)","v":0},{"$f":"G8*25.4","v":0},{"$f":"G8/scale","v":{"$error":"#DIV/0!"}},{"$f":"I8/scale","v":{"$error":"#DIV/0!"}},null,null,"Parrel",{"$f":"P8*(22/7)","v":0},{"$f":"'Running Calcs'!AE5","v":0},{"$f":"R8*(22/7)","v":0},{"$f":"P8*25.4","v":0},{"$f":"P8/scale","v":{"$error":"#DIV/0!"}},{"$f":"R8/scale","v":{"$error":"#DIV/0!"}},null,null,"Jaw Ropes",{"$f":"Y8*(22/7)","v":0},{"$f":"C$14*0.3","v":0},{"$f":"AA8*(22/7)","v":0},{"$f":"Y8*25.4","v":0},{"$f":"Y8/scale","v":{"$error":"#DIV/0!"}},{"$f":"AA8/scale","v":{"$error":"#DIV/0!"}},null,null,"Ties",{"$f":"AH8*(22/7)","v":0},{"$f":"'Running Calcs'!AM5","v":0},{"$f":"AJ8*(22/7)","v":0},{"$f":"AH8*25.4","v":0},{"$f":"AH8/scale","v":{"$error":"#DIV/0!"}},{"$f":"AJ8/scale","v":{"$error":"#DIV/0!"}},null,null,"Ties",{"$f":"AQ8*(22/7)","v":0},{"$f":"'Running Calcs'!AP5","v":0},{"$f":"AS8*(22/7)","v":0},{"$f":"AQ8*25.4","v":0},{"$f":"AQ8/scale","v":{"$error":"#DIV/0!"}},{"$f":"AS8/scale","v":{"$error":"#DIV/0!"}},null,null,"Slings",{"$f":"AZ8*(22/7)","v":0},{"$f":"'Running Calcs'!AZ5","v":0},{"$f":"BB8*(22/7)","v":0},{"$f":"AZ8*25.4","v":0},{"$f":"AZ8/scale","v":{"$error":"#DIV/0!"}},{"$f":"BB8/scale","v":{"$error":"#DIV/0!"}},null,null,"Ties",{"$f":"BI8*(22/7)","v":0},{"$f":"'Running Calcs'!BJ5","v":0},{"$f":"BK8*(22/7)","v":0},{"$f":"BI8*25.4","v":0},{"$f":"BI8/scale","v":{"$error":"#DIV/0!"}},{"$f":"BK8/scale","v":{"$error":"#DIV/0!"}},null,null,"Ties",{"$f":"BR8*(22/7)","v":0},{"$f":"'Running Calcs'!BD5","v":0},{"$f":"BT8*(22/7)","v":0},{"$f":"BR8*25.4","v":0},{"$f":"BR8/scale","v":{"$error":"#DIV/0!"}},{"$f":"BT8/scale","v":{"$error":"#DIV/0!"}},null,null,"Ties",{"$f":"CA8*(22/7)","v":0},{"$f":"'Running Calcs'!BS5","v":0},{"$f":"CC8*(22/7)","v":0},{"$f":"CA8*25.4","v":0},{"$f":"CA8/scale","v":{"$error":"#DIV/0!"}},{"$f":"CC8/scale","v":{"$error":"#DIV/0!"}},null,null,"Ties",{"$f":"CJ8*(22/7)","v":0},{"$f":"'Running Calcs'!CG5","v":0},{"$f":"CL8*(22/7)","v":0},{"$f":"CJ8*25.4","v":0},{"$f":"CJ8/scale","v":{"$error":"#DIV/0!"}},{"$f":"CL8/scale","v":{"$error":"#DIV/0!"}},null,null,"Ties",{"$f":"CS8*(22/7)","v":0},{"$f":"'Running Calcs'!CC5","v":0},{"$f":"CU8*(22/7)","v":0},{"$f":"CS8*25.4","v":0},{"$f":"CS8/scale","v":{"$error":"#DIV/0!"}},{"$f":"CU8/scale","v":{"$error":"#DIV/0!"}},null,null,"Ties",{"$f":"DB8*(22/7)","v":{"$error":"#DIV/0!"}},{"$f":"C$20","v":{"$error":"#DIV/0!"}},{"$f":"DD8*(22/7)","v":{"$error":"#DIV/0!"}},{"$f":"DB8*25.4","v":{"$error":"#DIV/0!"}},{"$f":"DB8/scale","v":{"$error":"#DIV/0!"}},{"$f":"DD8/scale","v":{"$error":"#DIV/0!"}},null,null,"Ties",{"$f":"DK8*(22/7)","v":{"$error":"#DIV/0!"}},{"$f":"C$17","v":{"$error":"#DIV/0!"}},{"$f":"DM8*(22/7)","v":{"$error":"#DIV/0!"}},{"$f":"DK8*25.4","v":{"$error":"#DIV/0!"}},{"$f":"DK8/scale","v":{"$error":"#DIV/0!"}},{"$f":"DM8/scale","v":{"$error":"#DIV/0!"}},null,null,"Ties",{"$f":"DT8*(22/7)","v":{"$error":"#DIV/0!"}},{"$f":"C$13","v":{"$error":"#DIV/0!"}},{"$f":"DV8*(22/7)","v":{"$error":"#DIV/0!"}},{"$f":"DT8*25.4","v":{"$error":"#DIV/0!"}},{"$f":"DT8/scale","v":{"$error":"#DIV/0!"}},{"$f":"DV8/scale","v":{"$error":"#DIV/0!"}},null,null,"Ties",{"$f":"EC8*(22/7)","v":{"$error":"#DIV/0!"}},{"$f":"C$21","v":{"$error":"#DIV/0!"}},{"$f":"EE8*(22/7)","v":{"$error":"#DIV/0!"}},{"$f":"EC8*25.4","v":{"$error":"#DIV/0!"}},{"$f":"EC8/scale","v":{"$error":"#DIV/0!"}},{"$f":"EE8/scale","v":{"$error":"#DIV/0!"}},null,null,"Parrel Rope",{"$f":"EL8*(22/7)","v":0},{"$f":"'Running Calcs'!CI5","v":0},{"$f":"EN8*(22/7)","v":0},{"$f":"EL8*25.4","v":0},{"$f":"EL8/scale","v":{"$error":"#DIV/0!"}},{"$f":"EN8/scale","v":{"$error":"#DIV/0!"}},null,null,"Gaff Parrel",{"$f":"EU8*(22/7)","v":0},{"$f":"C$18*0.66","v":0},{"$f":"EW8*(22/7)","v":0},{"$f":"EU8*25.4","v":0},{"$f":"EU8/scale","v":{"$error":"#DIV/0!"}},{"$f":"EW8/scale","v":{"$error":"#DIV/0!"}},null,null,"Parrel",{"$f":"FD8*(22/7)","v":0},{"$f":"$EU8","v":0},{"$f":"FF8*(22/7)","v":0},{"$f":"FD8*25.4","v":0},{"$f":"FD8/scale","v":{"$error":"#DIV/0!"}},{"$f":"FF8/scale","v":{"$error":"#DIV/0!"}},null,null,"Parrel",{"$f":"FM8*(22/7)","v":0},{"$f":"$EU8","v":0},{"$f":"FO8*(22/7)","v":0},{"$f":"FM8*25.4","v":0},{"$f":"FM8/scale","v":{"$error":"#DIV/0!"}},{"$f":"FO8/scale","v":{"$error":"#DIV/0!"}},null,null,null,null,null,"Common Blocks",{"$f":"FY8*(2/5)","v":1.7600000000000002},{"$f":"($FX$5*(11/10)*8)","v":4.4000000000000004}]
[null,"Stay","Orig Size Inch Diameter",null,"Parrel Slings",0,{"$f":"'Running Calcs'!Y5","v":0},0,0,{"$error":"#DIV/0!"},{"$error":"#DIV/0!"},null,null,"Ties",0,{"$f":"'Running Calcs'!AF5","v":0},0,0,{"$error":"#DIV/0!"},{"$error":"#DIV/0!"},null,null,"Guys (Fore, Lower and After)",0,{"$f":"C$14*0.25","v":0},0,0,{"$error":"#DIV/0!"},{"$error":"#DIV/0!"},null,null,"Tie Preventer",0,{"$f":"IF(AH8>0,C13*0.25,0)","v":0},0,0,{"$error":"#DIV/0!"},{"$error":"#DIV/0!"},null,null,"Tie Preventer",0,{"$f":"IF(AQ8>0,C10*0.25,0)","v":0},0,0,{"$error":"#DIV/0!"},{"$error":"#DIV/0!"},null,null,"Truss Pendant",0,{"$f":"C$18*0.6","v":0},0,{"$f":"AZ9*25.4","v":0},{"$error":"#DIV/0!"},{"$error":"#DIV/0!"},null,null,"Runner of the Ties",0,{"$f":"'Running Calcs'!BK5","v":0},0,0,{"$error":"#DIV/0!"},{"$error":"#DIV/0!"},null,null,"Runner of the Ties",0,{"$f":"BR8*0.85","v":0},0,0,{"$error":"#DIV/0!"},{"$error":"#DIV/0!"},null,null,"Runner of the Ties",0,{"$f":"CA8*0.9","v":0},0,0,{"$error":"#DIV/0!"},{"$error":"#DIV/0!"},null,null,"Tie Halliard",0,{"$f":"'Running Calcs'!CH5","v":0},0,0,{"$error":"#DIV/0!"},{"$error":"#DIV/0!"},null,null,"Tie Halliard",0,{"$f":"'Running Calcs'!CD5","v":0},0,0,{"$error":"#DIV/0!"},{"$error":"#DIV/0!"},null,null,"Tie Halliard",{"$error":"#DIV/0!"},{"$f":"C$20*0.5","v":{"$error":"#DIV/0!"}},{"$error":"#DIV/0!"},{"$error":"#DIV/0!"},{"$error":"#DIV/0!"},{"$error":"#DIV/0!"},null,null,"Truss",{"$error":"#DIV/0!"},{"$f":"C$17*0.5","v":{"$error":"#DIV/0!"}},{"$error":"#DIV/0!"},{"$error":"#DIV/0!"},{"$error":"#DIV/0!"},{"$error":"#DIV/0!"},null,null,"Truss",{"$error":"#DIV/0!"},{"$f":"C$13*0.5","v":{"$error":"#DIV/0!"}},{"$error":"#DIV/0!"},{"$error":"#DIV/0!"},{"$error":"#DIV/0!"},{"$error":"#DIV/0!"},null,null,"Truss",{"$error":"#DIV/0!"},{"$f":"C$21*0.5","v":{"$error":"#DIV/0!"}},{"$error":"#DIV/0!"},{"$error":"#DIV/0!"},{"$error":"#DIV/0!"},{"$error":"#DIV/0!"},null,null,"Truss Parrel",0,{"$f":"C$18","v":0},0,0,{"$error":"#DIV/0!"},{"$error":"#DIV/0!"},null,null,"Gaff Topping Lift",0,{"$f":"C$18*0.5","v":0},0,0,{"$error":"#DIV/0!"},{"$error":"#DIV/0!"},null,null,"Throat Halliard",0,{"$f":"$EU12","v":0},0,0,{"$error":"#DIV/0!"},{"$error":"#DIV/0!"},null,null,"Throat Halliard",0,{"$f":"$EU12","v":0},0,0,{"$error":"#DIV/0!"},{"$error":"#DIV/0!"},null,null,"View Precision",null,null,"Long Double Blocks",null,{"$f":"$FX$5*8","v":4}]
[null,"Main Stay",{"$f":"Standing!W12","v":0},null,"Halliard",0,{"$f":"'Running Calcs'!Z5","v":0},0,0,{"$error":"#DIV/0!"},{"$error":"#DIV/0!"},null,null,"Halliards",0,{"$f":"'Running Calcs'!AG5","v":0},0,0,{"$error":"#DIV/0!"},{"$error":"#DIV/0!"},null,null,"Lanyards",0,{"$f":"C$14*0.125","v":0},0,0,{"$error":"#DIV/0!"},{"$error":"#DIV/0!"},null,null,"Tie Halliard",0,{"$f":"IF(AH9>0,C$10*0.375,0)","v":0},0,0,{"$error":"#DIV/0!"},{"$error":"#DIV/0!"},null,null,"Tie Halliard",0,{"$f":"IF(AQ9>0,C$10*0.375,0)","v":0},0,0,{"$error":"#DIV/0!"},{"$error":"#DIV/0!"},null,null,"Truss Pendant Falls",0,{"$f":"C$18*0.5","v":0},0,0,{"$error":"#DIV/0!"},{"$error":"#DIV/0!"},null,null,"Tie Halliard",0,{"$f":"'Running Calcs'!BL5","v":0},0,0,{"$error":"#DIV/0!"},{"$error":"#DIV/0!"},null,null,"Tie Halliard",0,{"$f":"'Running Calcs'!BE5","v":0},0,0,{"$error":"#DIV/0!"},{"$error":"#DIV/0!"},null,null,"Tie Halliard",0,{"$f":"'Running Calcs'!BT5","v":0},0,0,{"$error":"#DIV/0!"},{"$error":"#DIV/0!"},null,null,"Parrel Rope",{"$error":"#DIV/0!"},{"$f":"C$16*0.55","v":{"$error":"#DIV/0!"}},{"$error":"#DIV/0!"},{"$error":"#DIV/0!"},{"$error":"#DIV/0!"},{"$error":"#DIV/0!"},null,null,"Parrel Rope",0,{"$f":"'Running Calcs'!CE5","v":0},0,0,{"$error":"#DIV/0!"},{"$error":"#DIV/0!"},null,null,"Parrel Rope",{"$error":"#DIV/0!"},{"$f":"C$20*0.6","v":{"$error":"#DIV/0!"}},{"$error":"#DIV/0!"},{"$error":"#DIV/0!"},{"$error":"#DIV/0!"},{"$error":"#DIV/0!"},null,null,"Braces",{"$error":"#DIV/0!"},{"$f":"C$17*0.75","v":{"$error":"#DIV/0!"}},{"$error":"#DIV/0!"},{"$error":"#DIV/0!"},{"$error":"#DIV/0!"},{"$error":"#DIV/0!"},null,null,"Braces",{"$error":"#DIV/0!"},{"$f":"C$13*0.75","v":{"$error":"#DIV/0!"}},{"$error":"#DIV/0!"},{"$error":"#DIV/0!"},{"$error":"#DIV/0!"},{"$error":"#DIV/0!"},null,null,"Braces",{"$error":"#DIV/0!"},{"$f":"C$21*0.75","v":{"$error":"#DIV/0!"}},{"$error":"#DIV/0!"},{"$error":"#DIV/0!"},{"$error":"#DIV/0!"},{"$error":"#DIV/0!"},null,null,"Truss",0,{"$f":"IF(EL$8>0,C$18*0.55,0)","v":0},0,0,{"$error":"#DIV/0!"},{"$error":"#DIV/0!"},null,null,"Vang Pendants",0,{"$f":"C$18*0.55","v":0},0,0,{"$error":"#DIV/0!"},{"$error":"#DIV/0!"},null,null,"Peak Span",0,{"$f":"$C$14*0.25","v":0},0,0,{"$error":"#DIV/0!"},{"$error":"#DIV/0!"},null,null,"Peak Span",0,{"$f":"$C$10*0.25","v":0},0,0,{"$error":"#DIV/0!"},{"$error":"#DIV/0!"},null,null,null,null,null,"Fiddle Blocks",null,{"$f":"$FX$5*10","v":5}]
[null,"Main Topmast Stay",{"$f":"Standing!W18","v":0},null,"Garnet",0,{"$f":"$C$14*0.23","v":0},0,0,{"$error":"#DIV/0!"},{"$error":"#DIV/0!"},null,null,"Lifts",0,{"$f":"'Running Calcs'!AH5","v":0},0,0,{"$error":"#DIV/0!"},{"$error":"#DIV/0!"},null,null,"Braces (Double)",0,{"$f":"C$14*0.25","v":0},0,0,{"$error":"#DIV/0!"},{"$error":"#DIV/0!"},null,null,"Jeers",0,{"$f":"'Running Calcs'!AN5","v":0},0,0,{"$error":"#DIV/0!"},{"$error":"#DIV/0!"},null,null,"Jeers",0,{"$f":"'Running Calcs'!AQ5","v":0},0,0,{"$error":"#DIV/0!"},{"$error":"#DIV/0!"},null,null,"Lifts",0,{"$f":"'Running Calcs'!BA5","v":0},0,0,{"$error":"#DIV/0!"},{"$error":"#DIV/0!"},null,null,"Parrel Rope",0,{"$f":"'Running Calcs'!BM5","v":0},0,0,{"$error":"#DIV/0!"},{"$error":"#DIV/0!"},null,null,"Parrel Rope",0,{"$f":"'Running Calcs'!BF5","v":0},0,0,{"$error":"#DIV/0!"},{"$error":"#DIV/0!"},null,null,"Parrel Rope",0,{"$f":"'Running Calcs'!BU5","v":0},0,0,{"$error":"#DIV/0!"},{"$error":"#DIV/0!"},null,null,"Lifts",{"$error":"#DIV/0!"},{"$f":"C$16*0.66","v":{"$error":"#DIV/0!"}},{"$error":"#DIV/0!"},{"$error":"#DIV/0!"},{"$error":"#DIV/0!"},{"$error":"#DIV/0!"},null,null,"Lifts",0,{"$f":"'Running Calcs'!CF5","v":0},0,0,{"$error":"#DIV/0!"},{"$error":"#DIV/0!"},null,null,"Lifts",{"$error":"#DIV/0!"},{"$f":"C$20*0.8","v":{"$error":"#DIV/0!"}},{"$error":"#DIV/0!"},{"$error":"#DIV/0!"},{"$error":"#DIV/0!"},{"$error":"#DIV/0!"},null,null,"Bowlines and Bridles",{"$error":"#DIV/0!"},{"$f":"C$17*0.5","v":{"$error":"#DIV/0!"}},{"$error":"#DIV/0!"},{"$error":"#DIV/0!"},{"$error":"#DIV/0!"},{"$error":"#DIV/0!"},null,null,"Bowlines and Bridles",{"$error":"#DIV/0!"},{"$f":"C$13*0.5","v":{"$error":"#DIV/0!"}},{"$error":"#DIV/0!"},{"$error":"#DIV/0!"},{"$error":"#DIV/0!"},{"$error":"#DIV/0!"},null,null,"Bowlines and Bridles",{"$error":"#DIV/0!"},{"$f":"C$21*0.5","v":{"$error":"#DIV/0!"}},{"$error":"#DIV/0!"},{"$error":"#DIV/0!"},{"$error":"#DIV/0!"},{"$error":"#DIV/0!"},null,null,"Sling",0,{"$f":"'Running Calcs'!CJ5","v":0},0,0,{"$error":"#DIV/0!"},{"$error":"#DIV/0!"},null,null,"Whips",0,{"$f":"C$18*0.275","v":0},0,0,{"$error":"#DIV/0!"},{"$error":"#DIV/0!"},null,null,"Peak Span Pendant",0,{"$f":"$C$14*0.25","v":0},0,0,{"$error":"#DIV/0!"},{"$error":"#DIV/0!"},null,null,"Peak Span Pendant",0,{"$f":"$C$10*0.25","v":0},0,0,{"$error":"#DIV/0!"},{"$error":"#DIV/0!"},null,null,null,null,null,"Shoe Blocks",null,{"$f":"$FX$5*9","v":4.5}]
[null,"Main Topgallant Stay",{"$f":"Standing!W24","v":{"$error":"#DIV/0!"}},null,"Garnet Span",0,{"$f":"$C$14*0.23","v":0},0,0,{"$error":"#DIV/0!"},{"$error":"#DIV/0!"},null,null,"Brace Pendants",0,{"$f":"'Running Calcs'!AI5","v":0},0,0,{"$error":"#DIV/0!"},{"$error":"#DIV/0!"},null,null,"Braces (Single)",0,{"$f":"C$14*0.3","v":0},0,0,{"$error":"#DIV/0!"},{"$error":"#DIV/0!"},null,null,"Jeer Falls",0,{"$f":"C$14*0.25","v":0},0,0,{"$error":"#DIV/0!"},{"$error":"#DIV/0!"},null,null,"Jeer Falls",0,{"$f":"C$10*0.25","v":0},0,0,{"$error":"#DIV/0!"},{"$error":"#DIV/0!"},null,null,"Lift Lanyards",0,{"$f":"AZ11*0.6","v":0},0,0,{"$error":"#DIV/0!"},{"$error":"#DIV/0!"},null,null,"Truss Parrel",0,{"$f":"C$15*0.6","v":0},0,0,{"$error":"#DIV/0!"},{"$error":"#DIV/0!"},null,null,"Truss Parrel",0,{"$f":"C$11*0.6","v":0},0,0,{"$error":"#DIV/0!"},{"$error":"#DIV/0!"},null,null,"Truss Parrel",{"$error":"#DIV/0!"},{"$f":"C$19*0.6","v":{"$error":"#DIV/0!"}},{"$error":"#DIV/0!"},{"$error":"#DIV/0!"},{"$error":"#DIV/0!"},{"$error":"#DIV/0!"},null,null,"Footropes",{"$f":"IF(($C$16*0.75)*(22/7)<1.5,1.5,($C$16*0.75)*(22/7))","v":{"$error":"#DIV/0!"}},{"$f":"CI12/(22/7)","v":{"$error":"#DIV/0!"}},{"$error":"#DIV/0!"},{"$error":"#DIV/0!"},{"$error":"#DIV/0!"},{"$error":"#DIV/0!"},null,null,"Footropes",{"$f":"IF(($C$12*0.7)*(22/7)<1.5,1.5,($C$12*0.7)*(22/7))","v":{"$error":"#DIV/0!"}},{"$f":"CR12/(22/7)","v":{"$error":"#DIV/0!"}},{"$error":"#DIV/0!"},{"$error":"#DIV/0!"},{"$error":"#DIV/0!"},{"$error":"#DIV/0!"},null,null,"Footropes",{"$f":"IF(($C$20*0.8)*(22/7)<1.5,1.5,($C$20*0.8)*(22/7))","v":{"$error":"#DIV/0!"}},{"$f":"DA12/(22/7)","v":{"$error":"#DIV/0!"}},{"$error":"#DIV/0!"},{"$error":"#DIV/0!"},{"$error":"#DIV/0!"},{"$error":"#DIV/0!"},null,null,"Clew Lines",{"$error":"#DIV/0!"},{"$f":"C$17*0.5","v":{"$error":"#DIV/0!"}},{"$error":"#DIV/0!"},{"$error":"#DIV/0!"},{"$error":"#DIV/0!"},{"$error":"#DIV/0!"},null,null,"Clew Lines",{"$error":"#DIV/0!"},{"$f":"C$13*0.5","v":{"$error":"#DIV/0!"}},{"$error":"#DIV/0!"},{"$error":"#DIV/0!"},{"$error":"#DIV/0!"},{"$error":"#DIV/0!"},null,null,"Clew Lines",{"$error":"#DIV/0!"},{"$f":"C$21*0.5","v":{"$error":"#DIV/0!"}},{"$error":"#DIV/0!"},{"$error":"#DIV/0!"},{"$error":"#DIV/0!"},{"$error":"#DIV/0!"},null,null,"Ties",0,{"$f":"IF(EL$8>0,C$18*0.36,0)","v":0},0,0,{"$error":"#DIV/0!"},{"$error":"#DIV/0!"},null,null,"Throat Halliards",0,{"$f":"C$18*0.5","v":0},0,0,{"$error":"#DIV/0!"},{"$error":"#DIV/0!"},null,null,"Vangs",0,{"$f":"$C$14*0.2","v":0},0,0,{"$error":"#DIV/0!"},{"$error":"#DIV/0!"},null,null,"Vangs",0,{"$f":"$C$10*0.2","v":0},0,0,{"$error":"#DIV/0!"},{"$error":"#DIV/0!"},null,null,null,null,null,"Flat Thin Blocks",null,{"$f":"$FX$5*6.5","v":3.25}]
[null,"Main Royal Stay",{"$f":"Standing!W26","v":{"$error":"#DIV/0!"}},null,"Standing Lifts",0,{"$f":"'Running Calcs'!AA5","v":0},0,0,{"$error":"#DIV/0!"},{"$error":"#DIV/0!"},null,null,"Braces",0,{"$f":"'Running Calcs'!AJ5","v":0},0,0,{"$error":"#DIV/0!"},{"$error":"#DIV/0!"},null,null,"Brace Fall",0,{"$f":"C$14*0.125","v":0},0,0,{"$error":"#DIV/0!"},{"$error":"#DIV/0!"},null,null,"Slings",0,{"$f":"C$14*0.25","v":0},0,0,{"$error":"#DIV/0!"},{"$error":"#DIV/0!"},null,null,"Slings",0,{"$f":"C$10*0.25","v":0},0,0,{"$error":"#DIV/0!"},{"$error":"#DIV/0!"},null,null,"Footropes",{"$f":"IF(($C$18*0.4)*(22/7)<1.5,1.5,($C$18*0.4)*(22/7))","v":1.5},{"$f":"AY13/(22/7)","v":0.47727272727272729},38.1,12.122727272727273,{"$error":"#DIV/0!"},{"$error":"#DIV/0!"},null,null,"Lifts",0,{"$f":"'Running Calcs'!BN5","v":0},0,0,{"$error":"#DIV/0!"},{"$error":"#DIV/0!"},null,null,"Lifts",0,{"$f":"BR10","v":0},0,0,{"$error":"#DIV/0!"},{"$error":"#DIV/0!"},null,null,"Lifts",0,{"$f":"'Running Calcs'!BV5","v":0},0,0,{"$error":"#DIV/0!"},{"$error":"#DIV/0!"},null,null,"Lanyard",{"$error":"#DIV/0!"},{"$f":"C$16*0.3","v":{"$error":"#DIV/0!"}},{"$error":"#DIV/0!"},{"$error":"#DIV/0!"},{"$error":"#DIV/0!"},{"$error":"#DIV/0!"},null,null,"Lanyard",{"$error":"#DIV/0!"},{"$f":"C$12*0.3","v":{"$error":"#DIV/0!"}},{"$error":"#DIV/0!"},{"$error":"#DIV/0!"},{"$error":"#DIV/0!"},{"$error":"#DIV/0!"},null,null,"Lanyard",{"$error":"#DIV/0!"},{"$f":"C$20*0.5","v":{"$error":"#DIV/0!"}},{"$error":"#DIV/0!"},{"$error":"#DIV/0!"},{"$error":"#DIV/0!"},{"$error":"#DIV/0!"},null,null,"Lifts",{"$error":"#DIV/0!"},{"$f":"C$17*0.75","v":{"$error":"#DIV/0!"}},{"$error":"#DIV/0!"},{"$error":"#DIV/0!"},{"$error":"#DIV/0!"},{"$error":"#DIV/0!"},null,null,"Lifts",{"$error":"#DIV/0!"},{"$f":"C$13*0.75","v":{"$error":"#DIV/0!"}},{"$error":"#DIV/0!"},{"$error":"#DIV/0!"},{"$error":"#DIV/0!"},{"$error":"#DIV/0!"},null,null,"Lifts",{"$error":"#DIV/0!"},{"$f":"C$21*0.75","v":{"$error":"#DIV/0!"}},{"$error":"#DIV/0!"},{"$error":"#DIV/0!"},{"$error":"#DIV/0!"},{"$error":"#DIV/0!"},null,null,"Tie Falls",0,{"$f":"IF(EL$8>0,C$18*0.27,0)","v":0},0,0,{"$error":"#DIV/0!"},{"$error":"#DIV/0!"},null,null,"Boom Topping Lift",0,{"$f":"C$18*0.6","v":0},0,0,{"$error":"#DIV/0!"},{"$error":"#DIV/0!"},null,null,"Peak and Foot Brails",0,{"$f":"$EU29","v":0},0,0,{"$error":"#DIV/0!"},{"$error":"#DIV/0!"},null,null,"Peak and Foot Brails",0,{"$f":"$EU29","v":0},0,0,{"$error":"#DIV/0!"},{"$error":"#DIV/0!"},null,null,null,null,null,"Rams Head Blocks",null,{"$f":"$FX$5*4","v":2}]
[null,"Fore Stay",{"$f":"Standing!N12","v":0},null,"Brace pendant",0,{"$f":"$C$14*0.3","v":0},0,0,{"$error":"#DIV/0!"},{"$error":"#DIV/0!"},null,null,"Clew Lines",0,{"$f":"'Running Calcs'!AK5","v":0},0,0,{"$error":"#DIV/0!"},{"$error":"#DIV/0!"},null,null,null,null,null,null,null,null,null,null,null,"Parrel Rope",0,{"$f":"C$14*0.33","v":0},0,0,{"$error":"#DIV/0!"},{"$error":"#DIV/0!"},null,null,"Parrel Rope",0,{"$f":"C$10*0.33","v":0},0,0,{"$error":"#DIV/0!"},{"$error":"#DIV/0!"},null,null,"Lanyard",0,{"$f":"C$18*0.25","v":0},0,0,{"$error":"#DIV/0!"},{"$error":"#DIV/0!"},null,null,"Footropes",1.5,{"$f":"BR14","v":0.47727272727272729},38.1,12.122727272727273,{"$error":"#DIV/0!"},{"$error":"#DIV/0!"},null,null,"Footropes",{"$f":"IF(($C$11*0.55)*(22/7)<1.5,1.5,($C$11*0.55)*(22/7))","v":1.5},{"$f":"BQ14/(22/7)","v":0.47727272727272729},38.1,12.122727272727273,{"$error":"#DIV/0!"},{"$error":"#DIV/0!"},null,null,"Lift Falls",0,{"$f":"CA13*0.75","v":0},0,0,{"$error":"#DIV/0!"},{"$error":"#DIV/0!"},null,null,"Stirrups",{"$error":"#DIV/0!"},{"$f":"C$16*0.5","v":{"$error":"#DIV/0!"}},{"$error":"#DIV/0!"},{"$error":"#DIV/0!"},{"$error":"#DIV/0!"},{"$error":"#DIV/0!"},null,null,"Stirrups",{"$error":"#DIV/0!"},{"$f":"C$12*0.5","v":{"$error":"#DIV/0!"}},{"$error":"#DIV/0!"},{"$error":"#DIV/0!"},{"$error":"#DIV/0!"},{"$error":"#DIV/0!"},null,null,"Stirrups",{"$error":"#DIV/0!"},{"$f":"C$20*0.5","v":{"$error":"#DIV/0!"}},{"$error":"#DIV/0!"},{"$error":"#DIV/0!"},{"$error":"#DIV/0!"},{"$error":"#DIV/0!"},null,null,"Sheets",{"$error":"#DIV/0!"},{"$f":"C$17","v":{"$error":"#DIV/0!"}},{"$error":"#DIV/0!"},{"$error":"#DIV/0!"},{"$error":"#DIV/0!"},{"$error":"#DIV/0!"},null,null,"Sheets",{"$error":"#DIV/0!"},{"$f":"C$13","v":{"$error":"#DIV/0!"}},{"$error":"#DIV/0!"},{"$error":"#DIV/0!"},{"$error":"#DIV/0!"},{"$error":"#DIV/0!"},null,null,"Sheets",{"$error":"#DIV/0!"},{"$f":"C$21","v":{"$error":"#DIV/0!"}},{"$error":"#DIV/0!"},{"$error":"#DIV/0!"},{"$error":"#DIV/0!"},{"$error":"#DIV/0!"},null,null,"Jeers",0,{"$f":"'Running Calcs'!CK5","v":0},0,0,{"$error":"#DIV/0!"},{"$error":"#DIV/0!"},null,null,"Topping Lift Falls",0,{"$f":"C$18*0.33","v":0},0,0,{"$error":"#DIV/0!"},{"$error":"#DIV/0!"},null,null,"Throat Brails",0,{"$f":"$EU30","v":0},0,0,{"$error":"#DIV/0!"},{"$error":"#DIV/0!"},null,null,"Throat Brails",0,{"$f":"$EU30","v":0},0,0,{"$error":"#DIV/0!"},{"$error":"#DIV/0!"},null,null,null,null,null,"Parrel Trucks",null,{"$f":"$FX$5*1.5","v":0.75}]
[null,"Fore Topmast Stay",{"$f":"Standing!N18","v":0},null,"Braces",0,{"$f":"$C$14*0.25","v":0},0,0,{"$error":"#DIV/0!"},{"$error":"#DIV/0!"},null,null,"Footropes",{"$f":"IF(('Running Calcs'!AL$5)*(22/7)<1.5,1.5,('Running Calcs'!AL$5)*(22/7))","v":1.5},{"$f":"O15/(22/7)","v":0.47727272727272729},38.1,12.122727272727273,{"$error":"#DIV/0!"},{"$error":"#DIV/0!"},null,null,null,null,null,null,null,null,null,null,null,"Breast Rope",0,{"$f":"C$14*0.5","v":0},0,0,{"$error":"#DIV/0!"},{"$error":"#DIV/0!"},null,null,"Breast Rope",0,{"$f":"C$10*0.5","v":0},0,0,{"$error":"#DIV/0!"},{"$error":"#DIV/0!"},null,null,"Stirrups",0,{"$f":"C$18*0.33","v":0},0,0,{"$error":"#DIV/0!"},{"$error":"#DIV/0!"},null,null,"Lanyards",0,{"$f":"BR15","v":0},0,0,{"$error":"#DIV/0!"},{"$error":"#DIV/0!"},null,null,"Lanyards",0,{"$f":"C$11*0.22","v":0},0,0,{"$error":"#DIV/0!"},{"$error":"#DIV/0!"},null,null,"Footropes",{"$f":"IF(($C$19*0.66)*(22/7)<1.5,1.5,($C$19*0.66)*(22/7))","v":{"$error":"#DIV/0!"}},{"$f":"BZ15/(22/7)","v":{"$error":"#DIV/0!"}},{"$error":"#DIV/0!"},{"$error":"#DIV/0!"},{"$error":"#DIV/0!"},{"$error":"#DIV/0!"},null,null,"Brace Pendants",{"$error":"#DIV/0!"},{"$f":"C$16*0.66","v":{"$error":"#DIV/0!"}},{"$error":"#DIV/0!"},{"$error":"#DIV/0!"},{"$error":"#DIV/0!"},{"$error":"#DIV/0!"},null,null,"Brace Pendants",{"$error":"#DIV/0!"},{"$f":"C$12*0.66","v":{"$error":"#DIV/0!"}},{"$error":"#DIV/0!"},{"$error":"#DIV/0!"},{"$error":"#DIV/0!"},{"$error":"#DIV/0!"},null,null,"Braces",{"$error":"#DIV/0!"},{"$f":"C$20*0.5","v":{"$error":"#DIV/0!"}},{"$error":"#DIV/0!"},{"$error":"#DIV/0!"},{"$error":"#DIV/0!"},{"$error":"#DIV/0!"},null,null,"Footropes",{"$f":"IF(($C$17*0.5)*(22/7)<1.5,1.5,($C$17*0.5)*(22/7))","v":{"$error":"#DIV/0!"}},{"$f":"DJ15/(22/7)","v":{"$error":"#DIV/0!"}},{"$error":"#DIV/0!"},{"$error":"#DIV/0!"},{"$error":"#DIV/0!"},{"$error":"#DIV/0!"},null,null,"Footropes",{"$f":"IF(($C$13*0.5)*(22/7)<1.5,1.5,($C$13*0.5)*(22/7))","v":{"$error":"#DIV/0!"}},{"$f":"DS15/(22/7)","v":{"$error":"#DIV/0!"}},{"$error":"#DIV/0!"},{"$error":"#DIV/0!"},{"$error":"#DIV/0!"},{"$error":"#DIV/0!"},null,null,"Footropes",{"$f":"IF(($C$21*0.5)*(22/7)<1.5,1.5,($C$21*0.5)*(22/7))","v":{"$error":"#DIV/0!"}},{"$f":"EB15/(22/7)","v":{"$error":"#DIV/0!"}},{"$error":"#DIV/0!"},{"$error":"#DIV/0!"},{"$error":"#DIV/0!"},{"$error":"#DIV/0!"},null,null,"Lift",0,{"$f":"IF(EL$8>0,C$18*0.33,0)","v":0},0,0,{"$error":"#DIV/0!"},{"$error":"#DIV/0!"},null,null,"Boom Sheets",0,{"$f":"C$18*0.4","v":0},0,0,{"$error":"#DIV/0!"},{"$error":"#DIV/0!"},null,null,"Tacks",0,{"$f":"$EU32","v":0},0,{"$f":"FD15*25.4","v":0},{"$f":"FD15/scale","v":{"$error":"#DIV/0!"}},{"$f":"FF15/scale","v":{"$error":"#DIV/0!"}},null,null,"Tacks",0,{"$f":"$EU32","v":0},0,0,{"$error":"#DIV/0!"},{"$error":"#DIV/0!"},null,null,null,null,null,"Parrel Ribs Lower",null,{"$f":"$FX$5*8","v":4}]
[null,"Fore Topgallant Stay",{"$f":"Standing!N24","v":{"$error":"#DIV/0!"}},null,"Running Lifts",0,{"$f":"$C$14*0.2","v":0},0,0,{"$error":"#DIV/0!"},{"$error":"#DIV/0!"},null,null,"Earings",0,{"$f":"C$15*0.125","v":0},0,0,{"$error":"#DIV/0!"},{"$error":"#DIV/0!"},null,null,null,null,null,null,null,null,null,null,null,"Nave Line",0,{"$f":"C$14*0.165","v":0},0,0,{"$error":"#DIV/0!"},{"$error":"#DIV/0!"},null,null,"Nave Line",0,{"$f":"C$10*0.165","v":0},0,0,{"$error":"#DIV/0!"},{"$error":"#DIV/0!"},null,null,"Brace Pendants",0,{"$f":"'Running Calcs'!BB5","v":0},0,0,{"$error":"#DIV/0!"},{"$error":"#DIV/0!"},null,null,"Stirrups",0,{"$f":"BR16","v":0},0,0,{"$error":"#DIV/0!"},{"$error":"#DIV/0!"},null,null,"Stirrups",0,{"$f":"C$11*0.36","v":0},0,0,{"$error":"#DIV/0!"},{"$error":"#DIV/0!"},null,null,"Lanyards",{"$error":"#DIV/0!"},{"$f":"C$19*0.25","v":{"$error":"#DIV/0!"}},{"$error":"#DIV/0!"},{"$error":"#DIV/0!"},{"$error":"#DIV/0!"},{"$error":"#DIV/0!"},null,null,"Braces",{"$error":"#DIV/0!"},{"$f":"C$16*0.5","v":{"$error":"#DIV/0!"}},{"$error":"#DIV/0!"},{"$error":"#DIV/0!"},{"$error":"#DIV/0!"},{"$error":"#DIV/0!"},null,null,"Braces",{"$error":"#DIV/0!"},{"$f":"C$12*0.5","v":{"$error":"#DIV/0!"}},{"$error":"#DIV/0!"},{"$error":"#DIV/0!"},{"$error":"#DIV/0!"},{"$error":"#DIV/0!"},null,null,"Buntlines",{"$error":"#DIV/0!"},{"$f":"C$20*0.33","v":{"$error":"#DIV/0!"}},{"$error":"#DIV/0!"},{"$error":"#DIV/0!"},{"$error":"#DIV/0!"},{"$error":"#DIV/0!"},null,null,"Earings",{"$error":"#DIV/0!"},{"$f":"C$17*0.2","v":{"$error":"#DIV/0!"}},{"$error":"#DIV/0!"},{"$error":"#DIV/0!"},{"$error":"#DIV/0!"},{"$error":"#DIV/0!"},null,null,"Earings",{"$error":"#DIV/0!"},{"$f":"C$13*0.2","v":{"$error":"#DIV/0!"}},{"$error":"#DIV/0!"},{"$error":"#DIV/0!"},{"$error":"#DIV/0!"},{"$error":"#DIV/0!"},null,null,"Lanyard",{"$error":"#DIV/0!"},{"$f":"C$21*0.33","v":{"$error":"#DIV/0!"}},{"$error":"#DIV/0!"},{"$error":"#DIV/0!"},{"$error":"#DIV/0!"},{"$error":"#DIV/0!"},null,null,"Lift Span and Falls",0,{"$f":"IF(EL$8>0,C$18*0.33,0)","v":0},0,0,{"$error":"#DIV/0!"},{"$error":"#DIV/0!"},null,null,"Boom Sheet and Guys Combined",0,{"$f":"C$18*0.4","v":0},0,0,{"$error":"#DIV/0!"},{"$error":"#DIV/0!"},null,null,"Sheets",0,{"$f":"$EU33","v":0},0,{"$f":"FD16*25.4","v":0},{"$f":"FD16/scale","v":{"$error":"#DIV/0!"}},{"$f":"FF16/scale","v":{"$error":"#DIV/0!"}},null,null,"Sheets",0,{"$f":"$EU33","v":0},0,0,{"$error":"#DIV/0!"},{"$error":"#DIV/0!"},null,null,null,null,null,"Parrel Ribs Upper",null,{"$f":"$FX$5*5.5","v":2.75}]
[null,"Fore Royal Stay",{"$f":"Standing!N26","v":{"$error":"#DIV/0!"}},null,"Sheet Pendants",0,{"$f":"'Running Calcs'!AB5","v":0},0,0,{"$error":"#DIV/0!"},{"$error":"#DIV/0!"},null,null,null,null,null,null,null,null,null,null,null,null,null,null,null,null,null,null,null,null,"Truss Pendants",0,{"$f":"AQ17","v":0},0,0,{"$error":"#DIV/0!"},{"$error":"#DIV/0!"},null,null,"Truss Pendants",0,{"$f":"C$10*0.45","v":0},0,0,{"$error":"#DIV/0!"},{"$error":"#DIV/0!"},null,null,"Braces",0,{"$f":"'Running Calcs'!BC5","v":0},0,0,{"$error":"#DIV/0!"},{"$error":"#DIV/0!"},null,null,"Flemish Horses",0,{"$f":"BR17","v":0},0,0,{"$error":"#DIV/0!"},{"$error":"#DIV/0!"},null,null,"Flemish Horses",0,{"$f":"C$11*0.4","v":0},0,0,{"$error":"#DIV/0!"},{"$error":"#DIV/0!"},null,null,"Stirrups",0,{"$f":"'Running Calcs'!BW5","v":0},0,0,{"$error":"#DIV/0!"},{"$error":"#DIV/0!"},null,null,"Buntlines",{"$error":"#DIV/0!"},{"$f":"C$16*0.33","v":{"$error":"#DIV/0!"}},{"$error":"#DIV/0!"},{"$f":"CJ17*25.4","v":{"$error":"#DIV/0!"}},{"$f":"CJ17/scale","v":{"$error":"#DIV/0!"}},{"$f":"CL17/scale","v":{"$error":"#DIV/0!"}},null,null,"Buntlines",{"$error":"#DIV/0!"},{"$f":"C$12*0.33","v":{"$error":"#DIV/0!"}},{"$error":"#DIV/0!"},{"$f":"CS17*25.4","v":{"$error":"#DIV/0!"}},{"$f":"CS17/scale","v":{"$error":"#DIV/0!"}},{"$f":"CU17/scale","v":{"$error":"#DIV/0!"}},null,null,"Bowlines and Bridles",{"$error":"#DIV/0!"},{"$f":"C$20*0.6","v":{"$error":"#DIV/0!"}},{"$error":"#DIV/0!"},{"$f":"DB17*25.4","v":{"$error":"#DIV/0!"}},{"$f":"DB17/scale","v":{"$error":"#DIV/0!"}},{"$f":"DD17/scale","v":{"$error":"#DIV/0!"}},null,null,null,null,null,null,null,null,null,null,null,"Stay Sail Halliards",{"$error":"#DIV/0!"},{"$f":"C$13*0.6","v":{"$error":"#DIV/0!"}},{"$error":"#DIV/0!"},{"$f":"DT17*25.4","v":{"$error":"#DIV/0!"}},{"$f":"DT17/scale","v":{"$error":"#DIV/0!"}},{"$f":"DV17/scale","v":{"$error":"#DIV/0!"}},null,null,"Earings",{"$error":"#DIV/0!"},{"$f":"C$21*0.2","v":{"$error":"#DIV/0!"}},{"$error":"#DIV/0!"},{"$f":"EC17*25.4","v":{"$error":"#DIV/0!"}},{"$f":"EC17/scale","v":{"$error":"#DIV/0!"}},{"$f":"EE17/scale","v":{"$error":"#DIV/0!"}},null,null,"Bowlines",0,{"$f":"'Running Calcs'!CL5","v":0},0,{"$f":"EL17*25.4","v":0},{"$f":"EL17/scale","v":{"$error":"#DIV/0!"}},{"$f":"EN17/scale","v":{"$error":"#DIV/0!"}},null,null,"Boom Guy Pendants",0,{"$f":"C$18*0.4","v":0},0,{"$f":"EU17*25.4","v":0},{"$f":"EU17/scale","v":{"$error":"#DIV/0!"}},{"$f":"EW17/scale","v":{"$error":"#DIV/0!"}},null,null,"Outhauler and Inhauler",0,{"$f":"FD14","v":0},{"$f":"FF17*(22/7)","v":0},{"$f":"FD17*25.4","v":0},{"$f":"FD17/scale","v":{"$error":"#DIV/0!"}},{"$f":"FF17/scale","v":{"$error":"#DIV/0!"}},null,null,"Outhauler and Inhauler",0,{"$f":"FM14","v":0},0,{"$f":"FM17*25.4","v":0},{"$f":"FM17/scale","v":{"$error":"#DIV/0!"}},{"$f":"FO17/scale","v":{"$error":"#DIV/0!"}},null,null,null,null,null,"Thimbles",null,{"$f":"$FX$5*1.25","v":0.625}]
[null,"Mizzen Stay",{"$f":"Standing!AF11","v":0},null,"Sheet Strop",0,{"$f":"$C$14*0.25","v":0},0,0,{"$error":"#DIV/0!"},{"$error":"#DIV/0!"},null,null,null,null,null,null,null,null,null,null,null,null,null,null,null,null,null,null,null,null,"Truss Pendant Falls",0,0,0,0,{"$error":"#DIV/0!"},{"$error":"#DIV/0!"},null,null,"Truss Pendant Falls",0,{"$f":"C$10*0.18","v":0},0,0,{"$error":"#DIV/0!"},{"$error":"#DIV/0!"},null,null,"Staysail Stay",0,{"$f":"C$18*0.6","v":0},0,0,{"$error":"#DIV/0!"},{"$error":"#DIV/0!"},null,null,"Earings",0,{"$f":"BR18","v":0},0,0,{"$error":"#DIV/0!"},{"$error":"#DIV/0!"},null,null,"Earings",0,{"$f":"C$11*0.165","v":0},0,0,{"$error":"#DIV/0!"},{"$error":"#DIV/0!"},null,null,"Flemish Horses",{"$error":"#DIV/0!"},{"$f":"C$19*0.6","v":{"$error":"#DIV/0!"}},{"$error":"#DIV/0!"},{"$error":"#DIV/0!"},{"$error":"#DIV/0!"},{"$error":"#DIV/0!"},null,null,"Bowlines and Bridles",{"$error":"#DIV/0!"},{"$f":"C$16*0.5","v":{"$error":"#DIV/0!"}},{"$error":"#DIV/0!"},{"$error":"#DIV/0!"},{"$error":"#DIV/0!"},{"$error":"#DIV/0!"},null,null,"Bowlines and Bridles",{"$error":"#DIV/0!"},{"$f":"C$12*0.5","v":{"$error":"#DIV/0!"}},{"$error":"#DIV/0!"},{"$error":"#DIV/0!"},{"$error":"#DIV/0!"},{"$error":"#DIV/0!"},null,null,"Clew Lines",{"$error":"#DIV/0!"},{"$f":"C$20*0.6","v":{"$error":"#DIV/0!"}},{"$error":"#DIV/0!"},{"$error":"#DIV/0!"},{"$error":"#DIV/0!"},{"$error":"#DIV/0!"},null,null,null,null,null,null,null,null,null,null,null,"Stay Sail Sheets",{"$error":"#DIV/0!"},{"$f":"C$13*0.6","v":{"$error":"#DIV/0!"}},{"$error":"#DIV/0!"},{"$f":"DT18*25.4","v":{"$error":"#DIV/0!"}},{"$f":"DT18/scale","v":{"$error":"#DIV/0!"}},{"$f":"DV18/scale","v":{"$error":"#DIV/0!"}},null,null,null,null,null,null,null,null,null,null,null,"Sheets",0,{"$f":"'Running Calcs'!CM5","v":0},0,0,{"$error":"#DIV/0!"},{"$error":"#DIV/0!"},null,null,"Guy Falls",0,{"$f":"C$18*0.3","v":0},0,0,{"$error":"#DIV/0!"},{"$error":"#DIV/0!"},null,null,null,null,null,null,null,null,null,null,null,null,null,null,null,null,null,null,null,null,null,null,null,"Shoulder Blocks",null,{"$f":"$FX$5*4","v":2}]
[null,"Mizzen Topmast Stay",{"$f":"Standing!AF19","v":{"$error":"#DIV/0!"}},null,"Tricing Line",0,{"$f":"$C$14*0.1","v":0},0,0,{"$error":"#DIV/0!"},{"$error":"#DIV/0!"},null,null,null,{"$f":"IF(($C$14*0.25)*(22/7)<1.5,1.5,($C$14*0.25)*(22/7))","v":1.5},null,null,null,null,null,null,null,null,null,null,null,null,null,null,null,null,"Lifts",0,0,0,0,{"$error":"#DIV/0!"},{"$error":"#DIV/0!"},null,null,"Lifts",0,{"$f":"C$10*0.33","v":0},0,0,{"$error":"#DIV/0!"},{"$error":"#DIV/0!"},null,null,"Staysail Stay Collar",0,{"$f":"C$18*0.56","v":0},0,0,{"$error":"#DIV/0!"},{"$error":"#DIV/0!"},null,null,"Brace Pendants",0,{"$f":"'Running Calcs'!BO5","v":0},0,0,{"$error":"#DIV/0!"},{"$error":"#DIV/0!"},null,null,"Brace Pendants",0,{"$f":"'Running Calcs'!BG5","v":0},0,0,{"$error":"#DIV/0!"},{"$error":"#DIV/0!"},null,null,"Brace Pendants",0,{"$f":"'Running Calcs'!BX5","v":0},0,0,{"$error":"#DIV/0!"},{"$error":"#DIV/0!"},null,null,"Clew Lines",{"$error":"#DIV/0!"},{"$f":"C$16*0.5","v":{"$error":"#DIV/0!"}},{"$error":"#DIV/0!"},{"$error":"#DIV/0!"},{"$error":"#DIV/0!"},{"$error":"#DIV/0!"},null,null,"Clew Lines",{"$error":"#DIV/0!"},{"$f":"C$12*0.5","v":{"$error":"#DIV/0!"}},{"$error":"#DIV/0!"},{"$error":"#DIV/0!"},{"$error":"#DIV/0!"},{"$error":"#DIV/0!"},null,null,"Sheets",{"$error":"#DIV/0!"},{"$f":"C$20","v":{"$error":"#DIV/0!"}},{"$error":"#DIV/0!"},{"$error":"#DIV/0!"},{"$error":"#DIV/0!"},{"$error":"#DIV/0!"},null,null,null,null,null,null,null,null,null,null,null,"Stay Sail Tacks",{"$error":"#DIV/0!"},{"$f":"C$13*0.5","v":{"$error":"#DIV/0!"}},{"$error":"#DIV/0!"},{"$f":"DT19*25.4","v":{"$error":"#DIV/0!"}},{"$f":"DT19/scale","v":{"$error":"#DIV/0!"}},{"$f":"DV19/scale","v":{"$error":"#DIV/0!"}},null,null,null,null,null,null,null,null,null,null,null,"Martnets and Martnet Legs",0,{"$f":"IF(EL$8>0,C$18*0.25,0)","v":0},0,0,{"$error":"#DIV/0!"},{"$error":"#DIV/0!"},null,null,"Boom Horses",0,{"$f":"C$18*0.4","v":0},0,0,{"$error":"#DIV/0!"},{"$error":"#DIV/0!"}]
[null,"Mizzen Topgallant Stay",{"$f":"Standing!AF25","v":{"$error":"#DIV/0!"}},null,"Clew Lines",0,{"$f":"'Running Calcs'!AC5","v":0},0,0,{"$error":"#DIV/0!"},{"$error":"#DIV/0!"},null,null,null,null,null,null,null,null,null,null,null,null,null,null,null,null,null,null,null,null,"Span for the Cap",0,0,0,0,{"$error":"#DIV/0!"},{"$error":"#DIV/0!"},null,null,"Span for the Cap",0,{"$f":"C$10*0.33","v":0},0,0,{"$error":"#DIV/0!"},{"$error":"#DIV/0!"},null,null,"Staysail Stay Lanyard",0,{"$f":"C$18*0.25","v":0},0,0,{"$error":"#DIV/0!"},{"$error":"#DIV/0!"},null,null,"Braces",0,{"$f":"BI19*0.66","v":0},0,0,{"$error":"#DIV/0!"},{"$error":"#DIV/0!"},null,null,"Braces",0,{"$f":"'Running Calcs'!BH5","v":0},0,0,{"$error":"#DIV/0!"},{"$error":"#DIV/0!"},null,null,"Braces",0,{"$f":"'Running Calcs'!BY5","v":0},0,0,{"$error":"#DIV/0!"},{"$error":"#DIV/0!"},null,null,"Sheets",{"$error":"#DIV/0!"},{"$f":"C$16","v":{"$error":"#DIV/0!"}},{"$error":"#DIV/0!"},{"$error":"#DIV/0!"},{"$error":"#DIV/0!"},{"$error":"#DIV/0!"},null,null,"Sheets",{"$error":"#DIV/0!"},{"$f":"C$12","v":{"$error":"#DIV/0!"}},{"$error":"#DIV/0!"},{"$error":"#DIV/0!"},{"$error":"#DIV/0!"},{"$error":"#DIV/0!"},null,null,"Earings",{"$error":"#DIV/0!"},{"$f":"C$20*0.165","v":{"$error":"#DIV/0!"}},{"$error":"#DIV/0!"},{"$error":"#DIV/0!"},{"$error":"#DIV/0!"},{"$error":"#DIV/0!"},null,null,null,null,null,null,null,null,null,null,null,"Stay Sail Downhauler",{"$error":"#DIV/0!"},{"$f":"C$13*0.5","v":{"$error":"#DIV/0!"}},{"$error":"#DIV/0!"},{"$f":"DT20*25.4","v":{"$error":"#DIV/0!"}},{"$f":"DT20/scale","v":{"$error":"#DIV/0!"}},{"$f":"DV20/scale","v":{"$error":"#DIV/0!"}},null,null,null,null,null,null,null,null,null,null,null,"Brails",0,{"$f":"'Running Calcs'!CN5","v":0},0,0,{"$error":"#DIV/0!"},{"$error":"#DIV/0!"},null,null,"Driver Halliard",0,{"$f":"C$18*0.25","v":0},0,0,{"$error":"#DIV/0!"},{"$error":"#DIV/0!"}]
[null,"Mizzen Royal Stay",{"$f":"Standing!AF27","v":{"$error":"#DIV/0!"}},null,"Footropes",{"$f":"IF(($C$14*0.25)*(22/7)<1.5,1.5,($C$14*0.25)*(22/7))","v":1.5},{"$f":"F21/(22/7)","v":0.47727272727272729},38.1,12.122727272727273,{"$error":"#DIV/0!"},{"$error":"#DIV/0!"},null,null,null,null,null,null,null,null,null,null,null,null,null,null,null,null,null,null,null,null,"Jigger Tackle",0,0,0,0,{"$error":"#DIV/0!"},{"$error":"#DIV/0!"},null,null,"Jigger Tackle",0,{"$f":"C$10*0.132","v":0},0,0,{"$error":"#DIV/0!"},{"$error":"#DIV/0!"},null,null,"Halliard",0,{"$f":"C$18*0.44","v":0},0,0,{"$error":"#DIV/0!"},{"$error":"#DIV/0!"},null,null,"Leech Lines",0,{"$f":"'Running Calcs'!BP5","v":0},0,0,{"$error":"#DIV/0!"},{"$error":"#DIV/0!"},null,null,"Leech Lines",0,{"$f":"C$11*0.33","v":0},0,0,{"$error":"#DIV/0!"},{"$error":"#DIV/0!"},null,null,"Leech Lines",{"$error":"#DIV/0!"},{"$f":"C$19*0.4","v":{"$error":"#DIV/0!"}},{"$error":"#DIV/0!"},{"$error":"#DIV/0!"},{"$error":"#DIV/0!"},{"$error":"#DIV/0!"},null,null,"Earings",{"$error":"#DIV/0!"},{"$f":"C$16*0.165","v":{"$error":"#DIV/0!"}},{"$error":"#DIV/0!"},{"$error":"#DIV/0!"},{"$error":"#DIV/0!"},{"$error":"#DIV/0!"},null,null,"Earings",{"$error":"#DIV/0!"},{"$f":"C$12*0.165","v":{"$error":"#DIV/0!"}},{"$error":"#DIV/0!"},{"$error":"#DIV/0!"},{"$error":"#DIV/0!"},{"$error":"#DIV/0!"},null,null,"Stay Sail Halliards",{"$error":"#DIV/0!"},{"$f":"C$20*0.66","v":{"$error":"#DIV/0!"}},{"$error":"#DIV/0!"},{"$error":"#DIV/0!"},{"$error":"#DIV/0!"},{"$error":"#DIV/0!"},null,null,null,null,null,null,null,null,null,null,null,null,null,null,null,null,null,null,null,null,null,null,null,null,null,null,null,null,null,"Peak Brails",0,{"$f":"IF(EL$8>0,C$18*0.25,0)","v":0},0,0,{"$error":"#DIV/0!"},{"$error":"#DIV/0!"},null,null,"Driver Yard Halliards",0,{"$f":"C$18*0.25","v":0},0,0,{"$error":"#DIV/0!"},{"$error":"#DIV/0!"},null,null,null,null,null,null,null,null,null,null,null,null,null,null,null,null,null,null,null,null,null,"For Below Enter Scale Rope Size Block is SEIZED IN :",null,null,2.8]
[null,null,null,null,"Stirrups",0,{"$f":"$C$14*0.25","v":0},0,0,{"$error":"#DIV/0!"},{"$error":"#DIV/0!"},null,null,null,null,null,null,null,null,null,null,null,null,null,null,null,null,null,null,null,null,"Footropes",1.5,0.47727272727272729,38.1,12.122727272727273,{"$error":"#DIV/0!"},{"$error":"#DIV/0!"},null,null,"Footropes",{"$f":"IF(($C$10*0.25)*(22/7)<1.5,1.5,($C$10*0.25)*(22/7))","v":1.5},{"$f":"AP22/(22/7)","v":0.47727272727272729},38.1,12.122727272727273,{"$error":"#DIV/0!"},{"$error":"#DIV/0!"},null,null,"Sheets",0,{"$f":"C$18*0.44","v":0},0,0,{"$error":"#DIV/0!"},{"$error":"#DIV/0!"},null,null,"Bunt Lines",0,{"$f":"C$15*0.4","v":0},0,0,{"$error":"#DIV/0!"},{"$error":"#DIV/0!"},null,null,"Bunt Lines",0,{"$f":"C$11*0.43","v":0},0,0,{"$error":"#DIV/0!"},{"$error":"#DIV/0!"},null,null,"Bunt Lines",{"$error":"#DIV/0!"},{"$f":"C$19*0.4","v":{"$error":"#DIV/0!"}},{"$error":"#DIV/0!"},{"$error":"#DIV/0!"},{"$error":"#DIV/0!"},{"$error":"#DIV/0!"},null,null,"Flying Jib Sail Halliards",{"$error":"#DIV/0!"},{"$f":"C$16*0.66","v":{"$error":"#DIV/0!"}},{"$error":"#DIV/0!"},{"$error":"#DIV/0!"},{"$error":"#DIV/0!"},{"$error":"#DIV/0!"},null,null,"Staysail Stay",{"$error":"#DIV/0!"},{"$f":"C$12*0.75","v":{"$error":"#DIV/0!"}},{"$error":"#DIV/0!"},{"$error":"#DIV/0!"},{"$error":"#DIV/0!"},{"$error":"#DIV/0!"},null,null,"Stay Sail Sheets",{"$error":"#DIV/0!"},{"$f":"C$20*0.66","v":{"$error":"#DIV/0!"}},{"$error":"#DIV/0!"},{"$error":"#DIV/0!"},{"$error":"#DIV/0!"},{"$error":"#DIV/0!"},null,null,null,null,null,null,null,null,null,null,null,null,null,null,null,null,null,null,null,null,null,null,null,null,null,null,null,null,null,"Throat and Foot Brails",0,{"$f":"IF(EL$8>0,C$18*0.33,0)","v":0},0,0,{"$error":"#DIV/0!"},{"$error":"#DIV/0!"},null,null,"Driver Throat Halliards",0,{"$f":"C$18*0.125","v":0},0,0,{"$error":"#DIV/0!"},{"$error":"#DIV/0!"}]
[null,null,null,null,"Reef Points",0,{"$f":"$C$14*0.1","v":0},0,0,{"$error":"#DIV/0!"},{"$error":"#DIV/0!"},null,null,null,null,null,null,null,null,null,null,null,null,null,null,null,null,null,null,null,null,"Footrope Lanyards",0,0,0,0,{"$error":"#DIV/0!"},{"$error":"#DIV/0!"},null,null,"Footrope Lanyards",0,{"$f":"C$10*0.1","v":0},0,0,{"$error":"#DIV/0!"},{"$error":"#DIV/0!"},null,null,"Tacks",0,{"$f":"C$18*0.44","v":0},0,0,{"$error":"#DIV/0!"},{"$error":"#DIV/0!"},null,null,"Bowlines and Bridles",0,{"$f":"C$15*0.45","v":0},0,0,{"$error":"#DIV/0!"},{"$error":"#DIV/0!"},null,null,"Bowlines and Bridles",0,{"$f":"C$11*0.45","v":0},0,0,{"$error":"#DIV/0!"},{"$error":"#DIV/0!"},null,null,"Bowlines",0,{"$f":"'Running Calcs'!BZ5","v":0},0,0,{"$error":"#DIV/0!"},{"$error":"#DIV/0!"},null,null,"Flying Jib Sail Sheets",{"$error":"#DIV/0!"},{"$f":"C$16*0.66","v":{"$error":"#DIV/0!"}},{"$error":"#DIV/0!"},{"$error":"#DIV/0!"},{"$error":"#DIV/0!"},{"$error":"#DIV/0!"},null,null,"Staysail Halliard",{"$error":"#DIV/0!"},{"$f":"C$12*0.6","v":{"$error":"#DIV/0!"}},{"$error":"#DIV/0!"},{"$error":"#DIV/0!"},{"$error":"#DIV/0!"},{"$error":"#DIV/0!"},null,null,"Stay Sail Tacks",{"$error":"#DIV/0!"},{"$f":"C$20*0.55","v":{"$error":"#DIV/0!"}},{"$error":"#DIV/0!"},{"$error":"#DIV/0!"},{"$error":"#DIV/0!"},{"$error":"#DIV/0!"},null,null,null,null,null,null,null,null,null,null,null,null,null,null,null,null,null,null,null,null,null,null,null,null,null,null,null,null,null,"Peak and Throat Brails Combined",0,{"$f":"IF(EL$8>0,C$18*0.44,0)","v":0},0,0,{"$error":"#DIV/0!"},{"$error":"#DIV/0!"},null,null,"Driver Downhauler",0,{"$f":"C$18*0.3","v":0},0,0,{"$error":"#DIV/0!"},{"$error":"#DIV/0!"},null,null,null,null,null,null,null,null,null,null,null,null,null,null,null,null,null,null,null,null,null,null,null,"Deadeyes",{"$f":"FX$21*1.6","v":4.4799999999999995}]
[null,null,null,null,"Bunt Lines",0,{"$f":"'Running Calcs'!AD5","v":0},0,0,{"$error":"#DIV/0!"},{"$error":"#DIV/0!"},null,null,null,null,null,null,null,null,null,null,null,null,null,null,null,null,null,null,null,null,"Stirrups",0,0,0,0,{"$error":"#DIV/0!"},{"$error":"#DIV/0!"},null,null,"Stirrups",0,{"$f":"C$10*0.18","v":0},0,0,{"$error":"#DIV/0!"},{"$error":"#DIV/0!"},null,null,"Downhauler",0,{"$f":"C$18*0.25","v":0},0,0,{"$error":"#DIV/0!"},{"$error":"#DIV/0!"},null,null,"Reef Tackle Pendants",0,{"$f":"C$15*0.5","v":0},0,0,{"$error":"#DIV/0!"},{"$error":"#DIV/0!"},null,null,"Reef Tackle Pendants",0,{"$f":"C$11*0.5","v":0},0,0,{"$error":"#DIV/0!"},{"$error":"#DIV/0!"},null,null,"Bowline Bridles",0,{"$f":"'Running Calcs'!CA5","v":0},0,0,{"$error":"#DIV/0!"},{"$error":"#DIV/0!"},null,null,"Flying Jib Sail Tacks",{"$error":"#DIV/0!"},{"$f":"C$16*0.55","v":{"$error":"#DIV/0!"}},{"$error":"#DIV/0!"},{"$error":"#DIV/0!"},{"$error":"#DIV/0!"},{"$error":"#DIV/0!"},null,null,"Staysail Sheet Pendants",{"$error":"#DIV/0!"},{"$f":"C$12*0.6","v":{"$error":"#DIV/0!"}},{"$error":"#DIV/0!"},{"$error":"#DIV/0!"},{"$error":"#DIV/0!"},{"$error":"#DIV/0!"},null,null,"Stay Sail Downhauler",{"$error":"#DIV/0!"},{"$f":"C$20*0.33","v":{"$error":"#DIV/0!"}},{"$error":"#DIV/0!"},{"$error":"#DIV/0!"},{"$error":"#DIV/0!"},{"$error":"#DIV/0!"},null,null,null,null,null,null,null,null,null,null,null,null,null,null,null,null,null,null,null,null,null,null,null,null,null,null,null,null,null,"Peak Middle and Throat Brails when Sail was laced to Mast",0,{"$f":"IF(EL$8>0,C$18*0.44,0)","v":0},0,0,{"$error":"#DIV/0!"},{"$error":"#DIV/0!"},null,null,"Driver Tacks",0,{"$f":"C$18*0.25","v":0},0,0,{"$error":"#DIV/0!"},{"$error":"#DIV/0!"},null,null,null,null,null,null,null,null,null,null,null,null,null,null,null,null,null,null,null,null,null,null,null,"Hearts",{"$f":"FX$21*1.45","v":4.0599999999999996}]
[null,null,null,null,"Earings",0,{"$f":"$C$14*0.1","v":0},0,0,{"$error":"#DIV/0!"},{"$error":"#DIV/0!"},null,null,null,null,null,null,null,null,null,null,null,null,null,null,null,null,null,null,null,null,"Brace Pendants",0,0,0,0,{"$error":"#DIV/0!"},{"$error":"#DIV/0!"},null,null,"Brace Pendants",0,{"$f":"'Running Calcs'!AR5","v":0},0,0,{"$error":"#DIV/0!"},{"$error":"#DIV/0!"},null,null,"Brails",{"$f":"AY24","v":0},0,0,0,{"$error":"#DIV/0!"},{"$error":"#DIV/0!"},null,null,"Reef Tackle Pendant Falls",0,{"$f":"C$15*0.33","v":0},0,0,{"$error":"#DIV/0!"},{"$error":"#DIV/0!"},null,null,"Reef Tackle Pendant Falls",0,{"$f":"C$11*0.3","v":0},0,0,{"$error":"#DIV/0!"},{"$error":"#DIV/0!"},null,null,"Reef Tackle Pendants",{"$error":"#DIV/0!"},{"$f":"C$19*0.6","v":{"$error":"#DIV/0!"}},{"$error":"#DIV/0!"},{"$error":"#DIV/0!"},{"$error":"#DIV/0!"},{"$error":"#DIV/0!"},null,null,"Flying Jib Sail Downhauler",{"$error":"#DIV/0!"},{"$f":"C$16*0.33","v":{"$error":"#DIV/0!"}},{"$error":"#DIV/0!"},{"$error":"#DIV/0!"},{"$error":"#DIV/0!"},{"$error":"#DIV/0!"},null,null,"Staysail Whips",{"$error":"#DIV/0!"},{"$f":"C$12*0.5","v":{"$error":"#DIV/0!"}},{"$error":"#DIV/0!"},{"$error":"#DIV/0!"},{"$error":"#DIV/0!"},{"$error":"#DIV/0!"},null,null,null,null,null,null,null,null,null,null,null,null,null,null,null,null,null,null,null,null,null,null,null,null,null,null,null,null,null,null,null,null,null,null,null,null,null,null,null,null,null,null,null,null,null,null,null,"Driver Sheets",0,{"$f":"C$18*0.4","v":0},0,0,{"$error":"#DIV/0!"},{"$error":"#DIV/0!"}]
[null,null,null,null,null,null,null,null,null,null,null,null,null,null,null,null,null,null,null,null,null,null,null,null,null,null,null,null,null,null,null,"Brace",0,{"$f":"C$14*0.25","v":0},0,0,{"$error":"#DIV/0!"},{"$error":"#DIV/0!"},null,null,"Brace",0,{"$f":"C$10*0.187","v":0},0,0,{"$error":"#DIV/0!"},{"$error":"#DIV/0!"},null,null,null,null,null,null,null,null,null,null,null,"Clew Lines",0,{"$f":"C$15*0.45","v":0},0,0,{"$error":"#DIV/0!"},{"$error":"#DIV/0!"},null,null,"Clew Lines",0,{"$f":"C$11*0.45","v":0},0,0,{"$error":"#DIV/0!"},{"$error":"#DIV/0!"},null,null,"Reef Tackle Pendant Falls",{"$error":"#DIV/0!"},{"$f":"C$19*0.3","v":{"$error":"#DIV/0!"}},{"$error":"#DIV/0!"},{"$error":"#DIV/0!"},{"$error":"#DIV/0!"},{"$error":"#DIV/0!"},null,null,"Stunsail Halliards",{"$error":"#DIV/0!"},{"$f":"C$16*0.5","v":{"$error":"#DIV/0!"}},{"$error":"#DIV/0!"},{"$error":"#DIV/0!"},{"$error":"#DIV/0!"},{"$error":"#DIV/0!"},null,null,"Staysail Tacks and Downhauler",{"$error":"#DIV/0!"},{"$f":"C$12*0.45","v":{"$error":"#DIV/0!"}},{"$error":"#DIV/0!"},{"$error":"#DIV/0!"},{"$error":"#DIV/0!"},{"$error":"#DIV/0!"},null,null,null,null,null,null,null,null,null,null,null,null,null,null,null,null,null,null,null,null,null,null,null,null,null,null,null,null,null,null,null,null,null,null,null,null,null,null,"Fancy Lines",0,{"$f":"IF(EL$8>0,C$18*0.33,0)","v":0},0,0,{"$error":"#DIV/0!"},{"$error":"#DIV/0!"},null,null,"Driver Sheet Falls",0,{"$f":"C$18*0.25","v":0},0,0,{"$error":"#DIV/0!"},{"$error":"#DIV/0!"}]
[null,null,null,null,null,null,null,null,null,null,null,null,null,null,null,null,null,null,null,null,null,null,null,null,null,null,null,null,null,null,null,"Preventer Brace",0,{"$f":"AQ28","v":0},0,0,{"$error":"#DIV/0!"},{"$error":"#DIV/0!"},null,null,"Brace Span",0,{"$f":"C$10*0.1","v":0},0,0,{"$error":"#DIV/0!"},{"$error":"#DIV/0!"},null,null,null,null,null,null,null,null,null,null,null,"Sheets",0,{"$f":"C$15*0.9","v":0},0,0,{"$error":"#DIV/0!"},{"$error":"#DIV/0!"},null,null,"Sheets",0,{"$f":"'Running Calcs'!BI5","v":0},0,0,{"$error":"#DIV/0!"},{"$error":"#DIV/0!"},null,null,"Clew Lines",0,{"$f":"'Running Calcs'!CB5","v":0},0,0,{"$error":"#DIV/0!"},{"$error":"#DIV/0!"},null,null,"Stunsail Sheets",{"$error":"#DIV/0!"},{"$f":"C$16*0.45","v":{"$error":"#DIV/0!"}},{"$error":"#DIV/0!"},{"$error":"#DIV/0!"},{"$error":"#DIV/0!"},{"$error":"#DIV/0!"},null,null,"Stunsail Halliards",{"$error":"#DIV/0!"},{"$f":"C$12*0.5","v":{"$error":"#DIV/0!"}},{"$error":"#DIV/0!"},{"$f":"CS27*25.4","v":{"$error":"#DIV/0!"}},{"$f":"CS27/scale","v":{"$error":"#DIV/0!"}},{"$f":"CU27/scale","v":{"$error":"#DIV/0!"}},null,null,null,null,null,null,null,null,null,null,null,null,null,null,null,null,null,null,null,null,null,null,null,null,null,null,null,null,null,null,null,null,null,null,null,null,null,null,"Fancy Line Span",0,{"$f":"IF(EL$8>0,C$18*0.33,0)","v":0},0,0,{"$error":"#DIV/0!"},{"$error":"#DIV/0!"},null,null,"Driver Earings",0,{"$f":"C$18*0.25","v":0},0,0,{"$error":"#DIV/0!"},{"$error":"#DIV/0!"}]
[null,null,null,null,null,null,null,null,null,null,null,null,null,null,null,null,null,null,null,null,null,null,null,null,null,null,null,null,null,null,null,"Yard Tackle Pendant",{"$f":"AH28*(22/7)","v":0},{"$f":"AQ29","v":0},{"$f":"AJ28*(22/7)","v":0},0,{"$error":"#DIV/0!"},{"$error":"#DIV/0!"},null,null,"Preventer Brace",0,{"$f":"C$10*0.2","v":0},0,0,{"$error":"#DIV/0!"},{"$error":"#DIV/0!"},null,null,null,null,null,null,null,null,null,null,null,"Staysail Stay",0,{"$f":"C$15*0.5","v":0},0,0,{"$error":"#DIV/0!"},{"$error":"#DIV/0!"},null,null,"Staysail Stay",0,{"$f":"C$11*0.5","v":0},0,0,{"$error":"#DIV/0!"},{"$error":"#DIV/0!"},null,null,"Sheets",{"$error":"#DIV/0!"},{"$f":"C19","v":{"$error":"#DIV/0!"}},{"$error":"#DIV/0!"},{"$error":"#DIV/0!"},{"$error":"#DIV/0!"},{"$error":"#DIV/0!"},null,null,"Stunsail Tacks",{"$error":"#DIV/0!"},{"$f":"C$16*0.4","v":{"$error":"#DIV/0!"}},{"$error":"#DIV/0!"},{"$error":"#DIV/0!"},{"$error":"#DIV/0!"},{"$error":"#DIV/0!"},null,null,"Stunsail Sheets",{"$error":"#DIV/0!"},{"$f":"C$12*0.385","v":{"$error":"#DIV/0!"}},{"$error":"#DIV/0!"},{"$f":"CS28*25.4","v":{"$error":"#DIV/0!"}},{"$f":"CS28/scale","v":{"$error":"#DIV/0!"}},{"$f":"CU28/scale","v":{"$error":"#DIV/0!"}},null,null,null,null,null,null,null,null,null,null,null,null,null,null,null,null,null,null,null,null,null,null,null,null,null,null,null,null,null,null,null,null,null,null,null,null,null,null,"Vang Pendants",0,{"$f":"IF(EL$8>0,C$18*0.5,0)","v":0},0,0,{"$error":"#DIV/0!"},{"$error":"#DIV/0!"},null,null,"Spanker Earings",0,{"$f":"C$18*0.25","v":0},0,0,{"$error":"#DIV/0!"},{"$error":"#DIV/0!"}]
[null,null,null,null,null,null,null,null,null,null,null,null,null,null,null,null,null,null,null,null,null,null,null,null,null,null,null,null,null,null,null,"Yard Tackle Pendant Falls",0,{"$f":"AQ30","v":0},0,0,{"$error":"#DIV/0!"},{"$error":"#DIV/0!"},null,null,"Yard Tackle Pendant",0,{"$f":"C$10*0.4","v":0},0,0,{"$error":"#DIV/0!"},{"$error":"#DIV/0!"},null,null,null,null,null,null,null,null,null,null,null,"Staysail Lanyard",0,{"$f":"C$15*0.25","v":0},0,0,{"$error":"#DIV/0!"},{"$error":"#DIV/0!"},null,null,"Staysail Sheet Pendants",0,{"$f":"C$11*0.5","v":0},0,0,{"$error":"#DIV/0!"},{"$error":"#DIV/0!"},null,null,"Earings",{"$error":"#DIV/0!"},{"$f":"C$19*0.3","v":{"$error":"#DIV/0!"}},{"$error":"#DIV/0!"},{"$error":"#DIV/0!"},{"$error":"#DIV/0!"},{"$error":"#DIV/0!"},null,null,"Stunsail Downhauler",{"$error":"#DIV/0!"},{"$f":"C$16*0.33","v":{"$error":"#DIV/0!"}},{"$error":"#DIV/0!"},{"$error":"#DIV/0!"},{"$error":"#DIV/0!"},{"$error":"#DIV/0!"},null,null,"Stunsail Tacks",{"$error":"#DIV/0!"},{"$f":"C$12*0.5","v":{"$error":"#DIV/0!"}},{"$error":"#DIV/0!"},{"$f":"CS29*25.4","v":{"$error":"#DIV/0!"}},{"$f":"CS29/scale","v":{"$error":"#DIV/0!"}},{"$f":"CU29/scale","v":{"$error":"#DIV/0!"}},null,null,null,null,null,null,null,null,null,null,null,null,null,null,null,null,null,null,null,null,null,null,null,null,null,null,null,null,null,null,null,null,null,null,null,null,null,null,"Vang Falls",0,{"$f":"IF(EL$8>0,C$18*0.33,0)","v":0},0,0,{"$error":"#DIV/0!"},{"$error":"#DIV/0!"},null,null,"Spanker Peak, Middle and Foot Brails",0,{"$f":"C$18*0.3","v":0},0,0,{"$error":"#DIV/0!"},{"$error":"#DIV/0!"}]
[null,null,null,null,null,null,null,null,null,null,null,null,null,null,null,null,null,null,null,null,null,null,null,null,null,null,null,null,null,null,null,"Yard Tackle Tricing Line",0,{"$f":"AQ31","v":0},0,0,{"$error":"#DIV/0!"},{"$error":"#DIV/0!"},null,null,"Yard Tackle Pendant Falls",0,{"$f":"C$10*0.24","v":0},0,0,{"$error":"#DIV/0!"},{"$error":"#DIV/0!"},null,null,null,null,null,null,null,null,null,null,null,"Staysail Tackle",0,{"$f":"C$15*0.33","v":0},0,0,{"$error":"#DIV/0!"},{"$error":"#DIV/0!"},null,null,"Staysail Sheets",0,{"$f":"C$11*0.55","v":0},0,0,{"$error":"#DIV/0!"},{"$error":"#DIV/0!"},null,null,"Staysail Halliards",{"$error":"#DIV/0!"},{"$f":"C$19*0.5","v":{"$error":"#DIV/0!"}},{"$error":"#DIV/0!"},{"$error":"#DIV/0!"},{"$error":"#DIV/0!"},{"$error":"#DIV/0!"},null,null,null,null,null,null,null,null,null,null,null,"Stunsail Downhauler",{"$error":"#DIV/0!"},{"$f":"C$12*0.45","v":{"$error":"#DIV/0!"}},{"$error":"#DIV/0!"},{"$f":"CS30*25.4","v":{"$error":"#DIV/0!"}},{"$f":"CS30/scale","v":{"$error":"#DIV/0!"}},{"$f":"CU30/scale","v":{"$error":"#DIV/0!"}},null,null,null,null,null,null,null,null,null,null,null,null,null,null,null,null,null,null,null,null,null,null,null,null,null,null,null,null,null,null,null,null,null,null,null,null,null,null,"Smiting Lines",0,{"$f":"IF(EL$8>0,C$18*0.25,0)","v":0},0,0,{"$error":"#DIV/0!"},{"$error":"#DIV/0!"},null,null,"Spanker Throat Brails",0,{"$f":"C$18*0.33","v":0},0,0,{"$error":"#DIV/0!"},{"$error":"#DIV/0!"}]
[null,null,null,null,null,null,null,null,null,null,null,null,null,null,null,null,null,null,null,null,null,null,null,null,null,null,null,null,null,null,null,"Martnet Legs",{"$f":"AH31*(22/7)","v":0},{"$f":"C$14*0.2","v":0},{"$f":"AJ31*(22/7)","v":0},0,{"$error":"#DIV/0!"},{"$error":"#DIV/0!"},null,null,"Yard Tackle Tricing Line",0,{"$f":"C$10*0.125","v":0},0,0,{"$error":"#DIV/0!"},{"$error":"#DIV/0!"},null,null,null,null,null,null,null,null,null,null,null,"Staysail Halliard",0,{"$f":"'Running Calcs'!BQ5","v":0},0,0,{"$error":"#DIV/0!"},{"$error":"#DIV/0!"},null,null,"Staysail Sheet Whips",0,{"$f":"C$11*0.36","v":0},0,0,{"$error":"#DIV/0!"},{"$error":"#DIV/0!"},null,null,"Staysail Sheets",{"$error":"#DIV/0!"},{"$f":"C$19*0.5","v":{"$error":"#DIV/0!"}},{"$error":"#DIV/0!"},{"$error":"#DIV/0!"},{"$error":"#DIV/0!"},{"$error":"#DIV/0!"},null,null,null,null,null,null,null,null,null,null,null,null,null,null,null,null,null,null,null,null,null,null,null,null,null,null,null,null,null,null,null,null,null,null,null,null,null,null,null,null,null,null,null,null,null,null,null,null,null,null,null,null,null,null,null,null,"Earings",0,{"$f":"IF(EL$8>0,C$18*0.25,0)","v":0},0,0,{"$error":"#DIV/0!"},{"$error":"#DIV/0!"},null,null,"Spanker Earings",0,{"$f":"C$18*0.25","v":0},0,0,{"$error":"#DIV/0!"},{"$error":"#DIV/0!"}]
[null,null,null,null,null,null,null,null,null,null,null,null,null,null,null,null,null,null,null,null,null,null,null,null,null,null,null,null,null,null,null,"Martnet Leg Falls",0,{"$f":"C$14*0.2","v":0},0,0,{"$error":"#DIV/0!"},{"$error":"#DIV/0!"},null,null,"Martnet Legs",0,{"$f":"C$10*0.187","v":0},0,0,{"$error":"#DIV/0!"},{"$error":"#DIV/0!"},null,null,null,null,null,null,null,null,null,null,null,"Staysail Sheet Pendants",0,{"$f":"C$15*0.5","v":0},0,0,{"$error":"#DIV/0!"},{"$error":"#DIV/0!"},null,null,"Staysail Halliards",0,{"$f":"C$11*0.55","v":0},0,0,{"$error":"#DIV/0!"},{"$error":"#DIV/0!"},null,null,"Staysail Tacks",{"$error":"#DIV/0!"},{"$f":"C$19*0.4","v":{"$error":"#DIV/0!"}},{"$error":"#DIV/0!"},{"$error":"#DIV/0!"},{"$error":"#DIV/0!"},{"$error":"#DIV/0!"},null,null,null,null,null,null,null,null,null,null,null,null,null,null,null,null,null,null,null,null,null,null,null,null,null,null,null,null,null,null,null,null,null,null,null,null,null,null,null,null,null,null,null,null,null,null,null,null,null,null,null,null,null,null,null,null,"Lacing to the Yard",0,{"$f":"'Running Calcs'!CO5","v":0},0,0,{"$error":"#DIV/0!"},{"$error":"#DIV/0!"},null,null,"Spanker Tacks",0,{"$f":"C$18*0.33","v":0},0,0,{"$error":"#DIV/0!"},{"$error":"#DIV/0!"}]
[null,null,null,null,null,null,null,null,null,null,null,null,null,null,null,null,null,null,null,null,null,null,null,null,null,null,null,null,null,null,null,"Leech Line Legs and Falls",0,{"$f":"AQ34","v":0},0,0,{"$error":"#DIV/0!"},{"$error":"#DIV/0!"},null,null,"Martnet Leg Falls",0,{"$f":"C$10*0.168","v":0},0,0,{"$error":"#DIV/0!"},{"$error":"#DIV/0!"},null,null,null,null,null,null,null,null,null,null,null,"Staysail Whips",0,{"$f":"'Running Calcs'!BR5","v":0},0,0,{"$error":"#DIV/0!"},{"$error":"#DIV/0!"},null,null,"Staysail Tacks",0,{"$f":"C$11*0.45","v":0},0,0,{"$error":"#DIV/0!"},{"$error":"#DIV/0!"},null,null,"Staysail Downhauler",{"$error":"#DIV/0!"},{"$f":"C$19*0.3","v":{"$error":"#DIV/0!"}},{"$error":"#DIV/0!"},{"$error":"#DIV/0!"},{"$error":"#DIV/0!"},{"$error":"#DIV/0!"},null,null,null,null,null,null,null,null,null,null,null,null,null,null,null,null,null,null,null,null,null,null,null,null,null,null,null,null,null,null,null,null,null,null,null,null,null,null,null,null,null,null,null,null,null,null,null,null,null,null,null,null,null,null,null,null,"Lacing to the Mast",0,{"$f":"IF(EL$8>0,C$18*0.3,0)","v":0},0,0,{"$error":"#DIV/0!"},{"$error":"#DIV/0!"},null,null,"Spanker Sheets",0,{"$f":"C$18*0.5","v":0},0,0,{"$error":"#DIV/0!"},{"$error":"#DIV/0!"}]
[null,null,null,null,null,null,null,null,null,null,null,null,null,null,null,null,null,null,null,null,null,null,null,null,null,null,null,null,null,null,null,"Lech Line Long Strop",0,{"$f":"AQ35","v":0},0,0,{"$error":"#DIV/0!"},{"$error":"#DIV/0!"},null,null,"Leech Line Legs and Falls",0,{"$f":"'Running Calcs'!AS5","v":0},0,0,{"$error":"#DIV/0!"},{"$error":"#DIV/0!"},null,null,null,null,null,null,null,null,null,null,null,"Staysail Tacks",0,{"$f":"C$15*0.45","v":0},0,0,{"$error":"#DIV/0!"},{"$error":"#DIV/0!"},null,null,"Staysail Downhauler",0,{"$f":"C$11*0.237","v":0},0,0,{"$error":"#DIV/0!"},{"$error":"#DIV/0!"},null,null,null,null,null,null,null,null,null,null,null,null,null,null,null,null,null,null,null,null,null,null,null,null,null,null,null,null,null,null,null,null,null,null,null,null,null,null,null,null,null,null,null,null,null,null,null,null,null,null,null,null,null,null,null,null,null,null,null,null,null,null,null,null,null,"Tack",0,{"$f":"'Running Calcs'!CP5","v":0},0,0,{"$error":"#DIV/0!"},{"$error":"#DIV/0!"},null,null,"Boom Truss Parrel",{"$f":"ET13","v":0},0,0,0,{"$error":"#DIV/0!"},{"$error":"#DIV/0!"}]
[null,null,null,null,null,null,null,null,null,null,null,null,null,null,null,null,null,null,null,null,null,null,null,null,null,null,null,null,null,null,null,"Slab Lines",{"$f":"AH35*(22/7)","v":0},{"$f":"C$14*0.14","v":0},{"$f":"AJ35*(22/7)","v":0},0,{"$error":"#DIV/0!"},{"$error":"#DIV/0!"},null,null,"Leech Line Long Strop",0,{"$f":"C$10*0.198","v":0},0,0,{"$error":"#DIV/0!"},{"$error":"#DIV/0!"},null,null,null,null,null,null,null,null,null,null,null,"Downhauler",0,{"$f":"C$15*0.25","v":0},0,0,{"$error":"#DIV/0!"},{"$error":"#DIV/0!"},null,null,"Staysail Brails",0,{"$f":"C$11*0.18","v":0},0,0,{"$error":"#DIV/0!"},{"$error":"#DIV/0!"},null,null,null,null,null,null,null,null,null,null,null,null,null,null,null,null,null,null,null,null,null,null,null,null,null,null,null,null,null,null,null,null,null,null,null,null,null,null,null,null,null,null,null,null,null,null,null,null,null,null,null,null,null,null,null,null,null,null,null,null,null,null,null,null,null,"Bonnet Lacing",0,{"$f":"IF(EL$8>0,C$18*0.25,0)","v":0},0,0,{"$error":"#DIV/0!"},{"$error":"#DIV/0!"}]
[null,null,null,null,null,null,null,null,null,null,null,null,null,null,null,null,null,null,null,null,null,null,null,null,null,null,null,null,null,null,null,"Bunt Line Legs and Falls",0,{"$f":"AQ37","v":0},0,0,{"$error":"#DIV/0!"},{"$error":"#DIV/0!"},null,null,"Slab Lines",0,{"$f":"C$10*0.115","v":0},0,0,{"$error":"#DIV/0!"},{"$error":"#DIV/0!"},null,null,null,null,null,null,null,null,null,null,null,"Outhauler",0,{"$f":"C$15*0.33","v":0},0,0,{"$error":"#DIV/0!"},{"$error":"#DIV/0!"},null,null,"Middle Staysail Stay",0,{"$f":"C$11*0.55","v":0},0,0,{"$error":"#DIV/0!"},{"$error":"#DIV/0!"}]
[null,null,null,null,null,null,null,null,null,null,null,null,null,null,null,null,null,null,null,null,null,null,null,null,null,null,null,null,null,null,null,"Bowlines and Bridles",0,{"$f":"AQ38","v":0},0,0,{"$error":"#DIV/0!"},{"$error":"#DIV/0!"},null,null,"Bunt Line Legs and Falls",0,{"$f":"C$10*0.18","v":0},0,0,{"$error":"#DIV/0!"},{"$error":"#DIV/0!"},null,null,null,null,null,null,null,null,null,null,null,"Netting",0,{"$f":"C$15*0.165","v":0},0,0,{"$error":"#DIV/0!"},{"$error":"#DIV/0!"},null,null,"Middle Staysail Stay Fall",0,{"$f":"C$11*0.25","v":0},0,0,{"$error":"#DIV/0!"},{"$error":"#DIV/0!"}]
[null,null,null,null,null,null,null,null,null,null,null,null,null,null,null,null,null,null,null,null,null,null,null,null,null,null,null,null,null,null,null,"Reef Pendants",0,{"$f":"AQ39","v":0},0,0,{"$error":"#DIV/0!"},{"$error":"#DIV/0!"},null,null,"Bowlines and Bridles",0,{"$f":"C$10*0.25","v":0},0,0,{"$error":"#DIV/0!"},{"$error":"#DIV/0!"},null,null,null,null,null,null,null,null,null,null,null,"Jib Sail Stay",0,{"$f":"C$15*0.5","v":0},0,0,{"$error":"#DIV/0!"},{"$error":"#DIV/0!"},null,null,"Jack Stay",0,{"$f":"C$11*0.5","v":0},0,0,{"$error":"#DIV/0!"},{"$error":"#DIV/0!"}]
[null,null,null,null,null,null,null,null,null,null,null,null,null,null,null,null,null,null,null,null,null,null,null,null,null,null,null,null,null,null,null,"Reef Tackles",0,{"$f":"AQ40","v":0},0,0,{"$error":"#DIV/0!"},{"$error":"#DIV/0!"},null,null,"Reef Pendants",0,{"$f":"C$10*0.25","v":0},0,0,{"$error":"#DIV/0!"},{"$error":"#DIV/0!"},null,null,null,null,null,null,null,null,null,null,null,"Jib Sail Stay Fall",0,{"$f":"C$15*0.33","v":0},0,0,{"$error":"#DIV/0!"},{"$error":"#DIV/0!"},null,null,"Middle Staysail Lanyard",0,{"$f":"C$11*0.25","v":0},0,0,{"$error":"#DIV/0!"},{"$error":"#DIV/0!"}]
[null,null,null,null,null,null,null,null,null,null,null,null,null,null,null,null,null,null,null,null,null,null,null,null,null,null,null,null,null,null,null,"Reefing Lines",0,{"$f":"AQ41","v":0},0,0,{"$error":"#DIV/0!"},{"$error":"#DIV/0!"},null,null,"Reef Tackles",0,{"$f":"C$10*0.125","v":0},0,0,{"$f":"AQ40/scale","v":{"$error":"#DIV/0!"}},{"$f":"AS40/scale","v":{"$error":"#DIV/0!"}},null,null,null,null,null,null,null,null,null,null,null,"Jib Sail Stay Tackle",0,{"$f":"C$15*0.3","v":0},0,0,{"$error":"#DIV/0!"},{"$error":"#DIV/0!"},null,null,"Middle Staysail Halliard",0,{"$f":"C$11*0.4","v":0},0,0,{"$error":"#DIV/0!"},{"$error":"#DIV/0!"}]
[null,null,null,null,null,null,null,null,null,null,null,null,null,null,null,null,null,null,null,null,null,null,null,null,null,null,null,null,null,null,null,"Clew Garnetts",{"$f":"AH41*(22/7)","v":0},{"$f":"C$14*0.25","v":0},{"$f":"AJ41*(22/7)","v":0},0,{"$error":"#DIV/0!"},{"$error":"#DIV/0!"},null,null,"Reefing Lines",0,{"$f":"C$10*0.1","v":0},0,0,{"$error":"#DIV/0!"},{"$error":"#DIV/0!"},null,null,null,null,null,null,null,null,null,null,null,"Jib Sail Halliard and Outhauler",0,{"$f":"C$15*0.5","v":0},0,0,{"$error":"#DIV/0!"},{"$error":"#DIV/0!"},null,null,"Middle Staysail Sheets and Tacks",0,{"$f":"C$11*0.36","v":0},0,0,{"$error":"#DIV/0!"},{"$error":"#DIV/0!"}]
[null,null,null,null,null,null,null,null,null,null,null,null,null,null,null,null,null,null,null,null,null,null,null,null,null,null,null,null,null,null,null,"Sheets",0,{"$f":"C$14*0.4","v":0},0,0,{"$error":"#DIV/0!"},{"$error":"#DIV/0!"},null,null,"Clew Garnets",0,{"$f":"C$10*0.2","v":0},0,0,{"$error":"#DIV/0!"},{"$error":"#DIV/0!"},null,null,null,null,null,null,null,null,null,null,null,"Jib Sail Outhauler Tackle and Downhauler",0,{"$f":"C$15*0.33","v":0},0,0,{"$error":"#DIV/0!"},{"$error":"#DIV/0!"},null,null,"Middle Staysail Downhauler and Tricing Line",0,{"$f":"C$11*0.237","v":0},0,0,{"$error":"#DIV/0!"},{"$error":"#DIV/0!"}]
[null,null,null,null,null,null,null,null,null,null,null,null,null,null,null,null,null,null,null,null,null,null,null,null,null,null,null,null,null,null,null,"Tacks",0,{"$f":"'Running Calcs'!AO5","v":0},0,0,{"$error":"#DIV/0!"},{"$error":"#DIV/0!"},null,null,"Sheets",0,{"$f":"C$10*0.4","v":0},0,0,{"$error":"#DIV/0!"},{"$error":"#DIV/0!"},null,null,null,null,null,null,null,null,null,null,null,"Jib Sail Sheet Pendants",0,{"$f":"C$15*0.5","v":0},0,0,{"$error":"#DIV/0!"},{"$error":"#DIV/0!"},null,null,"Stunsail Halliards, Sheets and Tacks",0,{"$f":"C$11*0.36","v":0},0,0,{"$error":"#DIV/0!"},{"$error":"#DIV/0!"}]
[null,null,null,null,null,null,null,null,null,null,null,null,null,null,null,null,null,null,null,null,null,null,null,null,null,null,null,null,null,null,null,"Earings",0,{"$f":"C$14*0.125","v":0},0,0,{"$error":"#DIV/0!"},{"$error":"#DIV/0!"},null,null,"Tack at widest part",0,{"$f":"'Running Calcs'!AT5","v":0},0,0,{"$error":"#DIV/0!"},{"$error":"#DIV/0!"},null,null,null,null,null,null,null,null,null,null,null,"Jib Sail Whips and Tacks",0,{"$f":"C$15*0.33","v":0},0,0,{"$error":"#DIV/0!"},{"$error":"#DIV/0!"},null,null,"Stunsail Downhauler and Boom Tackle",{"$f":"BR44*(22/7)","v":0},{"$f":"C$11*0.237","v":0},{"$f":"BT44*(22/7)","v":0},{"$f":"BR44*25.4","v":0},{"$f":"BR44/scale","v":{"$error":"#DIV/0!"}},{"$f":"BT44/scale","v":{"$error":"#DIV/0!"}}]
[null,null,null,null,null,null,null,null,null,null,null,null,null,null,null,null,null,null,null,null,null,null,null,null,null,null,null,null,null,null,null,"Outer Stunsail Halliards",0,{"$f":"AQ54","v":0},0,0,{"$error":"#DIV/0!"},{"$error":"#DIV/0!"},null,null,"Earings",0,{"$f":"C$10*0.158","v":0},0,0,{"$error":"#DIV/0!"},{"$error":"#DIV/0!"},null,null,null,null,null,null,null,null,null,null,null,"Stunsail Halliards, Sheets and Tacks",0,{"$f":"C$15*0.5","v":0},0,0,{"$error":"#DIV/0!"},{"$error":"#DIV/0!"}]
[null,null,null,null,null,null,null,null,null,null,null,null,null,null,null,null,null,null,null,null,null,null,null,null,null,null,null,null,null,null,null,"Inner Stunsail Halliards",0,{"$f":"AQ55","v":0},0,0,{"$error":"#DIV/0!"},{"$error":"#DIV/0!"},null,null,"Quarter Pendants",0,{"$f":"'Running Calcs'!AU5","v":0},0,0,{"$error":"#DIV/0!"},{"$error":"#DIV/0!"},null,null,null,null,null,null,null,null,null,null,null,"Stunsail Downhauler",0,{"$f":"C$15*0.25","v":0},0,0,{"$error":"#DIV/0!"},{"$error":"#DIV/0!"}]
[null,null,null,null,null,null,null,null,null,null,null,null,null,null,null,null,null,null,null,null,null,null,null,null,null,null,null,null,null,null,null,"Stunsail Sheets and Tacks",0,null,0,0,{"$error":"#DIV/0!"},{"$error":"#DIV/0!"},null,null,"Quarter Tackle",0,{"$f":"C$10*0.2","v":0},0,0,{"$error":"#DIV/0!"},{"$error":"#DIV/0!"},null,null,null,null,null,null,null,null,null,null,null,"Stunsail Boom Tackle",0,{"$f":"C$15*0.33","v":0},0,0,{"$error":"#DIV/0!"},{"$error":"#DIV/0!"}]
[null,null,null,null,null,null,null,null,null,null,null,null,null,null,null,null,null,null,null,null,null,null,null,null,null,null,null,null,null,null,null,"Bumkin Shrouds",0,{"$f":"C$14*0.25","v":0},0,0,{"$error":"#DIV/0!"},{"$error":"#DIV/0!"},null,null,"Stay Sail Stay",0,{"$f":"C$10*0.25","v":0},0,0,{"$error":"#DIV/0!"},{"$error":"#DIV/0!"}]
[null,null,null,null,null,null,null,null,null,null,null,null,null,null,null,null,null,null,null,null,null,null,null,null,null,null,null,null,null,null,null,"Bumkin Lashing & Lanyards",0,{"$f":"C$14*0.125","v":0},0,0,{"$error":"#DIV/0!"},{"$error":"#DIV/0!"},null,null,"Staysail Collar",0,{"$f":"'Running Calcs'!AV5","v":0},0,0,{"$error":"#DIV/0!"},{"$error":"#DIV/0!"}]
[null,null,null,null,null,null,null,null,null,null,null,null,null,null,null,null,null,null,null,null,null,null,null,null,null,null,null,null,null,null,null,"Staysail Halliards & Sheet Pendants",0,{"$f":"C$14*0.25","v":0},0,0,{"$error":"#DIV/0!"},{"$error":"#DIV/0!"},null,null,"Staysail Lanyard",0,{"$f":"AQ49*0.33","v":0},0,0,{"$error":"#DIV/0!"},{"$error":"#DIV/0!"}]
[null,null,null,null,null,null,null,null,null,null,null,null,null,null,null,null,null,null,null,null,null,null,null,null,null,null,null,null,null,null,null,"Staysail Sheet Whips & Tacks",0,{"$f":"C$14*0.19","v":0},0,0,{"$error":"#DIV/0!"},{"$error":"#DIV/0!"},null,null,"Staysail Halliard",0,{"$f":"'Running Calcs'!AW5","v":0},0,0,{"$error":"#DIV/0!"},{"$error":"#DIV/0!"}]
[null,null,null,null,null,null,null,null,null,null,null,null,null,null,null,null,null,null,null,null,null,null,null,null,null,null,null,null,null,null,null,"Downhauler",0,{"$f":"C$14*0.125","v":0},0,0,{"$error":"#DIV/0!"},{"$error":"#DIV/0!"},null,null,"Staysail Halliard Fall",0,{"$f":"C$10*0.1","v":0},0,0,{"$error":"#DIV/0!"},{"$error":"#DIV/0!"}]
[null,null,null,null,null,null,null,null,null,null,null,null,null,null,null,null,null,null,null,null,null,null,null,null,null,null,null,null,null,null,null,"Swinging Boom Topping Lift & Guys",0,{"$f":"C$14*0.2","v":0},0,0,{"$error":"#DIV/0!"},{"$error":"#DIV/0!"},null,null,"Staysail Sheets, Tacks and Downhauler",0,{"$f":"C$10*0.21","v":0},0,0,{"$error":"#DIV/0!"},{"$error":"#DIV/0!"}]
[null,null,null,null,null,null,null,null,null,null,null,null,null,null,null,null,null,null,null,null,null,null,null,null,null,null,null,null,null,null,null,"Bowsing Down Tackle",0,{"$f":"C$14*0.1","v":0},0,0,{"$error":"#DIV/0!"},{"$error":"#DIV/0!"},null,null,"Outer Stunsail Halliards",0,{"$f":"'Running Calcs'!AX5","v":0},0,0,{"$error":"#DIV/0!"},{"$error":"#DIV/0!"}]
[null,null,null,null,null,null,null,null,null,null,null,null,null,null,null,null,null,null,null,null,null,null,null,null,null,null,null,null,null,null,null,"Loose Footed Stunsail Span & Guys",0,{"$f":"C$14*0.2","v":0},0,0,{"$error":"#DIV/0!"},{"$error":"#DIV/0!"},null,null,"Inner Stunsail Halliards",0,{"$f":"'Running Calcs'!AY5","v":0},0,0,{"$error":"#DIV/0!"},{"$error":"#DIV/0!"}]
[null,null,null,null,null,null,null,null,null,null,null,null,null,null,null,null,null,null,null,null,null,null,null,null,null,null,null,null,null,null,null,"Truss",{"$f":"AG12","v":0},0,0,0,{"$error":"#DIV/0!"},{"$error":"#DIV/0!"},null,null,"Swinging Boom Topping Lift & Guys",0,{"$f":"C$10*0.2","v":0},0,0,{"$error":"#DIV/0!"},{"$error":"#DIV/0!"}]
[null,null,null,null,null,null,null,null,null,null,null,null,null,null,null,null,null,null,null,null,null,null,null,null,null,null,null,null,null,null,null,null,null,null,null,null,null,null,null,null,"Bowsing Down Tackle",0,{"$f":"C$10*0.1","v":0},0,0,{"$error":"#DIV/0!"},{"$error":"#DIV/0!"}]
[null,null,null,null,null,null,null,null,null,null,null,null,null,null,null,null,null,null,null,null,null,null,null,null,null,null,null,null,null,null,null,null,null,null,null,null,null,null,null,null,"Loose Footed Stunsail Span & Guys",{"$f":"AQ58*(22/7)","v":0},{"$f":"C$10*0.2","v":0},{"$f":"AS58*(22/7)","v":0},{"$f":"AQ58*25.4","v":0},{"$error":"#DIV/0!"},{"$error":"#DIV/0!"}]
[null,null,null,null,null,null,null,null,null,null,null,null,null,null,null,null,null,null,null,null,null,null,null,null,null,null,null,null,null,null,null,null,null,null,null,null,null,null,null,null,"Truss",{"$f":"AP12","v":0},0,0,0,{"$error":"#DIV/0!"},{"$error":"#DIV/0!"}]

{"sheet":"Help","index":8,"n_rows":57,"n_cols":14,"rows_kept":57,"cut":false,"hidden":false,"merged":[[56,3,56,16],[15,3,15,16],[27,6,27,11],[29,3,29,16],[44,3,44,16],[33,3,33,16],[40,6,40,11],[42,3,42,16],[17,3,17,16],[46,3,46,16],[48,3,48,16],[1,4,1,12],[1,13,1,14],[5,3,5,16],[31,3,31,16],[7,3,7,16],[3,6,3,11],[9,3,9,16],[11,3,11,16],[13,3,13,16]]}
[]
[null,null,null,null," If you can't work out how to use the Program or you find an Error in it, send an Email to : ",null,null,null,null,null,null,null,null,"dannyvad@yahoo.com.au"]
[]
[null,null,null,null,null,null,"Introduction Page Help"]
[]
[null,null,"Screen Resolution (Optional)","This Program has been set up with a Screen Resolution of 1152 x 864 pixels - if you can't see all of the Intro page reset your Resolution to that setting for best Viewing. Go to your Desktop, right-click anywhere, select \"Properties\"/\"Settings\" and move the Slide Bar to 1152 x 864.     As an alternative, you can change the Screen Size for JUST THIS PROGRAM by selecting the \"Screen Resolution\" Button and following the instructions. This only needs to be done ONCE - the Size is Saved to the Program."]
[]
[null,null,"\"New Build\" Button","Use this Button to Save your Data into a Folder on your computer BEFORE you start entering any Information. By default, it will Clear any information already entered in a previous visit, to ensure there are blank cells in the Data Entry page. The \"Save As\" screen will appear - save the file into the same Folder that you use for any other Files relating to your Ship - e.g. \"C/Model Ships/HMS Fishwife\". Save this file to there, using the name \"HMS Fishwife Proportions\".      You can do all that from the \"Save As\" screen."]
[]
[null,null,"\"Scale\" Cell","The RED box in the Intro page MUST be filled in with the Scale you wish to build at. Failure to do so will result in an \"ERROR\" calculation. Only whole or Decimal numbers can be entered - e.g. 48 for 1/48 scale, 64 for \"3/16 inch to 1 foot\" or 31.2 for \"5/13 inch to 1 foot\" (a decimal will round off to a whole number, but still calculate properly). You can use the cell as a Calculator by entering =12/(3/16) which will equal 64. HINT : If you want to check the accuracy of a Kit or Plan, enter 1 in the Scale (i.e. 1:1) and use the measurements off your Kit or Plans to enter the Data for \"Breadth\", \"Depth\" etc. Any errors in the Mast Lengths, Yard Diameters, Rope Sizes etc can quickly be checked."]
[]
[null,null,"Inch or Metric        Data Entry             Buttons","Most Period Ship plans use Imperial (Foot/Inch) measurements. Most good Kits also have a Reference to the original Dimensions of the Ship in the same format. However some plans or Kits may have already been converted to Metric format, so the Program gives you the option of which format you will be ENTERING in the Data Entry page. DO NOT enter a \"mix\" of both formats - use one or the other - or your Results will be incorrect. If your Original Measurements are in Metric click on the GREEN box and select YES using the scroll bar.                                                                                                                                                                                                                                                                       You will get the option later of Viewing and/or Printing in either Format."]
[]
[null,null,"\"Save and Exit\" Buttons","When you have finished Entering, Viewing and/or Printing Data, use one of these Buttons to Exit the Program (they are on most Pages)."]
[]
[null,null,"\"HELP\" Buttons","These are on most Pages and have HELP specific to the page you select it from. There are other Buttons marked \"More…\" next to some items on various pages - they will give you more information about the particular item."]
[]
[null,null,"\"View Entered Data\" Button","Select this button if you have already entered your Data on a previous visit."]
[]
[]
[]
[]
[]
[]
[]
[]
[]
[null,null,null,null,null,null,"Data Entry Help"]
[]
[null,null,"Data Entry Precision","The Precision Settings in the Data Entry do not change when you select a different Viewing Format - you may type as many Decimal Places as you require, and the program will calculate Results from that entry even though they are not actually displayed. e.g. 28.12345678 will display as 28.12."]
[]
[null,null,"Research","For the Program to work properly you MUST know some basic details of the Ship you are building. Period Ships were built to various Proportions of certain aspects of the Hull. Many Building Periods will only require that you know the Breadth of the ship, but some others need more information - e.g. Depth of Hull. The RED cells in the Data Entry page MUST be filled in for the Period (and Rate/Guns if applicable) of your ship for the Program to calculate the correct results - if you miss a piece of information, the Program will give an \"ERROR\" result. If you select the WRONG Period, Rate or Number of Guns you will get the wrong Results. Make sure you select the right one.                           "]
[]
[null,null,"Entering Data","ONLY enter Data into the Row for the Period you require - entering Data into more than one Period will result in errors to the Results."]
[]
[]
[]
[]
[]
[]
[null,null,null,null,null,null,"View Page Help"]
[]
[null,null,"Results Precision","You are given the option of the degree of Precision you would like to View or Print the Results. There are three buttons on the View Page that allow you to set the level you require for your Results. The Default Precision is the middle one, and all Original Dimensions are set to this and cannot be changed (however the actual calculations use EXACT formulae). If you need more precise Scale measurements, change them with the lower button. If you find TOO PRECISE a measurement is distracting (e.g. for Rigging Lines), use the upper button.    The settings can be changed at any time by selecting a different option. There are also Precision buttons on each Results Page.                      Note that changing the Viewing Precision in no way alters the Data, you will still have it as you entered it.                                                              "]
[]
[null,null,"Viewing in \"Inch\" or \"Metric\"","Select the Format you will be using to build your model. You can also change from one to the other in the Results Pages if you wish.              The Rigging Pages use both Formats on the same page."]
[]
[null,null,"Viewing Results in the Rigging Pages","You can go straight to either the Standing or Running Rigging Pages by selecting the appropriate \"View All\" button. Once there you can scroll from one Mast or Yard to the next with the buttons on each Page.                                                                                                                        You can also go directly to a Specific Mast or Yard by selecting one of the \"Specific\" buttons - this will bring you to a new Menu with all the Masts and Yards listed."]
[]
[null,null,"Printing \"All\" Results in the Rigging Pages","If you want to Print ALL of either the Standing or Running Rigging you can do so with these two buttons. It is advised that you View your Results first to ensure you have the correct information.                                                                                                                                        Some ships do not have all the Yards and their associated Rigging - e.g. ships after 1790 no longer had a Mizzen Yard. For this reason you may not wish to Print all the pages. You can Print Selected Pages using the Print Data Button in each Page."]
[]
[]
[]
[]
[]
[]
[]
[null,null,"Lower Mast Length :","The Length for the Lower Masts is the total measurement from the Heel (attached to the top of the Keel) to the top of the Mast Head, NOT the measurement from the Deck to the Mast Head."]

{"sheet":"Pics","index":9,"n_rows":8,"n_cols":3,"rows_kept":8,"cut":false,"hidden":false,"merged":[]}
[]
[null,null,"Lower Mast measurement - from Keel to Mast Head"]
[]
[]
[]
[]
[]
[null,null,"You must Enter a Scale"]